Report for HTML-Mason-1.51

Back
From: metabase:user:314402c4-2aae-11df-837a-5e0a49663a4f
Subject: PASS HTML-Mason-1.51 v5.16.0 RC0 FreeBSD
Date: 2013-05-09T02:04:21Z

This distribution has been tested as part of the CPAN Testers
project, supporting the Perl programming language.  See
http://wiki.cpantesters.org/ for more information or email
questions to cpan-testers-discuss@perl.org


--
Dear Jonathan Swartz,

This is a computer-generated report for HTML-Mason-1.51
on perl 5.16.0, created by CPAN-Reporter-1.2006.

Thank you for uploading your work to CPAN.  Congratulations!
All tests were successful.

Sections of this report:

    * Tester comments
    * Program output
    * Prerequisites
    * Environment and other context

------------------------------
TESTER COMMENTS
------------------------------

Additional comments from tester:

none provided

------------------------------
PROGRAM OUTPUT
------------------------------

Output from '/usr/bin/make test':

PERL_DL_NONLAZY=1 /home2/cpansand/var/ctps/5160RC0/install/perl-5.16.0-RC0/bin/perl5.16.0 "-MExtUtils::Command::MM" "-e" "test_harness(0, 'blib/lib', 'blib/arch')" t/*.t t/author-live/*.t
t/01-syntax.t ............................. ok
t/01a-comp-calls.t ........................ ok
t/02-sections.t ........................... ok
t/02a-filter.t ............................ ok
t/04-misc.t ............................... ok
t/05-request.t ............................ ok
t/05a-stack-corruption.t .................. ok
t/06-compiler.t ........................... ok
t/06a-compiler_obj.t ...................... ok
t/06b-compiler-named-subs.t ............... ok
t/06c-compiler-spaces-path.t .............. ok
t/07-interp.t ............................. ok
t/07a-interp-mcr.t ........................ ok
t/07b-interp-static-source.t .............. ok
t/09-component.t .......................... ok
t/09a-comp_content.t ...................... ok
t/10-cache.t .............................. ok
t/10a-cache-1.0x.t ........................ ok
t/10b-cache-chi.t ......................... ok
t/11-inherit.t ............................ ok
t/12-taint.t .............................. ok
t/13-errors.t ............................. ok
t/14-cgi.t ................................ ok
t/14a-fake_apache.t ....................... ok
t/15-subclass.t ........................... ok
t/17-print.t .............................. ok
t/18-leak.t ............................... ok
t/19-subrequest.t ......................... ok
t/20-plugins.t ............................ ok
t/21-escapes.t ............................ ok
t/22-path-security.t ...................... ok
Unhandled type: REGEXP at /home/cpansand/var/ctps/5160RC0/install/perl-5.16.0-RC0/lib/site_perl/5.16.0/Devel/Cycle.pm line 107.
t/23-leak2.t .............................. ok
t/24-tools.t .............................. ok
t/25-flush-in-content.t ................... ok
t/25-log.t ................................ ok
t/99-pod.t ................................ ok
t/author-live/apache-filter.t ............. skipped: these tests are for testing by the author
t/author-live/cgi-no-handler.t ............ skipped: these tests are for testing by the author
t/author-live/cgi-with-handler.t .......... skipped: these tests are for testing by the author
t/author-live/CGIHandler.t ................ skipped: these tests are for testing by the author
t/author-live/libapreq-no-handler.t ....... skipped: these tests are for testing by the author
t/author-live/libapreq-with-handler.t ..... skipped: these tests are for testing by the author
t/author-live/multi-conf.t ................ skipped: these tests are for testing by the author
t/author-live/no-config.t ................. skipped: these tests are for testing by the author
t/author-live/set-content-type.t .......... skipped: these tests are for testing by the author
t/author-live/single-level-server-root.t .. skipped: these tests are for testing by the author
t/author-live/taint.t ..................... skipped: these tests are for testing by the author
All tests successful.
Files=47, Tests=572, 58 wallclock secs ( 0.24 usr  0.11 sys +  8.73 cusr  3.41 csys = 12.49 CPU)
Result: PASS

------------------------------
PREREQUISITES
------------------------------

Prerequisite modules loaded:

requires:

    Module              Need Have 
    ------------------- ---- -----
    Cache::Cache        1.00 1.06 
    CGI                 2.46 3.59 
    Class::Container    0.07 0.12 
    Exception::Class    1.15 1.32 
    File::Spec          0.8  3.40 
    HTML::Entities      0    3.69 
    Log::Any            0.08 0.14 
    Params::Validate    0.70 1.07 
    Scalar::Util        1.01 1.25 

build_requires:

    Module              Need Have 
    ------------------- ---- -----
    Test::Deep          0    0.110

configure_requires:

    Module              Need Have 
    ------------------- ---- -----
    ExtUtils::MakeMaker 6.30 6.64 


------------------------------
ENVIRONMENT AND OTHER CONTEXT
------------------------------

Environment variables:

    DBIC_NO_WARN_BAD_PERL = 1
    PATH = /usr/local/bin:/usr/X11R6/bin:/usr/X11/bin:/usr/perl5.8.0/bin:/usr/bin:/bin:/usr/local/sbin:/usr/sbin:/sbin:/usr/local/pilot/bin:/home/cpansand/bin/freebsd8.0:/home/cpansand/bin/sh:/home/cpansand/bin:/usr/X386/bin:/usr/games:/home/cpansand/devel:/usr/home/e/eserte/work/srezic-misc/scripts
    PERL5LIB = /usr/local/src/CPAN/build/IO-FDPass-1.0-uIyUJ0/blib/arch:/usr/local/src/CPAN/build/IO-FDPass-1.0-uIyUJ0/blib/lib:/usr/local/src/CPAN/build/AnyEvent-7.04-auYwJ5/blib/arch:/usr/local/src/CPAN/build/AnyEvent-7.04-auYwJ5/blib/lib:/usr/local/src/CPAN/build/Escape-Houdini-0.1_0-XD06he/blib/arch:/usr/local/src/CPAN/build/Escape-Houdini-0.1_0-XD06he/blib/lib:/usr/local/src/CPAN/build/Queue-DBI-2.5.1-Ey86DH/blib/arch:/usr/local/src/CPAN/build/Queue-DBI-2.5.1-Ey86DH/blib/lib:/usr/local/src/CPAN/build/Spellunker-v0.2.6-7qwsIf/blib/arch:/usr/local/src/CPAN/build/Spellunker-v0.2.6-7qwsIf/blib/lib:/usr/local/src/CPAN/build/HTML-TreeBuilder-LibXML-0.18-XmCCSD/blib/arch:/usr/local/src/CPAN/build/HTML-TreeBuilder-LibXML-0.18-XmCCSD/blib/lib
    PERL5OPT = 
    PERL5_CPANPLUS_IS_RUNNING = 54467
    PERL5_CPAN_IS_RUNNING = 54467
    PERL5_CPAN_IS_RUNNING_IN_RECURSION = 54441,54467
    PERL_BATCH = yes
    PERL_CPAN_REPORTER_CONFIG = /var/tmp/cpansmoker-1023/oBj9OU4Z5a_config.ini
    PERL_CPAN_REPORTER_DIR = /home/cpansand/var/ctps/5160RC0/config/perl-5.16.0-RC0/cpanreporter
    PERL_EXTUTILS_AUTOINSTALL = --defaultdeps
    PERL_HTML_DISPLAY_CLASS = HTML::Display::Mozilla
    SHELL = /usr/local/bin/zsh
    TERM = screen
    TMPDIR = /var/tmp/cpansmoker-1023

Perl special variables (and OS-specific diagnostics, for MSWin32):

    $^X = /home2/cpansand/var/ctps/5160RC0/install/perl-5.16.0-RC0/bin/perl5.16.0
    $UID/$EUID = 1023 / 1023
    $GID = 1023 1023
    $EGID = 1023 1023

Perl module toolchain versions installed:

    Module              Have    
    ------------------- --------
    CPAN                1.9800  
    CPAN::Meta          2.130880
    Cwd                 3.40    
    ExtUtils::CBuilder  0.280206
    ExtUtils::Command   1.17    
    ExtUtils::Install   1.58    
    ExtUtils::MakeMaker 6.64    
    ExtUtils::Manifest  1.61    
    ExtUtils::ParseXS   3.16    
    File::Spec          3.40    
    JSON                2.57    
    JSON::PP            2.27200 
    Module::Build       0.4004  
    Module::Signature   0.70    
    Parse::CPAN::Meta   1.4404  
    Test::Harness       3.23    
    Test::More          0.98    
    YAML                0.84    
    YAML::Syck          1.22    
    version             0.9901  


--

Summary of my perl5 (revision 5 version 16 subversion 0) configuration:
   
  Platform:
    osname=freebsd, osvers=8.0-release-p4, archname=i386-freebsd
    uname='freebsd biokovo.herceg.de 8.0-release-p4 freebsd 8.0-release-p4 #0: mon jul 12 20:22:27 utc 2010 root@i386-builder.daemonology.net:usrobjusrsrcsysgeneric i386 '
    config_args='-ds -e -Uversiononly -Dinstallusrbinperl=n -Dusedevel -Dprefix=/home/cpansand/var/ctps/5160RC0/install/perl-5.16.0-RC0'
    hint=recommended, useposix=true, d_sigaction=define
    useithreads=undef, usemultiplicity=undef
    useperlio=define, d_sfio=undef, uselargefiles=define, usesocks=undef
    use64bitint=undef, use64bitall=undef, uselongdouble=undef
    usemymalloc=n, bincompat5005=undef
  Compiler:
    cc='cc', ccflags ='-DHAS_FPSETMASK -DHAS_FLOATINGPOINT_H -fno-strict-aliasing -pipe -fstack-protector -I/usr/local/include',
    optimize='-O',
    cppflags='-DHAS_FPSETMASK -DHAS_FLOATINGPOINT_H -fno-strict-aliasing -pipe -fstack-protector -I/usr/local/include'
    ccversion='', gccversion='4.2.1 20070719  [FreeBSD]', gccosandvers=''
    intsize=4, longsize=4, ptrsize=4, doublesize=8, byteorder=1234
    d_longlong=define, longlongsize=8, d_longdbl=define, longdblsize=12
    ivtype='long', ivsize=4, nvtype='double', nvsize=8, Off_t='off_t', lseeksize=8
    alignbytes=4, prototype=define
  Linker and Libraries:
    ld='cc', ldflags ='-Wl,-E  -fstack-protector -L/usr/local/lib'
    libpth=/usr/lib /usr/local/lib
    libs=-lgdbm -lm -lcrypt -lutil -lc
    perllibs=-lm -lcrypt -lutil -lc
    libc=, so=so, useshrplib=false, libperl=libperl.a
    gnulibc_version=''
  Dynamic Linking:
    dlsrc=dl_dlopen.xs, dlext=so, d_dlsymun=undef, ccdlflags=' '
    cccdlflags='-DPIC -fPIC', lddlflags='-shared  -L/usr/local/lib -fstack-protector'


Characteristics of this binary (from libperl): 
  Compile-time options: HAS_TIMES PERLIO_LAYERS PERL_DONT_CREATE_GVSV
                        PERL_MALLOC_WRAP PERL_PRESERVE_IVUV PERL_USE_DEVEL
                        USE_LARGE_FILES USE_LOCALE USE_LOCALE_COLLATE
                        USE_LOCALE_CTYPE USE_LOCALE_NUMERIC USE_PERLIO
                        USE_PERL_ATOF
  Locally applied patches:
	RC0
  Built under freebsd
  Compiled at May 11 2012 21:05:05
  %ENV:
    PERL5LIB="/usr/local/src/CPAN/build/IO-FDPass-1.0-uIyUJ0/blib/arch:/usr/local/src/CPAN/build/IO-FDPass-1.0-uIyUJ0/blib/lib:/usr/local/src/CPAN/build/AnyEvent-7.04-auYwJ5/blib/arch:/usr/local/src/CPAN/build/AnyEvent-7.04-auYwJ5/blib/lib:/usr/local/src/CPAN/build/Escape-Houdini-0.1_0-XD06he/blib/arch:/usr/local/src/CPAN/build/Escape-Houdini-0.1_0-XD06he/blib/lib:/usr/local/src/CPAN/build/Queue-DBI-2.5.1-Ey86DH/blib/arch:/usr/local/src/CPAN/build/Queue-DBI-2.5.1-Ey86DH/blib/lib:/usr/local/src/CPAN/build/Spellunker-v0.2.6-7qwsIf/blib/arch:/usr/local/src/CPAN/build/Spellunker-v0.2.6-7qwsIf/blib/lib:/usr/local/src/CPAN/build/HTML-TreeBuilder-LibXML-0.18-XmCCSD/blib/arch:/usr/local/src/CPAN/build/HTML-TreeBuilder-LibXML-0.18-XmCCSD/blib/lib"
    PERL5OPT=""
    PERL5_CPANPLUS_IS_RUNNING="54467"
    PERL5_CPAN_IS_RUNNING="54467"
    PERL5_CPAN_IS_RUNNING_IN_RECURSION="54441,54467"
    PERL_BATCH="yes"
    PERL_CPAN_REPORTER_CONFIG="/var/tmp/cpansmoker-1023/oBj9OU4Z5a_config.ini"
    PERL_CPAN_REPORTER_DIR="/home/cpansand/var/ctps/5160RC0/config/perl-5.16.0-RC0/cpanreporter"
    PERL_EXTUTILS_AUTOINSTALL="--defaultdeps"
    PERL_HTML_DISPLAY_CLASS="HTML::Display::Mozilla"
  @INC:
    /usr/local/src/CPAN/build/IO-FDPass-1.0-uIyUJ0/blib/arch
    /usr/local/src/CPAN/build/IO-FDPass-1.0-uIyUJ0/blib/lib
    /usr/local/src/CPAN/build/AnyEvent-7.04-auYwJ5/blib/arch
    /usr/local/src/CPAN/build/AnyEvent-7.04-auYwJ5/blib/lib
    /usr/local/src/CPAN/build/Escape-Houdini-0.1_0-XD06he/blib/arch
    /usr/local/src/CPAN/build/Escape-Houdini-0.1_0-XD06he/blib/lib
    /usr/local/src/CPAN/build/Queue-DBI-2.5.1-Ey86DH/blib/arch
    /usr/local/src/CPAN/build/Queue-DBI-2.5.1-Ey86DH/blib/lib
    /usr/local/src/CPAN/build/Spellunker-v0.2.6-7qwsIf/blib/arch
    /usr/local/src/CPAN/build/Spellunker-v0.2.6-7qwsIf/blib/lib
    /usr/local/src/CPAN/build/HTML-TreeBuilder-LibXML-0.18-XmCCSD/blib/arch
    /usr/local/src/CPAN/build/HTML-TreeBuilder-LibXML-0.18-XmCCSD/blib/lib
    /home/cpansand/var/ctps/5160RC0/install/perl-5.16.0-RC0/lib/site_perl/5.16.0/i386-freebsd
    /home/cpansand/var/ctps/5160RC0/install/perl-5.16.0-RC0/lib/site_perl/5.16.0
    /home/cpansand/var/ctps/5160RC0/install/perl-5.16.0-RC0/lib/5.16.0/i386-freebsd
    /home/cpansand/var/ctps/5160RC0/install/perl-5.16.0-RC0/lib/5.16.0
    .