Text-Haml v0.990118 Perl 5 v5.38.0 x86_64-linux
- Status
- Pass
- From
- Michele Beltrame
- Dist
-
Text-Haml v0.990118
- Platform
- Perl 5 v5.38.0 x86_64-linux
- Date
- 2023-08-15 19:48:54
- ID
- c3ca849a-3ba4-11ee-8d73-e66fe62151ce
This distribution has been tested as part of the CPAN Testers
project, supporting the Perl programming language. See
http://wiki.cpantesters.org/ for more information or email
questions to cpan-testers-discuss@perl.org
--
Dear Viacheslav Tykhanovskyi,
This is a computer-generated report for Text-Haml-0.990118
on perl 5.38.0, created by CPAN-Reporter-1.2019.
Thank you for uploading your work to CPAN. Congratulations!
All tests were successful.
Sections of this report:
* Tester comments
* Program output
* Prerequisites
* Environment and other context
------------------------------
TESTER COMMENTS
------------------------------
Additional comments from tester:
none provided
------------------------------
PROGRAM OUTPUT
------------------------------
Output from './Build test':
t/class-and-id.t ............. ok
t/comments.t ................. ok
t/complete.t ................. ok
t/div.t ...................... ok
t/doctype.t .................. ok
t/escaping.t ................. ok
t/exception.t ................ ok
t/filters.t .................. ok
t/helpers.t .................. ok
t/html-attributes.t .......... ok
t/html-elements.t ............ ok
t/html-escaping.t ............ ok
t/html-unescaping.t .......... ok
t/interpolation.t ............ ok
t/multiline.t ................ ok
t/parse.t .................... ok
t/perl.t ..................... ok
t/plain.t .................... ok
t/pod.t ...................... skipped: set TEST_POD to enable this test
t/pod_coverage.t ............. skipped: set TEST_POD to enable this test
t/render_file.t .............. ok
t/self-closing.t ............. ok
t/unicode.t .................. ok
t/vars.t ..................... ok
t/whitespace-preservation.t .. skipped: Not yet implemented
t/whitespace-removal.t ....... skipped: Not yet implemented
All tests successful.
Files=26, Tests=153, 3 wallclock secs ( 0.11 usr 0.02 sys + 2.55 cusr 0.44 csys = 3.12 CPU)
Result: PASS
------------------------------
PREREQUISITES
------------------------------
Prerequisite modules loaded:
requires:
Module Need Have
--------------------- ----- -----
Carp 0 1.54
Data::Section::Simple 0 0.07
Encode 0 3.19
File::Basename 0 2.86
File::Spec 0 3.88
IO::File 0 1.52
Scalar::Util 0 1.63
URI::Escape 0 5.19
configure_requires:
Module Need Have
--------------------- ----- -----
Module::Build::Tiny 0.035 0.046
------------------------------
ENVIRONMENT AND OTHER CONTEXT
------------------------------
Environment variables:
LANG = it_IT.UTF-8
LC_ADDRESS = it_IT.UTF-8
LC_IDENTIFICATION = it_IT.UTF-8
LC_MEASUREMENT = it_IT.UTF-8
LC_MONETARY = it_IT.UTF-8
LC_NAME = it_IT.UTF-8
LC_NUMERIC = it_IT.UTF-8
LC_PAPER = it_IT.UTF-8
LC_TELEPHONE = it_IT.UTF-8
LC_TIME = it_IT.UTF-8
NONINTERACTIVE_TESTING = 1
PATH = /usr/local/perlbrew/perl5/bin:/usr/local/perlbrew/perl5/perls/perl-5.38.0/bin:/usr/local/sbin:/usr/local/bin:/usr/sbin:/usr/bin:/sbin:/bin:/opt/bin
PERL5LIB =
PERL5OPT =
PERL5_CPANPLUS_IS_RUNNING = 1880
PERL5_CPAN_IS_RUNNING = 1880
PERLBREW_HOME = /root/.perlbrew
PERLBREW_MANPATH = /usr/local/perlbrew/perl5/perls/perl-5.38.0/man
PERLBREW_PATH = /usr/local/perlbrew/perl5/bin:/usr/local/perlbrew/perl5/perls/perl-5.38.0/bin
PERLBREW_PERL = perl-5.38.0
PERLBREW_ROOT = /usr/local/perlbrew/perl5
PERLBREW_SHELLRC_VERSION = 0.96
PERLBREW_VERSION = 0.96
PERL_MM_USE_DEFAULT = 1
PERL_USE_UNSAFE_INC = 1
SHELL = /bin/bash
TERM = xterm-256color
Perl special variables (and OS-specific diagnostics, for MSWin32):
$^X = /usr/local/perlbrew/perl5/perls/perl-5.38.0/bin/perl
$UID/$EUID = 0 / 0
$GID = 0 0 1 2 3 4 6 10 11 26 27
$EGID = 0 0 1 2 3 4 6 10 11 26 27
Perl module toolchain versions installed:
Module Have
------------------- --------
CPAN 2.36
CPAN::Meta 2.150010
Cwd 3.89
ExtUtils::CBuilder 0.280238
ExtUtils::Command 7.70
ExtUtils::Install 2.22
ExtUtils::MakeMaker 7.70
ExtUtils::Manifest 1.73
ExtUtils::ParseXS 3.51
File::Spec 3.88
JSON 4.10
JSON::PP 4.16
Module::Build 0.4234
Module::Signature n/a
Parse::CPAN::Meta 2.150010
Test2 1.302194
Test::Harness 3.44
Test::More 1.302194
YAML 1.30
YAML::Syck n/a
version 0.9929
--
Summary of my perl5 (revision 5 version 38 subversion 0) configuration:
Platform:
osname=linux
osvers=6.2.9-x86_64-linode160
archname=x86_64-linux
uname='linux pallino 6.2.9-x86_64-linode160 #1 smp preempt_dynamic wed apr 5 15:30:32 edt 2023 x86_64 amd epyc 7501 32-core processor authenticamd gnulinux '
config_args='-de -Dprefix=/usr/local/perlbrew/perl5/perls/perl-5.38.0 -Aeval:scriptdir=/usr/local/perlbrew/perl5/perls/perl-5.38.0/bin'
hint=recommended
useposix=true
d_sigaction=define
useithreads=undef
usemultiplicity=undef
use64bitint=define
use64bitall=define
uselongdouble=undef
usemymalloc=n
default_inc_excludes_dot=define
Compiler:
cc='cc'
ccflags ='-fwrapv -fno-strict-aliasing -pipe -fstack-protector-strong -I/usr/local/include -D_LARGEFILE_SOURCE -D_FILE_OFFSET_BITS=64'
optimize='-O2'
cppflags='-fwrapv -fno-strict-aliasing -pipe -fstack-protector-strong -I/usr/local/include'
ccversion=''
gccversion='12.2.1 20230428'
gccosandvers=''
intsize=4
longsize=8
ptrsize=8
doublesize=8
byteorder=12345678
doublekind=3
d_longlong=define
longlongsize=8
d_longdbl=define
longdblsize=16
longdblkind=3
ivtype='long'
ivsize=8
nvtype='double'
nvsize=8
Off_t='off_t'
lseeksize=8
alignbytes=8
prototype=define
Linker and Libraries:
ld='cc'
ldflags =' -fstack-protector-strong -L/usr/local/lib'
libpth=/usr/local/lib /usr/lib /lib64 /usr/lib64 /lib /usr/local/lib64
libs=-lpthread -lgdbm -ldb -ldl -lm -lcrypt -lutil -lc -lgdbm_compat
perllibs=-lpthread -ldl -lm -lcrypt -lutil -lc
libc=/lib/../lib64/libc.so.6
so=so
useshrplib=false
libperl=libperl.a
gnulibc_version='2.37'
Dynamic Linking:
dlsrc=dl_dlopen.xs
dlext=so
d_dlsymun=undef
ccdlflags='-Wl,-E'
cccdlflags='-fPIC'
lddlflags='-shared -O2 -L/usr/local/lib -fstack-protector-strong'
Characteristics of this binary (from libperl):
Compile-time options:
HAS_LONG_DOUBLE
HAS_STRTOLD
HAS_TIMES
PERLIO_LAYERS
PERL_COPY_ON_WRITE
PERL_DONT_CREATE_GVSV
PERL_HASH_FUNC_SIPHASH13
PERL_HASH_USE_SBOX32
PERL_MALLOC_WRAP
PERL_OP_PARENT
PERL_PRESERVE_IVUV
PERL_USE_SAFE_PUTENV
USE_64_BIT_ALL
USE_64_BIT_INT
USE_LARGE_FILES
USE_LOCALE
USE_LOCALE_COLLATE
USE_LOCALE_CTYPE
USE_LOCALE_NUMERIC
USE_LOCALE_TIME
USE_PERLIO
USE_PERL_ATOF
Built under linux
Compiled at Aug 14 2023 16:59:06
%ENV:
PERL5LIB=""
PERL5OPT=""
PERL5_CPANPLUS_IS_RUNNING="1880"
PERL5_CPAN_IS_RUNNING="1880"
PERLBREW_HOME="/root/.perlbrew"
PERLBREW_MANPATH="/usr/local/perlbrew/perl5/perls/perl-5.38.0/man"
PERLBREW_PATH="/usr/local/perlbrew/perl5/bin:/usr/local/perlbrew/perl5/perls/perl-5.38.0/bin"
PERLBREW_PERL="perl-5.38.0"
PERLBREW_ROOT="/usr/local/perlbrew/perl5"
PERLBREW_SHELLRC_VERSION="0.96"
PERLBREW_VERSION="0.96"
PERL_MM_USE_DEFAULT="1"
PERL_USE_UNSAFE_INC="1"
@INC:
/usr/local/perlbrew/perl5/perls/perl-5.38.0/lib/site_perl/5.38.0/x86_64-linux
/usr/local/perlbrew/perl5/perls/perl-5.38.0/lib/site_perl/5.38.0
/usr/local/perlbrew/perl5/perls/perl-5.38.0/lib/5.38.0/x86_64-linux
/usr/local/perlbrew/perl5/perls/perl-5.38.0/lib/5.38.0
.