App-Dochazka-CLI v0.240 Perl 5 v5.33.1 x86_64-linux

Status
Pass
From
Andreas J. König (ANDK)
Dist
App-Dochazka-CLI v0.240
Platform
Perl 5 v5.33.1 x86_64-linux
Date
2020-08-25 07:58:30
ID
c3cbd24a-e6a8-11ea-a1cd-9e687409a2bb
This distribution has been tested as part of the CPAN Testers
project, supporting the Perl programming language.  See
http://wiki.cpantesters.org/ for more information or email
questions to cpan-testers-discuss@perl.org


--
Dear Nathan Cutler,

This is a computer-generated report for App-Dochazka-CLI-0.240
on perl 5.33.1, created by CPAN-Reporter-1.2018.

Thank you for uploading your work to CPAN.  Congratulations!
All tests were successful.

Sections of this report:

    * Tester comments
    * Program output
    * Prerequisites
    * Environment and other context

------------------------------
TESTER COMMENTS
------------------------------

Additional comments from tester:

this report is from an automated smoke testing program
and was not reviewed by a human for accuracy

------------------------------
PROGRAM OUTPUT
------------------------------

Output from './Build test':

t/001-init.t ................. skipped: Can't connect to server
t/cmd_active/activity.t ...... skipped: Can't connect to server
t/cmd_active/employee.t ...... skipped: Can't connect to server
t/cmd_active/interval.t ...... skipped: Can't connect to server
t/cmd_admin/activity.t ....... skipped: Can't connect to server
t/cmd_admin/employee-utf8.t .. skipped: Can't connect to server
t/cmd_admin/employee.t ....... skipped: Can't connect to server
t/cmd_admin/history.t ........ skipped: Can't connect to server
t/cmd_inactive/activity.t .... skipped: Can't connect to server
t/cmd_inactive/employee.t .... skipped: Can't connect to server
t/cmd_passerby/activity.t .... skipped: Can't connect to server
t/cmd_passerby/employee.t .... skipped: Can't connect to server
t/cmd_passerby/schedule.t .... skipped: Can't connect to server
t/parser/completion.t ........ ok
t/parser/parse_test.t ........ ok
t/parser/possible_words.t .... ok
t/parser/rest_test.t ......... ok
t/parser/semantic_tree.t ..... ok
t/util/auth.t ................ skipped: Can't connect to server
t/util/datelist.t ............ ok
t/util/determine_employee.t .. skipped: Can't connect to server
t/util/truncate.t ............ ok
t/util/ts.t .................. ok
All tests successful.
Files=23, Tests=1831,  7 wallclock secs ( 0.11 usr  0.19 sys +  5.21 cusr  1.40 csys =  6.91 CPU)
Result: PASS

------------------------------
PREREQUISITES
------------------------------

Prerequisite modules loaded:

requires:

    Module                Need  Have    
    --------------------- ----- --------
    App::CELL             0.209 0.229   
    App::Dochazka::Common 0.199 0.209   
    Date::Calc            0     6.4     
    File::HomeDir         0     1.004   
    File::ShareDir        1.00  1.116   
    File::Slurp           0     9999.32 
    File::Temp            0     0.2309  
    Getopt::Long          2.32  2.51    
    HTTP::Cookies         0     6.08    
    HTTP::Request         0     6.25    
    JSON                  0     4.02    
    LWP::UserAgent        0     6.47    
    Params::Validate      1.06  1.29    
    perl                  5.012 5.033001
    Term::ReadKey         0     2.38    
    Term::ReadLine::Gnu   0     1.36    
    Text::Table           0     1.134   
    Web::MREST::CLI       0.281 0.283   

build_requires:

    Module                Need  Have    
    --------------------- ----- --------
    App::CELL             0.209 0.229   
    App::Dochazka::Common 0.199 0.209   
    Date::Calc            0     6.4     
    Params::Validate      1.06  1.29    
    Test::Deep            0     1.130   
    Test::Fatal           0     0.016   
    Test::Warnings        0     0.030   
    Web::MREST::CLI       0.28  0.283   

configure_requires:

    Module                Need  Have    
    --------------------- ----- --------
    Module::Build         0.37  0.4231  
    Software::License     0     0.103014


------------------------------
ENVIRONMENT AND OTHER CONTEXT
------------------------------

Environment variables:

    AUTOMATED_TESTING = 1
    LANG = en_US.utf8
    PATH = /home/sand/bin:/usr/local/bin:/usr/local/sbin:/usr/sbin:/usr/bin:/sbin:/bin:/usr/games:/usr/local/games:/usr/local/perl/bin:/usr/X11/bin
    PERL = /tmp/basesmoker-reloperl-F1PL/bin/perl
    PERL5LIB = /tmp/loop_over_bdir-4175-jsDdE1/App-nrun-v1.1.2-0/blib/arch:/tmp/loop_over_bdir-4175-jsDdE1/App-nrun-v1.1.2-0/blib/lib:/tmp/loop_over_bdir-4175-jsDdE1/Lingua-YaTeA-0.626-0/blib/arch:/tmp/loop_over_bdir-4175-jsDdE1/Lingua-YaTeA-0.626-0/blib/lib:/tmp/loop_over_bdir-4175-jsDdE1/EJBCA-CrlPublish-0.60-0/blib/arch:/tmp/loop_over_bdir-4175-jsDdE1/EJBCA-CrlPublish-0.60-0/blib/lib:/tmp/loop_over_bdir-4175-jsDdE1/CGI-Application-NetNewsIface-0.0204-0/blib/arch:/tmp/loop_over_bdir-4175-jsDdE1/CGI-Application-NetNewsIface-0.0204-0/blib/lib:/tmp/loop_over_bdir-4175-jsDdE1/Dpkg-1.20.5-0/blib/arch:/tmp/loop_over_bdir-4175-jsDdE1/Dpkg-1.20.5-0/blib/lib:/tmp/loop_over_bdir-4175-jsDdE1/DBIx-Migration-Directories-0.12-0/blib/arch:/tmp/loop_over_bdir-4175-jsDdE1/DBIx-Migration-Directories-0.12-0/blib/lib:/tmp/loop_over_bdir-4175-jsDdE1/Net-OpenVPN-DDNS-0.1-0/blib/arch:/tmp/loop_over_bdir-4175-jsDdE1/Net-OpenVPN-DDNS-0.1-0/blib/lib
    PERL5OPT = 
    PERL5_CPANPLUS_IS_RUNNING = 4183
    PERL5_CPAN_IS_RUNNING = 4183
    PERL_CANARY_STABILITY_NOPROMPT = 1
    PERL_MM_USE_DEFAULT = 1
    PERL_USE_UNSAFE_INC = 1
    SHELL = /usr/bin/zsh
    TERM = screen

Perl special variables (and OS-specific diagnostics, for MSWin32):

    $^X = /tmp/basesmoker-reloperl-F1PL/bin/perl
    $UID/$EUID = 1005 / 1005
    $GID = 1005 1005
    $EGID = 1005 1005

Perl module toolchain versions installed:

    Module              Have    
    ------------------- --------
    CPAN                2.28    
    CPAN::Meta          2.150010
    Cwd                 3.78    
    ExtUtils::CBuilder  0.280234
    ExtUtils::Command   7.46    
    ExtUtils::Install   2.14    
    ExtUtils::MakeMaker 7.46    
    ExtUtils::Manifest  1.72    
    ExtUtils::ParseXS   3.41    
    File::Spec          3.78    
    JSON                4.02    
    JSON::PP            4.05    
    Module::Build       0.4231  
    Module::Signature   0.87    
    Parse::CPAN::Meta   2.150010
    Test::Harness       3.42    
    Test::More          1.302177
    YAML                1.30    
    YAML::Syck          1.32    
    version             0.9927  


--

Summary of my perl5 (revision 5 version 33 subversion 1) configuration:
  Commit id: b69b5077393db9b8ffa440eba15b27073cbac617
  Platform:
    osname=linux
    osvers=4.15.0-112-generic
    archname=x86_64-linux
    uname='linux k93bionic 4.15.0-112-generic #113-ubuntu smp thu jul 9 23:41:39 utc 2020 x86_64 x86_64 x86_64 gnulinux '
    config_args='-Dprefix=/home/sand/src/perl/repoperls/installed-perls/host/k93bionic/v5.33.1/2aaf -Dmyhostname=k93bionic -Dinstallusrbinperl=n -Uversiononly -Dusedevel -des -Ui_db -Dlibswanted=cl pthread socket inet nsl gdbm dbm malloc dl ld sun m crypt sec util c cposix posix ucb BSD gdbm_compat -Uuseithreads -Uuselongdouble -DEBUGGING=-g'
    hint=recommended
    useposix=true
    d_sigaction=define
    useithreads=undef
    usemultiplicity=undef
    use64bitint=define
    use64bitall=define
    uselongdouble=undef
    usemymalloc=n
    default_inc_excludes_dot=define
  Compiler:
    cc='cc'
    ccflags ='-fwrapv -fno-strict-aliasing -pipe -fstack-protector-strong -I/usr/local/include -D_LARGEFILE_SOURCE -D_FILE_OFFSET_BITS=64'
    optimize='-O2 -g'
    cppflags='-fwrapv -fno-strict-aliasing -pipe -fstack-protector-strong -I/usr/local/include'
    ccversion=''
    gccversion='7.5.0'
    gccosandvers=''
    intsize=4
    longsize=8
    ptrsize=8
    doublesize=8
    byteorder=12345678
    doublekind=3
    d_longlong=define
    longlongsize=8
    d_longdbl=define
    longdblsize=16
    longdblkind=3
    ivtype='long'
    ivsize=8
    nvtype='double'
    nvsize=8
    Off_t='off_t'
    lseeksize=8
    alignbytes=8
    prototype=define
  Linker and Libraries:
    ld='cc'
    ldflags =' -fstack-protector-strong -L/usr/local/lib'
    libpth=/usr/local/lib /usr/lib/gcc/x86_64-linux-gnu/7/include-fixed /usr/include/x86_64-linux-gnu /usr/lib /lib/x86_64-linux-gnu /lib/../lib /usr/lib/x86_64-linux-gnu /usr/lib/../lib /lib
    libs=-lpthread -lnsl -ldl -lm -lcrypt -lutil -lc
    perllibs=-lpthread -lnsl -ldl -lm -lcrypt -lutil -lc
    libc=libc-2.27.so
    so=so
    useshrplib=false
    libperl=libperl.a
    gnulibc_version='2.27'
  Dynamic Linking:
    dlsrc=dl_dlopen.xs
    dlext=so
    d_dlsymun=undef
    ccdlflags='-Wl,-E'
    cccdlflags='-fPIC'
    lddlflags='-shared -O2 -g -L/usr/local/lib -fstack-protector-strong'


Characteristics of this binary (from libperl): 
  Compile-time options:
    HAS_TIMES
    PERLIO_LAYERS
    PERL_COPY_ON_WRITE
    PERL_DONT_CREATE_GVSV
    PERL_MALLOC_WRAP
    PERL_OP_PARENT
    PERL_PRESERVE_IVUV
    PERL_USE_DEVEL
    USE_64_BIT_ALL
    USE_64_BIT_INT
    USE_LARGE_FILES
    USE_LOCALE
    USE_LOCALE_COLLATE
    USE_LOCALE_CTYPE
    USE_LOCALE_NUMERIC
    USE_LOCALE_TIME
    USE_PERLIO
    USE_PERL_ATOF
  Built under linux
  Compiled at Aug 21 2020 20:10:37
  %ENV:
    PERL="/tmp/basesmoker-reloperl-F1PL/bin/perl"
    PERL5LIB="/tmp/loop_over_bdir-4175-jsDdE1/App-nrun-v1.1.2-0/blib/arch:/tmp/loop_over_bdir-4175-jsDdE1/App-nrun-v1.1.2-0/blib/lib:/tmp/loop_over_bdir-4175-jsDdE1/Lingua-YaTeA-0.626-0/blib/arch:/tmp/loop_over_bdir-4175-jsDdE1/Lingua-YaTeA-0.626-0/blib/lib:/tmp/loop_over_bdir-4175-jsDdE1/EJBCA-CrlPublish-0.60-0/blib/arch:/tmp/loop_over_bdir-4175-jsDdE1/EJBCA-CrlPublish-0.60-0/blib/lib:/tmp/loop_over_bdir-4175-jsDdE1/CGI-Application-NetNewsIface-0.0204-0/blib/arch:/tmp/loop_over_bdir-4175-jsDdE1/CGI-Application-NetNewsIface-0.0204-0/blib/lib:/tmp/loop_over_bdir-4175-jsDdE1/Dpkg-1.20.5-0/blib/arch:/tmp/loop_over_bdir-4175-jsDdE1/Dpkg-1.20.5-0/blib/lib:/tmp/loop_over_bdir-4175-jsDdE1/DBIx-Migration-Directories-0.12-0/blib/arch:/tmp/loop_over_bdir-4175-jsDdE1/DBIx-Migration-Directories-0.12-0/blib/lib:/tmp/loop_over_bdir-4175-jsDdE1/Net-OpenVPN-DDNS-0.1-0/blib/arch:/tmp/loop_over_bdir-4175-jsDdE1/Net-OpenVPN-DDNS-0.1-0/blib/lib"
    PERL5OPT=""
    PERL5_CPANPLUS_IS_RUNNING="4183"
    PERL5_CPAN_IS_RUNNING="4183"
    PERL_CANARY_STABILITY_NOPROMPT="1"
    PERL_MM_USE_DEFAULT="1"
    PERL_USE_UNSAFE_INC="1"
  @INC:
    /tmp/loop_over_bdir-4175-jsDdE1/App-nrun-v1.1.2-0/blib/arch
    /tmp/loop_over_bdir-4175-jsDdE1/App-nrun-v1.1.2-0/blib/lib
    /tmp/loop_over_bdir-4175-jsDdE1/Lingua-YaTeA-0.626-0/blib/arch
    /tmp/loop_over_bdir-4175-jsDdE1/Lingua-YaTeA-0.626-0/blib/lib
    /tmp/loop_over_bdir-4175-jsDdE1/EJBCA-CrlPublish-0.60-0/blib/arch
    /tmp/loop_over_bdir-4175-jsDdE1/EJBCA-CrlPublish-0.60-0/blib/lib
    /tmp/loop_over_bdir-4175-jsDdE1/CGI-Application-NetNewsIface-0.0204-0/blib/arch
    /tmp/loop_over_bdir-4175-jsDdE1/CGI-Application-NetNewsIface-0.0204-0/blib/lib
    /tmp/loop_over_bdir-4175-jsDdE1/Dpkg-1.20.5-0/blib/arch
    /tmp/loop_over_bdir-4175-jsDdE1/Dpkg-1.20.5-0/blib/lib
    /tmp/loop_over_bdir-4175-jsDdE1/DBIx-Migration-Directories-0.12-0/blib/arch
    /tmp/loop_over_bdir-4175-jsDdE1/DBIx-Migration-Directories-0.12-0/blib/lib
    /tmp/loop_over_bdir-4175-jsDdE1/Net-OpenVPN-DDNS-0.1-0/blib/arch
    /tmp/loop_over_bdir-4175-jsDdE1/Net-OpenVPN-DDNS-0.1-0/blib/lib
    /home/sand/src/perl/repoperls/installed-perls/host/k93bionic/v5.33.1/2aaf/lib/site_perl/5.33.1/x86_64-linux
    /home/sand/src/perl/repoperls/installed-perls/host/k93bionic/v5.33.1/2aaf/lib/site_perl/5.33.1
    /home/sand/src/perl/repoperls/installed-perls/host/k93bionic/v5.33.1/2aaf/lib/5.33.1/x86_64-linux
    /home/sand/src/perl/repoperls/installed-perls/host/k93bionic/v5.33.1/2aaf/lib/5.33.1
    .