Report for DateTime-Format-XMLTV-1.001

Back
From: metabase:user:320bfe00-2aae-11df-837a-5e0a49663a4f
Subject: PASS DateTime-Format-XMLTV-1.001 v5.20.3 GNU/Linux
Date: 2017-08-11T13:27:04Z

This distribution has been tested as part of the CPAN Testers
project, supporting the Perl programming language.  See
http://wiki.cpantesters.org/ for more information or email
questions to cpan-testers-discuss@perl.org


--
Dear Christopher J. Madsen,

This is a computer-generated report for DateTime-Format-XMLTV-1.001
on perl 5.20.3, created by CPAN-Reporter-1.2018.

Thank you for uploading your work to CPAN.  Congratulations!
All tests were successful.

Sections of this report:

    * Tester comments
    * Program output
    * Prerequisites
    * Environment and other context

------------------------------
TESTER COMMENTS
------------------------------

Additional comments from tester:

this report is from an automated smoke testing program
and was not reviewed by a human for accuracy

------------------------------
PROGRAM OUTPUT
------------------------------

Output from '/usr/bin/make test':

PERL_DL_NONLAZY=1 "/home/sand/src/perl/repoperls/installed-perls/host/k93msid/v5.20.3/5ea4/bin/perl" "-MExtUtils::Command::MM" "-MTest::Harness" "-e" "undef *Test::Harness::Switches; test_harness(0, 'blib/lib', 'blib/arch')" t/*.t
# Listing %INC
#                                                           AutoLoader 5.74
#                                                                    B 1.48
#                                                 B::Hooks::EndOfScope 0.21
#                                             B::Hooks::EndOfScope::XS 0.21
#                                                                 Carp 1.38
#                                             Class::Data::Inheritable 0.08
#                                                 Class::Factory::Util 1.7
#                                                     Class::Inspector 1.31
#                                                     Class::Singleton 1.5
#                                                               Config 5.020003
#                                                             DateTime 1.43
#                                                   DateTime::Duration 1.43
#                                            DateTime::Format::Builder 0.81
#                                    DateTime::Format::Builder::Parser 0.81
#                          DateTime::Format::Builder::Parser::Dispatch 0.81
#                             DateTime::Format::Builder::Parser::Quick 0.81
#                             DateTime::Format::Builder::Parser::Regex 0.81
#                          DateTime::Format::Builder::Parser::Strptime 0.81
#                           DateTime::Format::Builder::Parser::generic 0.81
#                                           DateTime::Format::Strptime 1.74
#                                    DateTime::Format::Strptime::Types 1.74
#                                                    DateTime::Helpers 1.43
#                                                   DateTime::Infinite 1.43
#                                                     DateTime::Locale 1.16
#                                               DateTime::Locale::Base 1.16
#                                               DateTime::Locale::Data 1.16
#                                           DateTime::Locale::FromData 1.16
#                                               DateTime::Locale::Util 1.16
#                                                   DateTime::TimeZone 2.13
#                                          DateTime::TimeZone::Catalog 2.13
#                                         DateTime::TimeZone::Floating 2.13
#                                            DateTime::TimeZone::Local 2.13
#                                       DateTime::TimeZone::OffsetOnly 2.13
#                                  DateTime::TimeZone::OlsonDB::Change 2.13
#                                              DateTime::TimeZone::UTC 2.13
#                                                      DateTime::Types 1.43
#                                                    Devel::StackTrace 2.02
#                                             Devel::StackTrace::Frame 2.02
#                                                           DynaLoader 1.25
#                                                        Eval::Closure 0.14
#                                                     Exception::Class 1.42
#                                               Exception::Class::Base 1.42
#                                                             Exporter 5.72
#                                                      Exporter::Heavy 5.72
#                                                                Fcntl 1.11
#                                                       File::ShareDir 1.104
#                                                           File::Spec 3.62
#                                                     File::Spec::Unix 3.62
#                                                           List::Util 1.48
#                                                           Log::Agent 1.001
#                                               Log::Agent::Formatting undef
#                                                  Log::Agent::Message undef
#                                               Log::Agent::Priorities undef
#                                                          MRO::Compat 0.13
#                                               Module::Implementation 0.09
#                                                      Module::Runtime 0.014
#                                                                POSIX 1.38_03
#                                          Package::DeprecationManager 0.17
#                                                       Package::Stash 0.37
#                                                   Package::Stash::XS 0.28
#                                                         Params::Util 1.07
#                                                     Params::Validate 1.29
#                                          Params::Validate::Constants 1.29
#                                                 Params::Validate::XS 1.29
#                                           Params::ValidationCompiler 0.24
#                                 Params::ValidationCompiler::Compiler 0.24
#                  Params::ValidationCompiler::Exception::BadArguments 1.1
#                  Params::ValidationCompiler::Exception::Named::Extra 1.1
#               Params::ValidationCompiler::Exception::Named::Required 1.1
#             Params::ValidationCompiler::Exception::Positional::Extra 1.1
#          Params::ValidationCompiler::Exception::Positional::Required 1.1
# Params::ValidationCompiler::Exception::ValidationFailedForMooseTypeConstraint 1.1
#                               Params::ValidationCompiler::Exceptions 0.24
#                                                            Ref::Util 0.203
#                                                        Ref::Util::XS 0.116
#                                                           Role::Tiny 2.000005
#                                                     Role::Tiny::With 2.000005
#                                                         Scalar::Util 1.48
#                                                               Specio 0.40
#                                                     Specio::Coercion 0.40
#                                           Specio::Constraint::AnyCan 0.40
#                                             Specio::Constraint::Enum 0.40
#                                        Specio::Constraint::ObjectCan 0.40
#                                        Specio::Constraint::ObjectIsa 0.40
#                                  Specio::Constraint::Parameterizable 0.40
#                                    Specio::Constraint::Parameterized 0.40
#                                    Specio::Constraint::Role::CanType 0.40
#                                  Specio::Constraint::Role::Interface 0.40
#                                    Specio::Constraint::Role::IsaType 0.40
#                                           Specio::Constraint::Simple 0.40
#                                            Specio::Constraint::Union 0.40
#                                                      Specio::Declare 0.40
#                                                   Specio::DeclaredAt 0.40
#                                                    Specio::Exception 0.40
#                                                     Specio::Exporter 0.40
#                                                      Specio::Helpers 0.40
#                                            Specio::Library::Builtins 0.40
#                                             Specio::Library::Numeric 0.40
#                                              Specio::Library::String 0.40
#                                                           Specio::OO 0.40
#                                                  Specio::PartialDump 0.40
#                                                     Specio::Registry 0.40
#                                              Specio::Role::Inlinable 0.40
#                                                   Specio::TypeChecks 0.40
#                                                             Storable 2.51
#                                           Sub::Exporter::Progressive 0.001013
#                                                        Sub::Identify 0.14
#                                                         Sub::Install 0.928
#                                                            Sub::Name 0.21
#                                                            Sub::Util 1.48
#                                                            Tie::Hash 1.05
#                                                            Try::Tiny 0.28
#                                                      Variable::Magic 0.61
#                                                             XSLoader 0.24
#                                                                 base 2.22
#                                                             constant 1.33
#                                                              integer 1.01
#                                                                  mro 1.16
#                                                 namespace::autoclean 0.28
#                                                     namespace::clean 0.27
#                                              namespace::clean::_Util undef
#                                                             overload 1.22
#                                                          overloading 0.02
#                                                               parent 0.236
#                                                                   re 0.26
#                                                               strict 1.08
#                                                                 utf8 1.13_01
#                                                                 vars 1.03
#                                                             warnings 1.23
#                                                   warnings::register 1.03
t/00-all_prereqs.t .. ok
# Testing DateTime::Format::XMLTV 1.001
t/00-load.t ......... ok
t/10-parse.t ........ ok
t/20-format.t ....... ok
All tests successful.
Files=4, Tests=61,  6 wallclock secs ( 0.03 usr  0.03 sys +  1.12 cusr  0.21 csys =  1.39 CPU)
Result: PASS

------------------------------
PREREQUISITES
------------------------------

Prerequisite modules loaded:

requires:

    Module                    Need Have    
    ------------------------- ---- --------
    DateTime::Format::Builder 0.80 0.81    

build_requires:

    Module                    Need Have    
    ------------------------- ---- --------
    Test::More                0.88 1.302091

configure_requires:

    Module                    Need Have    
    ------------------------- ---- --------
    ExtUtils::MakeMaker       6.30 7.31_01 


------------------------------
ENVIRONMENT AND OTHER CONTEXT
------------------------------

Environment variables:

    AUTOMATED_TESTING = 1
    LANG = en_US.UTF-8
    PATH = /home/sand/bin:/usr/local/bin:/usr/bin:/bin:/usr/games:/usr/local/perl/bin:/usr/X11/bin:/sbin:/usr/sbin
    PERL5LIB = 
    PERL5OPT = 
    PERL5_CPANPLUS_IS_RUNNING = 21807
    PERL5_CPAN_IS_RUNNING = 21807
    PERL_CANARY_STABILITY_NOPROMPT = 1
    PERL_MM_USE_DEFAULT = 1
    PERL_USE_UNSAFE_INC = 1
    SHELL = /usr/bin/zsh
    TERM = screen

Perl special variables (and OS-specific diagnostics, for MSWin32):

    $^X = /home/sand/src/perl/repoperls/installed-perls/host/k93msid/v5.20.3/5ea4/bin/perl
    $UID/$EUID = 1005 / 1005
    $GID = 1005 1005
    $EGID = 1005 1005

Perl module toolchain versions installed:

    Module              Have    
    ------------------- --------
    CPAN                2.18    
    CPAN::Meta          2.150010
    Cwd                 3.62    
    ExtUtils::CBuilder  0.280224
    ExtUtils::Command   7.31_01 
    ExtUtils::Install   2.12    
    ExtUtils::MakeMaker 7.31_01 
    ExtUtils::Manifest  1.70    
    ExtUtils::ParseXS   3.35    
    File::Spec          3.62    
    JSON                2.94    
    JSON::PP            2.92    
    Module::Build       0.4222  
    Module::Signature   0.81    
    Parse::CPAN::Meta   1.4422  
    Test::Harness       3.40_01 
    Test::More          1.302091
    YAML                1.23_001
    YAML::Syck          1.30    
    version             0.9918  


--

Summary of my perl5 (revision 5 version 20 subversion 3) configuration:
  Derived from: b67331aafd6eff33e3fd904c45e811f69cbfb0b2
  Platform:
    osname=linux, osvers=4.9.0-2-amd64, archname=x86_64-linux-thread-multi-ld
    uname='linux k93msid 4.9.0-2-amd64 #1 smp debian 4.9.18-1 (2017-03-30) x86_64 gnulinux '
    config_args='-Dprefix=/home/sand/src/perl/repoperls/installed-perls/host/k93msid/v5.20.3/5ea4 -Dmyhostname=k93msid -Dinstallusrbinperl=n -Uversiononly -Dusedevel -des -Ui_db -Dlibswanted=cl pthread socket inet nsl gdbm dbm malloc dl ld sun m crypt sec util c cposix posix ucb BSD gdbm_compat -Duseithreads -Duselongdouble -DDEBUGGING=-g'
    hint=recommended, useposix=true, d_sigaction=define
    useithreads=define, usemultiplicity=define
    use64bitint=define, use64bitall=define, uselongdouble=define
    usemymalloc=n, bincompat5005=undef
  Compiler:
    cc='cc', ccflags ='-D_REENTRANT -D_GNU_SOURCE -fwrapv -fno-strict-aliasing -pipe -fstack-protector -I/usr/local/include -D_LARGEFILE_SOURCE -D_FILE_OFFSET_BITS=64',
    optimize='-O2 -g',
    cppflags='-D_REENTRANT -D_GNU_SOURCE -fwrapv -fno-strict-aliasing -pipe -fstack-protector -I/usr/local/include'
    ccversion='', gccversion='6.3.0 20170406', gccosandvers=''
    intsize=4, longsize=8, ptrsize=8, doublesize=8, byteorder=12345678
    d_longlong=define, longlongsize=8, d_longdbl=define, longdblsize=16
    ivtype='long', ivsize=8, nvtype='long double', nvsize=16, Off_t='off_t', lseeksize=8
    alignbytes=16, prototype=define
  Linker and Libraries:
    ld='cc', ldflags =' -fstack-protector -L/usr/local/lib'
    libpth=/usr/local/lib /usr/lib/gcc/x86_64-linux-gnu/6/include-fixed /usr/include/x86_64-linux-gnu /usr/lib /lib/x86_64-linux-gnu /lib/../lib /usr/lib/x86_64-linux-gnu /usr/lib/../lib /lib
    libs=-lpthread -lnsl -ldl -lm -lcrypt -lutil -lc
    perllibs=-lpthread -lnsl -ldl -lm -lcrypt -lutil -lc
    libc=libc-2.24.so, so=so, useshrplib=false, libperl=libperl.a
    gnulibc_version='2.24'
  Dynamic Linking:
    dlsrc=dl_dlopen.xs, dlext=so, d_dlsymun=undef, ccdlflags='-Wl,-E'
    cccdlflags='-fPIC', lddlflags='-shared -O2 -g -L/usr/local/lib -fstack-protector'


Characteristics of this binary (from libperl): 
  Compile-time options: HAS_TIMES MULTIPLICITY PERLIO_LAYERS
                        PERL_DONT_CREATE_GVSV
                        PERL_HASH_FUNC_ONE_AT_A_TIME_HARD
                        PERL_IMPLICIT_CONTEXT PERL_MALLOC_WRAP
                        PERL_NEW_COPY_ON_WRITE PERL_PRESERVE_IVUV
                        PERL_USE_DEVEL USE_64_BIT_ALL USE_64_BIT_INT
                        USE_ITHREADS USE_LARGE_FILES USE_LOCALE
                        USE_LOCALE_COLLATE USE_LOCALE_CTYPE
                        USE_LOCALE_NUMERIC USE_LONG_DOUBLE USE_PERLIO
                        USE_PERL_ATOF USE_REENTRANT_API
  Locally applied patches:
	uncommitted-changes
  Built under linux
  Compiled at Apr 14 2017 12:03:27
  %ENV:
    PERL5LIB=""
    PERL5OPT=""
    PERL5_CPANPLUS_IS_RUNNING="21807"
    PERL5_CPAN_IS_RUNNING="21807"
    PERL_CANARY_STABILITY_NOPROMPT="1"
    PERL_MM_USE_DEFAULT="1"
    PERL_USE_UNSAFE_INC="1"
  @INC:
    /home/sand/src/perl/repoperls/installed-perls/host/k93msid/v5.20.3/5ea4/lib/site_perl/5.20.3/x86_64-linux-thread-multi-ld
    /home/sand/src/perl/repoperls/installed-perls/host/k93msid/v5.20.3/5ea4/lib/site_perl/5.20.3
    /home/sand/src/perl/repoperls/installed-perls/host/k93msid/v5.20.3/5ea4/lib/5.20.3/x86_64-linux-thread-multi-ld
    /home/sand/src/perl/repoperls/installed-perls/host/k93msid/v5.20.3/5ea4/lib/5.20.3
    .