Back
From: metabase:user:314402c4-2aae-11df-837a-5e0a49663a4f
Subject: PASS Net-Statsd-Server-0.20 v5.27.2 GNU/Linux
Date: 2017-07-27T21:44:27Z
This distribution has been tested as part of the CPAN Testers
project, supporting the Perl programming language. See
http://wiki.cpantesters.org/ for more information or email
questions to cpan-testers-discuss@perl.org
--
Dear Cosimo Streppone,
This is a computer-generated report for Net-Statsd-Server-0.20
on perl 5.27.2, created by CPAN-Reporter-1.2018.
Thank you for uploading your work to CPAN. Congratulations!
All tests were successful.
Sections of this report:
* Tester comments
* Program output
* Prerequisites
* Environment and other context
------------------------------
TESTER COMMENTS
------------------------------
Additional comments from tester:
none provided
------------------------------
PROGRAM OUTPUT
------------------------------
Output from '/usr/bin/make test':
PERL_DL_NONLAZY=1 "/opt/perl-5.27.2/bin/perl5.27.2" "-MExtUtils::Command::MM" "-MTest::Harness" "-e" "undef *Test::Harness::Switches; test_harness(0, 'blib/lib', 'blib/arch')" t/*.t t/integration-tests/*.t
t/000-sanity.t ............................. ok
t/config.t ................................. ok
t/graphite.t ............................... ok
2017-07-27 21:39:53.000000 +0000 note Net::Statsd::Server: Initializing Net::Statsd::Server::Backend::Console backend
2017-07-27 21:39:53.000000 +0000 note Net::Statsd::Server: Initializing Net::Statsd::Server::Backend::Graphite backend
2017-07-27 21:39:53.000000 +0000 info AnyEvent: Autoloaded model 'AnyEvent::Impl::EV', using it.
2017-07-27 21:39:53.566682 +0000 note Net::Statsd::Server: statsd server started on 0.0.0.0:40001 (v0.17)
2017-07-27 21:39:53.566706 +0000 note Net::Statsd::Server: manager interface started on 0.0.0.0:40002
2017-07-27 21:39:53.566751 +0000 note Net::Statsd::Server: metrics flush will happen every 1s
2017-07-27 21:39:54.016201 +0000 warn Net::Statsd::Server: Bad line: 1 in msg "a_bad_test_value|z"
2017-07-27 21:39:54.568378 +0000 note Net::Statsd::Server: flushing metrics
Flushing stats at Thu Jul 27 21:39:54 2017
{"timer_data":{},"counter_rates":{"statsd.bad_lines_seen":1,"statsd.packets_received":1},"counters":{"statsd.packets_received":1,"statsd.bad_lines_seen":1},"pctThreshold":[90],"gauges":{},"sets":null,"timers":{}}
t/integration-tests/bad-message.t .......... ok
2017-07-27 21:39:54.000000 +0000 note Net::Statsd::Server: Initializing Net::Statsd::Server::Backend::Console backend
2017-07-27 21:39:54.000000 +0000 note Net::Statsd::Server: Initializing Net::Statsd::Server::Backend::Graphite backend
2017-07-27 21:39:54.000000 +0000 info AnyEvent: Autoloaded model 'AnyEvent::Impl::EV', using it.
2017-07-27 21:39:54.711560 +0000 note Net::Statsd::Server: statsd server started on 0.0.0.0:40001 (v0.17)
2017-07-27 21:39:54.711585 +0000 note Net::Statsd::Server: manager interface started on 0.0.0.0:40002
2017-07-27 21:39:54.711604 +0000 note Net::Statsd::Server: metrics flush will happen every 1s
2017-07-27 21:39:55.713244 +0000 note Net::Statsd::Server: flushing metrics
Flushing stats at Thu Jul 27 21:39:55 2017
{"counter_rates":{"statsd.bad_lines_seen":0,"statsd.packets_received":1,"a_test_value":100},"pctThreshold":[90],"gauges":{},"timers":{},"sets":null,"timer_data":{},"counters":{"statsd.bad_lines_seen":0,"a_test_value":100,"statsd.packets_received":1}}
# stats.counters.statsd.bad_lines_seen.rate 0.000000 1501191595
# stats.counters.statsd.bad_lines_seen.count 0 1501191595
# stats.counters.a_test_value.rate 100.000000 1501191595
# stats.counters.a_test_value.count 100 1501191595
# stats.counters.statsd.packets_received.rate 1.000000 1501191595
# stats.counters.statsd.packets_received.count 1 1501191595
# stats.statsd.numStats 3 1501191595
# stats.statsd.graphiteStats.calculationtime 0.118000 1501191595
# stats.statsd.processing_time 0.039 1501191595
# stats.statsd.graphiteStats.last_exception 94531652806752 1501191595
# stats.statsd.graphiteStats.last_flush 94531652806752 1501191595
t/integration-tests/counts-are-valid.t ..... ok
2017-07-27 21:39:55.000000 +0000 note Net::Statsd::Server: Initializing Net::Statsd::Server::Backend::Graphite backend
2017-07-27 21:39:55.000000 +0000 info AnyEvent: Autoloaded model 'AnyEvent::Impl::EV', using it.
2017-07-27 21:39:55.867274 +0000 note Net::Statsd::Server: statsd server started on 0.0.0.0:40001 (v0.17)
2017-07-27 21:39:55.867300 +0000 note Net::Statsd::Server: manager interface started on 0.0.0.0:40002
2017-07-27 21:39:55.867341 +0000 note Net::Statsd::Server: metrics flush will happen every 1s
2017-07-27 21:39:56.868431 +0000 note Net::Statsd::Server: flushing metrics
# First flush. Test gauge should be there.
2017-07-27 21:39:57.871853 +0000 note Net::Statsd::Server: flushing metrics
# Second flush. deleteGauges=false should keep the test gauge.
t/integration-tests/delete-gauges-false.t .. ok
2017-07-27 21:39:58.000000 +0000 note Net::Statsd::Server: Initializing Net::Statsd::Server::Backend::Graphite backend
2017-07-27 21:39:58.000000 +0000 info AnyEvent: Autoloaded model 'AnyEvent::Impl::EV', using it.
2017-07-27 21:39:58.014483 +0000 note Net::Statsd::Server: statsd server started on 0.0.0.0:40001 (v0.17)
2017-07-27 21:39:58.014519 +0000 note Net::Statsd::Server: manager interface started on 0.0.0.0:40002
2017-07-27 21:39:58.014544 +0000 note Net::Statsd::Server: metrics flush will happen every 1s
2017-07-27 21:39:59.016524 +0000 note Net::Statsd::Server: flushing metrics
# First flush. Test gauge should be there.
2017-07-27 21:40:00.014827 +0000 note Net::Statsd::Server: flushing metrics
# Second flush. deleteIdleStats should have cleared the test gauge.
t/integration-tests/delete-idle-stats.t .... ok
2017-07-27 21:40:00.000000 +0000 note Net::Statsd::Server: Initializing Net::Statsd::Server::Backend::Console backend
2017-07-27 21:40:00.000000 +0000 note Net::Statsd::Server: Initializing Net::Statsd::Server::Backend::Graphite backend
2017-07-27 21:40:00.000000 +0000 info AnyEvent: Autoloaded model 'AnyEvent::Impl::EV', using it.
2017-07-27 21:40:00.174591 +0000 note Net::Statsd::Server: statsd server started on 0.0.0.0:40001 (v0.17)
2017-07-27 21:40:00.174614 +0000 note Net::Statsd::Server: manager interface started on 0.0.0.0:40002
2017-07-27 21:40:00.174650 +0000 note Net::Statsd::Server: metrics flush will happen every 1s
2017-07-27 21:40:01.176805 +0000 note Net::Statsd::Server: flushing metrics
Flushing stats at Thu Jul 27 21:40:01 2017
{"timer_data":{},"gauges":{},"pctThreshold":[90],"sets":null,"counters":{"a_test_value,category=web,severity=high":100,"statsd.bad_lines_seen":0,"statsd.packets_received":1},"counter_rates":{"statsd.packets_received":1,"a_test_value,category=web,severity=high":100,"statsd.bad_lines_seen":0},"timers":{}}
# stats.counters.a_test_value,category=web,severity=high.rate 100.000000 1501191601
# stats.counters.a_test_value,category=web,severity=high.count 100 1501191601
# stats.counters.statsd.bad_lines_seen.rate 0.000000 1501191601
# stats.counters.statsd.bad_lines_seen.count 0 1501191601
# stats.counters.statsd.packets_received.rate 1.000000 1501191601
# stats.counters.statsd.packets_received.count 1 1501191601
# stats.statsd.numStats 3 1501191601
# stats.statsd.graphiteStats.calculationtime 0.058000 1501191601
# stats.statsd.processing_time 0.028 1501191601
# stats.statsd.graphiteStats.last_exception 94484687443856 1501191601
# stats.statsd.graphiteStats.last_flush 94484687443856 1501191601
t/integration-tests/keys-with-tags.t ....... ok
2017-07-27 21:40:01.000000 +0000 note Net::Statsd::Server: Initializing Net::Statsd::Server::Backend::Graphite backend
2017-07-27 21:40:01.000000 +0000 info AnyEvent: Autoloaded model 'AnyEvent::Impl::EV', using it.
2017-07-27 21:40:01.328402 +0000 note Net::Statsd::Server: statsd server started on 0.0.0.0:40001 (v0.17)
2017-07-27 21:40:01.328427 +0000 note Net::Statsd::Server: manager interface started on 0.0.0.0:40002
2017-07-27 21:40:01.328449 +0000 note Net::Statsd::Server: metrics flush will happen every 1s
# Expected mean value is 2020.72
2017-07-27 21:40:02.330490 +0000 note Net::Statsd::Server: flushing metrics
# stats.counters.statsd.bad_lines_seen.rate 0.000000 1501191602
# stats.counters.statsd.bad_lines_seen.count 0 1501191602
# stats.counters.statsd.packets_received.rate 100.000000 1501191602
# stats.counters.statsd.packets_received.count 100 1501191602
# stats.timers.read_latency.count_99 99.000000 1501191602
# stats.timers.read_latency.upper_99 2980.000000 1501191602
# stats.timers.read_latency.sum_98 196104.000000 1501191602
# stats.timers.read_latency.sum_squares_95 398168823.000000 1501191602
# stats.timers.read_latency.mean_99 2010.949495 1501191602
# stats.timers.read_latency.count_ps 100.000000 1501191602
# stats.timers.read_latency.count_98 98.000000 1501191602
# stats.timers.read_latency.upper_98 2978.000000 1501191602
# stats.timers.read_latency.sum_squares_98 424496372.000000 1501191602
# stats.timers.read_latency.sum_squares_99 433376772.000000 1501191602
# stats.timers.read_latency.median 1989.000000 1501191602
# stats.timers.read_latency.sum_squares 442304916.000000 1501191602
# stats.timers.read_latency.lower 1036.000000 1501191602
# stats.timers.read_latency.sum_95 187217.000000 1501191602
# stats.timers.read_latency.mean 2020.720000 1501191602
# stats.timers.read_latency.count 100.000000 1501191602
# stats.timers.read_latency.upper 2988.000000 1501191602
# stats.timers.read_latency.upper_95 2910.000000 1501191602
# stats.timers.read_latency.sum 202072.000000 1501191602
# stats.timers.read_latency.count_95 95.000000 1501191602
# stats.timers.read_latency.sum_99 199084.000000 1501191602
# stats.timers.read_latency.mean_98 2001.061224 1501191602
# stats.timers.read_latency.std 582.872063 1501191602
# stats.timers.read_latency.mean_95 1970.705263 1501191602
# stats.statsd.numStats 3 1501191602
# stats.statsd.graphiteStats.calculationtime 0.060000 1501191602
# stats.statsd.processing_time 0.173 1501191602
# stats.statsd.graphiteStats.last_exception 93996410329152 1501191602
# stats.statsd.graphiteStats.last_flush 93996410329152 1501191602
t/integration-tests/percent-threshold.t .... ok
2017-07-27 21:40:02.000000 +0000 note Net::Statsd::Server: Initializing Net::Statsd::Server::Backend::Console backend
2017-07-27 21:40:02.000000 +0000 note Net::Statsd::Server: Initializing Net::Statsd::Server::Backend::Graphite backend
2017-07-27 21:40:02.000000 +0000 info AnyEvent: Autoloaded model 'AnyEvent::Impl::EV', using it.
2017-07-27 21:40:02.488445 +0000 note Net::Statsd::Server: statsd server started on 0.0.0.0:40001 (v0.17)
2017-07-27 21:40:02.488480 +0000 note Net::Statsd::Server: manager interface started on 0.0.0.0:40002
2017-07-27 21:40:02.488517 +0000 note Net::Statsd::Server: metrics flush will happen every 1s
2017-07-27 21:40:03.490202 +0000 note Net::Statsd::Server: flushing metrics
Flushing stats at Thu Jul 27 21:40:03 2017
{"timer_data":{"a_test_value":{"median":"100","sum":"100","sum_squares":10000,"upper_90":"100","count_90":1,"std":0,"mean_90":"100","mean":100,"lower":"100","upper":"100","count_ps":1,"sum_90":"100","count":1,"sum_squares_90":10000}},"timers":{"a_test_value":["100"]},"pctThreshold":["90"],"counters":{"statsd.packets_received":1,"statsd.bad_lines_seen":0},"sets":null,"gauges":{},"counter_rates":{"statsd.packets_received":1,"statsd.bad_lines_seen":0}}
# stats.counters.statsd.packets_received.rate 1.000000 1501191603
# stats.counters.statsd.packets_received.count 1 1501191603
# stats.counters.statsd.bad_lines_seen.rate 0.000000 1501191603
# stats.counters.statsd.bad_lines_seen.count 0 1501191603
# stats.timers.a_test_value.median 100.000000 1501191603
# stats.timers.a_test_value.sum 100.000000 1501191603
# stats.timers.a_test_value.sum_squares 10000.000000 1501191603
# stats.timers.a_test_value.upper_90 100.000000 1501191603
# stats.timers.a_test_value.count_90 1.000000 1501191603
# stats.timers.a_test_value.std 0.000000 1501191603
# stats.timers.a_test_value.mean_90 100.000000 1501191603
# stats.timers.a_test_value.mean 100.000000 1501191603
# stats.timers.a_test_value.lower 100.000000 1501191603
# stats.timers.a_test_value.upper 100.000000 1501191603
# stats.timers.a_test_value.count_ps 1.000000 1501191603
# stats.timers.a_test_value.sum_90 100.000000 1501191603
# stats.timers.a_test_value.count 1.000000 1501191603
# stats.timers.a_test_value.sum_squares_90 10000.000000 1501191603
# stats.statsd.numStats 3 1501191603
# stats.statsd.graphiteStats.calculationtime 0.091000 1501191603
# stats.statsd.processing_time 0.054 1501191603
# stats.statsd.graphiteStats.last_exception 94321339648112 1501191603
# stats.statsd.graphiteStats.last_flush 94321339648112 1501191603
t/integration-tests/timers-are-valid.t ..... ok
t/process-metrics.t ........................ ok
t/trim.t ................................... ok
All tests successful.
Files=12, Tests=92, 10 wallclock secs ( 0.04 usr 0.08 sys + 0.74 cusr 0.22 csys = 1.08 CPU)
Result: PASS
------------------------------
PREREQUISITES
------------------------------
Prerequisite modules loaded:
requires:
Module Need Have
--------------------- ---- --------
AnyEvent::Handle::UDP 0 0.048
IO::Socket::INET 0 1.35
JSON::XS 0 3.03
build_requires:
Module Need Have
--------------------- ---- --------
ExtUtils::MakeMaker 0 7.30
Test::More 0 1.302086
configure_requires:
Module Need Have
--------------------- ---- --------
ExtUtils::MakeMaker 0 7.30
------------------------------
ENVIRONMENT AND OTHER CONTEXT
------------------------------
Environment variables:
LANG = C
LC_ALL = de_DE.UTF-8
PATH = /usr/local/bin:/usr/bin:/bin:/usr/local/sbin:/usr/sbin:/sbin:/home/cpansand/bin/linux-gnu:/home/cpansand/bin/sh:/home/cpansand/bin:/usr/games:/home/cpansand/devel:/home/eserte/src/srezic-misc/scripts
PERL5LIB =
PERL5OPT =
PERL5_CPANPLUS_IS_RUNNING = 8963
PERL5_CPAN_IS_RUNNING = 8963
PERL5_CPAN_IS_RUNNING_IN_RECURSION = 4686,8963
PERLDOC = -MPod::Perldoc::ToTextOverstrike
PERL_BATCH = yes
PERL_CANARY_STABILITY_NOPROMPT = 1
PERL_CPAN_REPORTER_CONFIG = /var/tmp/cpansmoker-1023/2017072712/cpanreporter_000_config.ini
PERL_EXTUTILS_AUTOINSTALL = --defaultdeps
PERL_PARALLEL_SMOKER = yes
PERL_USE_UNSAFE_INC = 1
SHELL = /usr/bin/zsh
TERM = screen
TMPDIR = /var/tmp/cpansmoker-1023/2017072712
Perl special variables (and OS-specific diagnostics, for MSWin32):
$^X = /opt/perl-5.27.2/bin/perl5.27.2
$UID/$EUID = 1023 / 1023
$GID = 1023 1023
$EGID = 1023 1023
Perl module toolchain versions installed:
Module Have
------------------- --------
CPAN 2.16
CPAN::Meta 2.150010
Cwd 3.62
ExtUtils::CBuilder 0.280226
ExtUtils::Command 7.30
ExtUtils::Install 2.14
ExtUtils::MakeMaker 7.30
ExtUtils::Manifest 1.70
ExtUtils::ParseXS 3.30
File::Spec 3.62
JSON 2.94
JSON::PP 2.94
Module::Build 0.4224
Module::Signature 0.81
Parse::CPAN::Meta 2.150010
Test::Harness 3.39
Test::More 1.302086
YAML 1.23
YAML::Syck 1.30
version 0.9918
--
Summary of my perl5 (revision 5 version 27 subversion 2) configuration:
Platform:
osname=linux
osvers=4.9.0-3-amd64
archname=x86_64-linux
uname='linux debian9 4.9.0-3-amd64 #1 smp debian 4.9.30-2+deb9u2 (2017-06-26) x86_64 gnulinux '
config_args='-ds -e -Dprefix=/opt/perl-5.27.2 -Dusedevel -Dusemallocwrap=no -Dcf_email=srezic@cpan.org'
hint=recommended
useposix=true
d_sigaction=define
useithreads=undef
usemultiplicity=undef
use64bitint=define
use64bitall=define
uselongdouble=undef
usemymalloc=n
default_inc_excludes_dot=define
bincompat5005=undef
Compiler:
cc='cc'
ccflags ='-fwrapv -fno-strict-aliasing -pipe -fstack-protector-strong -I/usr/local/include -D_LARGEFILE_SOURCE -D_FILE_OFFSET_BITS=64'
optimize='-O2'
cppflags='-fwrapv -fno-strict-aliasing -pipe -fstack-protector-strong -I/usr/local/include'
ccversion=''
gccversion='6.3.0 20170516'
gccosandvers=''
intsize=4
longsize=8
ptrsize=8
doublesize=8
byteorder=12345678
doublekind=3
d_longlong=define
longlongsize=8
d_longdbl=define
longdblsize=16
longdblkind=3
ivtype='long'
ivsize=8
nvtype='double'
nvsize=8
Off_t='off_t'
lseeksize=8
alignbytes=8
prototype=define
Linker and Libraries:
ld='cc'
ldflags =' -fstack-protector-strong -L/usr/local/lib'
libpth=/usr/local/lib /usr/lib/gcc/x86_64-linux-gnu/6/include-fixed /usr/include/x86_64-linux-gnu /usr/lib /lib/x86_64-linux-gnu /lib/../lib /usr/lib/x86_64-linux-gnu /usr/lib/../lib /lib
libs=-lpthread -lnsl -lgdbm -ldb -ldl -lm -lcrypt -lutil -lc -lgdbm_compat
perllibs=-lpthread -lnsl -ldl -lm -lcrypt -lutil -lc
libc=libc-2.24.so
so=so
useshrplib=false
libperl=libperl.a
gnulibc_version='2.24'
Dynamic Linking:
dlsrc=dl_dlopen.xs
dlext=so
d_dlsymun=undef
ccdlflags='-Wl,-E'
cccdlflags='-fPIC'
lddlflags='-shared -O2 -L/usr/local/lib -fstack-protector-strong'
Characteristics of this binary (from libperl):
Compile-time options:
HAS_TIMES
PERLIO_LAYERS
PERL_COPY_ON_WRITE
PERL_DONT_CREATE_GVSV
PERL_OP_PARENT
PERL_PRESERVE_IVUV
PERL_USE_DEVEL
USE_64_BIT_ALL
USE_64_BIT_INT
USE_LARGE_FILES
USE_LOCALE
USE_LOCALE_COLLATE
USE_LOCALE_CTYPE
USE_LOCALE_NUMERIC
USE_LOCALE_TIME
USE_PERLIO
USE_PERL_ATOF
Built under linux
Compiled at Jul 20 2017 21:00:25
%ENV:
PERL5LIB=""
PERL5OPT=""
PERL5_CPANPLUS_IS_RUNNING="8963"
PERL5_CPAN_IS_RUNNING="8963"
PERL5_CPAN_IS_RUNNING_IN_RECURSION="4686,8963"
PERLDOC="-MPod::Perldoc::ToTextOverstrike"
PERL_BATCH="yes"
PERL_CANARY_STABILITY_NOPROMPT="1"
PERL_CPAN_REPORTER_CONFIG="/var/tmp/cpansmoker-1023/2017072712/cpanreporter_000_config.ini"
PERL_EXTUTILS_AUTOINSTALL="--defaultdeps"
PERL_PARALLEL_SMOKER="yes"
PERL_USE_UNSAFE_INC="1"
@INC:
/opt/perl-5.27.2/lib/site_perl/5.27.2/x86_64-linux
/opt/perl-5.27.2/lib/site_perl/5.27.2
/opt/perl-5.27.2/lib/5.27.2/x86_64-linux
/opt/perl-5.27.2/lib/5.27.2
.