Template-Toolkit v3.102 Perl 5 v5.41.4 i86pc-solaris-thread-multi-64
- Status
- Pass
- From
- Carlos Guevara
- Dist
-
Template-Toolkit v3.102
- Platform
- Perl 5 v5.41.4 i86pc-solaris-thread-multi-64
- Date
- 2024-09-16 04:54:33
- ID
- c3df65fa-73e7-11ef-86f3-e3a19c7f19c6
This distribution has been tested as part of the CPAN Testers
project, supporting the Perl programming language. See
http://wiki.cpantesters.org/ for more information or email
questions to cpan-testers-discuss@perl.org
--
Dear Todd Rinaldo,
This is a computer-generated report for Template-Toolkit-3.102
on perl 5.41.4, created by CPAN-Reporter-1.2020.
Thank you for uploading your work to CPAN. Congratulations!
All tests were successful.
Sections of this report:
* Tester comments
* Program output
* Prerequisites
* Environment and other context
------------------------------
TESTER COMMENTS
------------------------------
Additional comments from tester:
this report is from an automated smoke testing program
and was not reviewed by a human for accuracy
------------------------------
PROGRAM OUTPUT
------------------------------
Output from '/usr/bin/make test':
"/export/home/cpan/bin/perl/bin/perl5.41.4" -MExtUtils::Command::MM -e 'cp_nonempty' -- XS.bs ../blib/arch/auto/Template/Stash/XS/XS.bs 644
"/export/home/cpan/bin/perl/bin/perl5.41.4" -MExtUtils::Command::MM -e 'cp_nonempty' -- XS.bs ../blib/arch/auto/Template/Stash/XS/XS.bs 644
No tests defined for Template::Stash::XS extension.
PERL_DL_NONLAZY=1 "/export/home/cpan/bin/perl/bin/perl5.41.4" "-MExtUtils::Command::MM" "-MTest::Harness" "-e" "undef *Test::Harness::Switches; test_harness(0, 'blib/lib', 'blib/arch')" t/anycase.t t/args.t t/assert.t t/base.t t/binop.t t/block.t t/block_duplicate.t t/blocks.t t/capture.t t/case.t t/chomp.t t/compile1.t t/compile2.t t/compile3.t t/compile4.t t/compile5.t t/config.t t/constants.t t/context.t t/datafile.t t/date.t t/date_offset.t t/date_utf8.t t/debug.t t/directive.t t/directry.t t/document.t t/dumper.t t/error.t t/evalperl.t t/exception.t t/factory.t t/file.t t/fileline.t t/filter.t t/foreach.t t/format.t t/html.t t/image.t t/include.t t/iterator.t t/leak.t t/list.t t/load_order_vmethods_stash.t t/macro.t t/math.t t/math_rand.t t/meta.t t/mtime-zero.t t/object.t t/outline.t t/outline_line.t t/output.t t/parser.t t/parser2.t t/plugins.t t/plusfile.t t/pod.t t/prefix.t t/proc.t t/process-relative.t t/process.t t/process_dir.t t/provider.t t/ref.t t/scalar.t t/service.t t/skel.t t/stash-xs-unicode.t t/stash-xs.t t/stash.t t/stashc.t t/stop.t t/strcat.t t/strict.t t/string.t t/switch.t t/table.t t/tags.t t/template.t t/text.t t/throw.t t/tiedhash.t t/trace_vars.t t/try.t t/unicode.t t/url.t t/vars.t t/varsv1.t t/view.t t/while.t t/wrap.t t/wrapper.t t/zz-plugin-cycle.t t/zz-plugin-leak-gh-213.t t/zz-plugin-leak-rt-46691.t t/zz-plugin-leak.t t/zz-pmv.t t/zz-pod-coverage.t t/zz-pod-kwalitee.t t/zz-stash-xs-leak.t t/zz-url2.t t/vmethods/hash.t t/vmethods/list.t t/vmethods/replace.t t/vmethods/text.t
t/compile1.t ................... ok
t/compile2.t ................... ok
t/compile3.t ................... ok
t/compile4.t ................... ok
t/compile5.t ................... ok
t/anycase.t .................... ok
t/args.t ....................... ok
t/assert.t ..................... ok
t/base.t ....................... ok
t/binop.t ...................... ok
t/block.t ...................... ok
t/block_duplicate.t ............ ok
t/blocks.t ..................... ok
t/capture.t .................... ok
t/case.t ....................... ok
t/chomp.t ...................... ok
t/config.t ..................... ok
t/constants.t .................. ok
t/context.t .................... ok
t/datafile.t ................... ok
t/date.t ....................... ok
t/date_offset.t ................ ok
t/date_utf8.t .................. skipped: Need to set env variable AUTHOR_TESTING=1
t/debug.t ...................... ok
t/directive.t .................. ok
t/directry.t ................... ok
t/document.t ................... ok
t/dumper.t ..................... ok
t/error.t ...................... ok
t/evalperl.t ................... ok
t/exception.t .................. ok
t/factory.t .................... ok
t/file.t ....................... ok
t/fileline.t ................... ok
t/filter.t ..................... ok
t/foreach.t .................... ok
t/format.t ..................... ok
t/html.t ....................... ok
t/image.t ...................... skipped: Neither Image::Info nor Image::Size installed
t/include.t .................... ok
t/iterator.t ................... ok
t/leak.t ....................... ok
t/list.t ....................... ok
t/load_order_vmethods_stash.t .. ok
t/macro.t ...................... ok
t/math.t ....................... ok
t/math_rand.t .................. ok
t/meta.t ....................... ok
t/mtime-zero.t ................. ok
t/object.t ..................... ok
t/outline.t .................... ok
t/outline_line.t ............... ok
t/output.t ..................... ok
t/parser.t ..................... ok
t/parser2.t .................... ok
t/plugins.t .................... ok
t/plusfile.t ................... ok
t/pod.t ........................ skipped: Pod::POM not installed
t/prefix.t ..................... ok
t/proc.t ....................... ok
t/process-relative.t ........... ok
t/process.t .................... ok
t/process_dir.t ................ ok
t/provider.t ................... ok
t/ref.t ........................ ok
t/scalar.t ..................... ok
t/service.t .................... ok
t/skel.t ....................... ok
t/stash-xs-unicode.t ........... ok
t/stash-xs.t ................... ok
t/stash.t ...................... ok
t/stashc.t ..................... ok
t/stop.t ....................... ok
t/strcat.t ..................... ok
t/strict.t ..................... ok
t/string.t ..................... ok
t/switch.t ..................... ok
t/table.t ...................... ok
t/tags.t ....................... ok
t/template.t ................... ok
t/text.t ....................... ok
t/throw.t ...................... ok
t/tiedhash.t ................... ok
t/trace_vars.t ................. ok
t/try.t ........................ ok
t/unicode.t .................... ok
t/url.t ........................ ok
t/vars.t ....................... ok
t/varsv1.t ..................... ok
t/view.t ....................... ok
t/vmethods/hash.t .............. ok
t/vmethods/list.t .............. ok
t/vmethods/replace.t ........... ok
t/vmethods/text.t .............. ok
t/while.t ...................... ok
t/wrap.t ....................... ok
t/wrapper.t .................... ok
t/zz-plugin-cycle.t ............ ok
t/zz-plugin-leak-gh-213.t ...... skipped: Broken on older perls. We need to sort this out once everything is passing
t/zz-plugin-leak-rt-46691.t .... ok
t/zz-plugin-leak.t ............. skipped: Internal test for developer, add the --dev flag to run
t/zz-pmv.t ..................... skipped: These aren't the tests you're looking for... move along
t/zz-pod-coverage.t ............ skipped: Author tests not required for installation
t/zz-pod-kwalitee.t ............ skipped: Author tests not required for installation
t/zz-stash-xs-leak.t ........... skipped: Internal test for developer, add the --dev flag to run
t/zz-url2.t .................... skipped: We can't agree on the right joint for the URL plugin
All tests successful.
Files=106, Tests=2918, 20 wallclock secs ( 0.38 usr 0.23 sys + 5.73 cusr 1.27 csys = 7.61 CPU)
Result: PASS
------------------------------
PREREQUISITES
------------------------------
Prerequisite modules loaded:
requires:
Module Need Have
------------------- ---- ------
AppConfig 1.56 1.71
File::Spec 0.8 3.93
File::Temp 0.12 0.2311
Scalar::Util 0 1.65
build_requires:
Module Need Have
------------------- ---- ------
ExtUtils::MakeMaker 0 7.70
Test::LeakTrace 0 0.17
configure_requires:
Module Need Have
------------------- ---- ------
ExtUtils::MakeMaker 0 7.70
------------------------------
ENVIRONMENT AND OTHER CONTEXT
------------------------------
Environment variables:
AUTOMATED_TESTING = 1
DATE_MANIP_TEST_DM5 = 1
LANG = en_US.UTF-8
LC_ALL = C
NONINTERACTIVE_TESTING = 1
NO_NETWORK_TESTING = 1
PATH = /export/home/cpan/bin/perl/bin:/usr/bin:/usr/sbin:/sbin:/opt/ooce/bin:/usr/gnu/bin
PERL5LIB =
PERL5OPT =
PERL5_CPANPLUS_IS_RUNNING = 475
PERL5_CPAN_IS_RUNNING = 475
PERL_MM_USE_DEFAULT = 1
PERL_USE_UNSAFE_INC = 1
SHELL = /bin/bash
TERM = screen
Perl special variables (and OS-specific diagnostics, for MSWin32):
$^X = /export/home/cpan/bin/perl/bin/perl5.41.4
$UID/$EUID = 101 / 101
$GID = 1 1
$EGID = 1 1
Perl module toolchain versions installed:
Module Have
------------------- --------
CPAN 2.37
CPAN::Meta 2.150010
Cwd 3.92
ExtUtils::CBuilder 0.280240
ExtUtils::Command 7.70
ExtUtils::Install 2.22
ExtUtils::MakeMaker 7.70
ExtUtils::Manifest 1.75
ExtUtils::ParseXS 3.54
File::Spec 3.93
JSON 4.10
JSON::PP 4.16
Module::Build 0.4234
Module::Signature n/a
Parse::CPAN::Meta 2.150010
Test2 1.302204
Test::Harness 3.50
Test::More 1.302204
YAML 1.31
YAML::Syck n/a
version 0.9933
--
Summary of my perl5 (revision 5 version 41 subversion 4) configuration:
Commit id: 698a4c0ba0e389910a4b72e3f56956a721e3a9a4
Platform:
osname=solaris
osvers=2.11
archname=i86pc-solaris-thread-multi-64
uname='sunos cjg-omniosce 5.11 omnios-r151050-49db1c0a0fe i86pc i386 i86pc '
config_args='-des -Dprefix=/export/home/cpan/bin/perl -Dscriptdir=/export/home/cpan/bin/perl/bin -Dusedevel -Duse64bitall -Dcc=gcc -Duseithreads'
hint=recommended
useposix=true
d_sigaction=define
useithreads=define
usemultiplicity=define
use64bitint=define
use64bitall=define
uselongdouble=undef
usemymalloc=n
default_inc_excludes_dot=define
Compiler:
cc='gcc'
ccflags ='-D_REENTRANT -m64 -fwrapv -fno-strict-aliasing -pipe -fstack-protector-strong -D_LARGEFILE_SOURCE -D_FILE_OFFSET_BITS=64 -D_FORTIFY_SOURCE=2'
optimize='-O'
cppflags='-D_REENTRANT -m64 -fwrapv -fno-strict-aliasing -pipe -fstack-protector-strong'
ccversion=''
gccversion='13.2.0'
gccosandvers=''
intsize=4
longsize=8
ptrsize=8
doublesize=8
byteorder=12345678
doublekind=3
d_longlong=define
longlongsize=8
d_longdbl=define
longdblsize=16
longdblkind=3
ivtype='long'
ivsize=8
nvtype='double'
nvsize=8
Off_t='off_t'
lseeksize=8
alignbytes=8
prototype=define
Linker and Libraries:
ld='gcc'
ldflags =' -m64 -fstack-protector-strong -L/usr/gnu/lib '
libpth=/opt/gcc-13/lib /usr/lib /usr/gnu/lib /usr/ccs/lib
libs=-lpthread -lsocket -lnsl -ldl -lm -lc
perllibs=-lpthread -lsocket -lnsl -ldl -lm -lc
libc=/lib/libc.so
so=so
useshrplib=true
libperl=libperl.so
gnulibc_version=''
Dynamic Linking:
dlsrc=dl_dlopen.xs
dlext=so
d_dlsymun=undef
ccdlflags=' -R /export/home/cpan/bin/perl/lib/5.41.4/i86pc-solaris-thread-multi-64/CORE'
cccdlflags='-fPIC'
lddlflags=' -shared -m64 -L/usr/gnu/lib -fstack-protector-strong'
Characteristics of this binary (from libperl):
Compile-time options:
HAS_LONG_DOUBLE
HAS_STRTOLD
HAS_TIMES
MULTIPLICITY
PERLIO_LAYERS
PERL_COPY_ON_WRITE
PERL_DONT_CREATE_GVSV
PERL_HASH_FUNC_SIPHASH13
PERL_HASH_USE_SBOX32
PERL_MALLOC_WRAP
PERL_OP_PARENT
PERL_PRESERVE_IVUV
PERL_USE_DEVEL
PERL_USE_SAFE_PUTENV
USE_64_BIT_ALL
USE_64_BIT_INT
USE_ITHREADS
USE_LARGE_FILES
USE_LOCALE
USE_LOCALE_COLLATE
USE_LOCALE_CTYPE
USE_LOCALE_NUMERIC
USE_LOCALE_TIME
USE_PERLIO
USE_PERL_ATOF
USE_REENTRANT_API
USE_THREAD_SAFE_LOCALE
Built under solaris
Compiled at Sep 15 2024 22:33:18
%ENV:
PERL5LIB=""
PERL5OPT=""
PERL5_CPANPLUS_IS_RUNNING="475"
PERL5_CPAN_IS_RUNNING="475"
PERL_MM_USE_DEFAULT="1"
PERL_USE_UNSAFE_INC="1"
@INC:
/export/home/cpan/bin/perl/lib/site_perl/5.41.4/i86pc-solaris-thread-multi-64
/export/home/cpan/bin/perl/lib/site_perl/5.41.4
/export/home/cpan/bin/perl/lib/5.41.4/i86pc-solaris-thread-multi-64
/export/home/cpan/bin/perl/lib/5.41.4
.