Back
From: metabase:user:30f4dfbe-2aae-11df-837a-5e0a49663a4f
Subject: PASS FormValidator-LazyWay-0.15 v5.10.1 GNU/Linux
Date: 2010-10-26T05:34:55Z
This distribution has been tested as part of the CPAN Testers
project, supporting the Perl programming language. See
http://wiki.cpantesters.org/ for more information or email
questions to cpan-testers-discuss@perl.org
--
Dear Tomohiro Teranishi,
This is a computer-generated report for FormValidator-LazyWay-0.15
on perl 5.10.1, created by CPAN-Reporter-1.1803.
Thank you for uploading your work to CPAN. Congratulations!
All tests were successful.
Sections of this report:
* Tester comments
* Program output
* Prerequisites
* Environment and other context
------------------------------
TESTER COMMENTS
------------------------------
Additional comments from tester:
this report is from an automated smoke testing program
and was not reviewed by a human for accuracy
------------------------------
PROGRAM OUTPUT
------------------------------
Output from '/usr/bin/make test':
PERL_DL_NONLAZY=1 /usr/bin/perl "-MExtUtils::Command::MM" "-e" "test_harness(0, 'inc', 'blib/lib', 'blib/arch')" t/01-login-sample.t t/02-regex_map.t t/03-inquery.t t/filter-at-regexp.t t/filter-encode.t t/filter-unify.t t/filter.t t/fix.t t/fixed-class-datetime.t t/fixed-class-uri.t t/input_value_0_is_not_false.t t/lazyway-check-conv-profile.t t/lazyway-check-dependencies.t t/lazyway-check-remove-empty-fields.t t/lazyway-check-required-fields.t t/lazyway-check-set-default.t t/lazyway-check-set-error-message.t t/lazyway-check-set-unknown.t t/lazyway-check-validation-block-append_error_message.t t/lazyway-check-validation-block-get-validator-method.t t/lazyway-new.t t/lazyway-result-class-overwrite.t t/lazyway-result-custom-invalid.t t/lazyway-result-fixed.t t/merge.t t/message-get-label.t t/message-set-lang.t t/message.t t/message_fail.t t/rule-datetime-date.t t/rule-datetime-datetime.t t/rule-datetime-time.t t/rule-japanese-hiragana-bytes.t t/rule-japanese-hiragana.t t/rule-japanese-katakana-bytes.t t/rule-japanese-katakana.t t/rule-net-http.t t/rule-net-https.t t/rule-net-uri.t t/rule-net-url.t t/rule-number-float.t t/rule-number-int.t t/rule-number-range.t t/rule-number-ufloat.t t/rule-number-uint.t t/rule-object-boolean.t t/rule-object-regexp.t t/rule-object-true.t t/rule-string-alphabet.t t/rule-string-ascii.t t/rule-string-length.t t/rule-string-nonsymbol_ascii.t t/rule-string-number.t t/rule.t t/setting-unicode.t t/stash.t t/utils-arrayify.t t/utils-check-profile-syntax.t t/utils-get-input-as-hash.t t/utils-remove-empty-fields.t
t/01-login-sample.t ...................................... ok
t/02-regex_map.t ......................................... ok
t/03-inquery.t ........................................... ok
t/filter-at-regexp.t ..................................... ok
t/filter-encode.t ........................................ ok
t/filter-unify.t ......................................... ok
t/filter.t ............................................... ok
t/fix.t .................................................. ok
t/fixed-class-datetime.t ................................. ok
t/fixed-class-uri.t ...................................... ok
t/input_value_0_is_not_false.t ........................... ok
t/lazyway-check-conv-profile.t ........................... ok
t/lazyway-check-dependencies.t ........................... ok
t/lazyway-check-remove-empty-fields.t .................... ok
t/lazyway-check-required-fields.t ........................ ok
t/lazyway-check-set-default.t ............................ ok
t/lazyway-check-set-error-message.t ...................... ok
t/lazyway-check-set-unknown.t ............................ ok
t/lazyway-check-validation-block-append_error_message.t .. ok
t/lazyway-check-validation-block-get-validator-method.t .. ok
t/lazyway-new.t .......................................... ok
t/lazyway-result-class-overwrite.t ....................... ok
t/lazyway-result-custom-invalid.t ........................ ok
t/lazyway-result-fixed.t ................................. ok
t/merge.t ................................................ ok
t/message-get-label.t .................................... ok
t/message-set-lang.t ..................................... ok
t/message.t .............................................. ok
t/message_fail.t ......................................... ok
t/rule-datetime-date.t ................................... ok
t/rule-datetime-datetime.t ............................... ok
t/rule-datetime-time.t ................................... ok
t/rule-japanese-hiragana-bytes.t ......................... ok
t/rule-japanese-hiragana.t ............................... ok
t/rule-japanese-katakana-bytes.t ......................... ok
t/rule-japanese-katakana.t ............................... ok
t/rule-net-http.t ........................................ ok
t/rule-net-https.t ....................................... ok
t/rule-net-uri.t ......................................... ok
t/rule-net-url.t ......................................... ok
t/rule-number-float.t .................................... ok
t/rule-number-int.t ...................................... ok
t/rule-number-range.t .................................... ok
t/rule-number-ufloat.t ................................... ok
t/rule-number-uint.t ..................................... ok
t/rule-object-boolean.t .................................. ok
t/rule-object-regexp.t ................................... ok
t/rule-object-true.t ..................................... ok
t/rule-string-alphabet.t ................................. ok
t/rule-string-ascii.t .................................... ok
t/rule-string-length.t ................................... ok
t/rule-string-nonsymbol_ascii.t .......................... ok
t/rule-string-number.t ................................... ok
t/rule.t ................................................. ok
t/setting-unicode.t ...................................... ok
t/stash.t ................................................ ok
t/utils-arrayify.t ....................................... ok
t/utils-check-profile-syntax.t ........................... ok
t/utils-get-input-as-hash.t .............................. ok
t/utils-remove-empty-fields.t ............................ ok
All tests successful.
Files=60, Tests=332, 37 wallclock secs ( 0.66 usr 0.15 sys + 31.26 cusr 2.58 csys = 34.65 CPU)
Result: PASS
------------------------------
PREREQUISITES
------------------------------
Prerequisite modules loaded:
requires:
Module Need Have
-------------------------- ---- -------
Class::Accessor::Fast 0 0.34
Data::Validate::URI 0 0.05
DateTime::Format::Strptime 0 1.5000
Email::Valid 0 0.184
Email::Valid::Loose 0 0.05
ExtUtils::MakeMaker 6.42 6.56
Perl6::Junction 0 1.40000
Test::Base 0 0.59
Test::Base::Filter 0 0
Test::Exception 0 0.31
UNIVERSAL::require 0 0.13
URI 0 1.56
YAML 0 0.72
YAML::Syck 0 1.15
configure_requires:
Module Need Have
-------------------------- ---- -------
ExtUtils::MakeMaker 6.42 6.56
------------------------------
ENVIRONMENT AND OTHER CONTEXT
------------------------------
Environment variables:
AUTOMATED_TESTING = 1
LANG = en_GB
PATH = /usr/bin:/bin
PERL5LIB = /root/.cpan/build/Email-Valid-Loose-0.05-PrfTwk/blib/arch:/root/.cpan/build/Email-Valid-Loose-0.05-PrfTwk/blib/lib:/root/.cpan/build/Test-Base-0.59-CgFxSE/blib/arch:/root/.cpan/build/Test-Base-0.59-CgFxSE/blib/lib:/root/.cpan/build/Spiffy-0.30-HumPVn/blib/arch:/root/.cpan/build/Spiffy-0.30-HumPVn/blib/lib:/root/.cpan/build/Perl6-Junction-1.40000-4SNU7b/blib/arch:/root/.cpan/build/Perl6-Junction-1.40000-4SNU7b/blib/lib
PERL5OPT =
PERL5_CPANPLUS_IS_RUNNING = 995
PERL5_CPAN_IS_RUNNING = 995
PERL5_MINISMOKEBOX = 0.32
PERL_EXTUTILS_AUTOINSTALL = --defaultdeps
PERL_MM_USE_DEFAULT = 1
SHELL = /bin/sh
Perl special variables (and OS-specific diagnostics, for MSWin32):
$^X = /usr/bin/perl
$UID/$EUID = 0 / 0
$GID = 0 0
$EGID = 0 0
Perl module toolchain versions installed:
Module Have
------------------- ------
CPAN 1.9402
Cwd 3.33
ExtUtils::CBuilder 0.2703
ExtUtils::Command 1.16
ExtUtils::Install 1.54
ExtUtils::MakeMaker 6.56
ExtUtils::Manifest 1.58
ExtUtils::ParseXS 2.2206
File::Spec 3.33
Module::Build 0.3607
Module::Signature 0.66
Test::Harness 3.22
Test::More 0.96
YAML 0.72
YAML::Syck 1.15
version 0.83
--
Summary of my perl5 (revision 5 version 10 subversion 1) configuration:
Platform:
osname=linux, osvers=2.6.32.23-dsa-ia32, archname=i486-linux-gnu-thread-multi
uname='linux murphy 2.6.32.23-dsa-ia32 #1 smp mon sep 27 08:15:52 cest 2010 i686 gnulinux '
config_args='-Dusethreads -Duselargefiles -Dccflags=-DDEBIAN -Dcccdlflags=-fPIC -Darchname=i486-linux-gnu -Dprefix=/usr -Dprivlib=/usr/share/perl/5.10 -Darchlib=/usr/lib/perl/5.10 -Dvendorprefix=/usr -Dvendorlib=/usr/share/perl5 -Dvendorarch=/usr/lib/perl5 -Dsiteprefix=/usr/local -Dsitelib=/usr/local/share/perl/5.10.1 -Dsitearch=/usr/local/lib/perl/5.10.1 -Dman1dir=/usr/share/man/man1 -Dman3dir=/usr/share/man/man3 -Dsiteman1dir=/usr/local/man/man1 -Dsiteman3dir=/usr/local/man/man3 -Dman1ext=1 -Dman3ext=3perl -Dpager=/usr/bin/sensible-pager -Uafs -Ud_csh -Ud_ualarm -Uusesfio -Uusenm -DDEBUGGING=-g -Doptimize=-O2 -Duseshrplib -Dlibperl=libperl.so.5.10.1 -Dd_dosuid -des'
hint=recommended, useposix=true, d_sigaction=define
useithreads=define, usemultiplicity=define
useperlio=define, d_sfio=undef, uselargefiles=define, usesocks=undef
use64bitint=undef, use64bitall=undef, uselongdouble=undef
usemymalloc=n, bincompat5005=undef
Compiler:
cc='cc', ccflags ='-D_REENTRANT -D_GNU_SOURCE -DDEBIAN -fno-strict-aliasing -pipe -fstack-protector -I/usr/local/include -D_LARGEFILE_SOURCE -D_FILE_OFFSET_BITS=64',
optimize='-O2 -g',
cppflags='-D_REENTRANT -D_GNU_SOURCE -DDEBIAN -fno-strict-aliasing -pipe -fstack-protector -I/usr/local/include'
ccversion='', gccversion='4.4.5', gccosandvers=''
intsize=4, longsize=4, ptrsize=4, doublesize=8, byteorder=1234
d_longlong=define, longlongsize=8, d_longdbl=define, longdblsize=12
ivtype='long', ivsize=4, nvtype='double', nvsize=8, Off_t='off_t', lseeksize=8
alignbytes=4, prototype=define
Linker and Libraries:
ld='cc', ldflags =' -fstack-protector -L/usr/local/lib'
libpth=/usr/local/lib /lib /usr/lib /usr/lib64
libs=-lgdbm -lgdbm_compat -ldb -ldl -lm -lpthread -lc -lcrypt
perllibs=-ldl -lm -lpthread -lc -lcrypt
libc=/lib/libc-2.11.2.so, so=so, useshrplib=true, libperl=libperl.so.5.10.1
gnulibc_version='2.11.2'
Dynamic Linking:
dlsrc=dl_dlopen.xs, dlext=so, d_dlsymun=undef, ccdlflags='-Wl,-E'
cccdlflags='-fPIC', lddlflags='-shared -O2 -g -L/usr/local/lib -fstack-protector'
Characteristics of this binary (from libperl):
Compile-time options: MULTIPLICITY PERL_DONT_CREATE_GVSV
PERL_IMPLICIT_CONTEXT PERL_MALLOC_WRAP USE_ITHREADS
USE_LARGE_FILES USE_PERLIO USE_REENTRANT_API
Locally applied patches:
DEBPKG:debian/arm_thread_stress_timeout - http://bugs.debian.org/501970 Raise the timeout of ext/threads/shared/t/stress.t to accommodate slower build hosts
DEBPKG:debian/cpan_config_path - Set location of CPAN::Config to /etc/perl as /usr may not be writable.
DEBPKG:debian/cpan_definstalldirs - Provide a sensible INSTALLDIRS default for modules installed from CPAN.
DEBPKG:debian/db_file_ver - http://bugs.debian.org/340047 Remove overly restrictive DB_File version check.
DEBPKG:debian/doc_info - Replace generic man(1) instructions with Debian-specific information.
DEBPKG:debian/enc2xs_inc - http://bugs.debian.org/290336 Tweak enc2xs to follow symlinks and ignore missing @INC directories.
DEBPKG:debian/errno_ver - http://bugs.debian.org/343351 Remove Errno version check due to upgrade problems with long-running processes.
DEBPKG:debian/extutils_hacks - Various debian-specific ExtUtils changes
DEBPKG:debian/fakeroot - Postpone LD_LIBRARY_PATH evaluation to the binary targets.
DEBPKG:debian/instmodsh_doc - Debian policy doesn't install .packlist files for core or vendor.
DEBPKG:debian/ld_run_path - Remove standard libs from LD_RUN_PATH as per Debian policy.
DEBPKG:debian/libnet_config_path - Set location of libnet.cfg to /etc/perl/Net as /usr may not be writable.
DEBPKG:debian/m68k_thread_stress - http://bugs.debian.org/495826 Disable some threads tests on m68k for now due to missing TLS.
DEBPKG:debian/mod_paths - Tweak @INC ordering for Debian
DEBPKG:debian/module_build_man_extensions - http://bugs.debian.org/479460 Adjust Module::Build manual page extensions for the Debian Perl policy
DEBPKG:debian/perl_synopsis - http://bugs.debian.org/278323 Rearrange perl.pod
DEBPKG:debian/prune_libs - http://bugs.debian.org/128355 Prune the list of libraries wanted to what we actually need.
DEBPKG:debian/use_gdbm - Explicitly link against -lgdbm_compat in ODBM_File/NDBM_File.
DEBPKG:fixes/assorted_docs - http://bugs.debian.org/443733 [384f06a] Math::BigInt::CalcEmu documentation grammar fix
DEBPKG:fixes/net_smtp_docs - http://bugs.debian.org/100195 [rt.cpan.org #36038] Document the Net::SMTP 'Port' option
DEBPKG:fixes/processPL - http://bugs.debian.org/357264 [rt.cpan.org #17224] Always use PERLRUNINST when building perl modules.
DEBPKG:debian/perlivp - http://bugs.debian.org/510895 Make perlivp skip include directories in /usr/local
DEBPKG:fixes/pod2man-index-backslash - http://bugs.debian.org/521256 Escape backslashes in .IX entries
DEBPKG:debian/disable-zlib-bundling - Disable zlib bundling in Compress::Raw::Zlib
DEBPKG:fixes/kfreebsd_cppsymbols - http://bugs.debian.org/533098 [3b910a0] Add gcc predefined macros to $Config{cppsymbols} on GNU/kFreeBSD.
DEBPKG:debian/cpanplus_definstalldirs - http://bugs.debian.org/533707 Configure CPANPLUS to use the site directories by default.
DEBPKG:debian/cpanplus_config_path - Save local versions of CPANPLUS::Config::System into /etc/perl.
DEBPKG:fixes/kfreebsd-filecopy-pipes - http://bugs.debian.org/537555 [16f708c] Fix File::Copy::copy with pipes on GNU/kFreeBSD
DEBPKG:fixes/anon-tmpfile-dir - http://bugs.debian.org/528544 [perl #66452] Honor TMPDIR when open()ing an anonymous temporary file
DEBPKG:fixes/abstract-sockets - http://bugs.debian.org/329291 [89904c0] Add support for Abstract namespace sockets.
DEBPKG:fixes/hurd_cppsymbols - http://bugs.debian.org/544307 [eeb92b7] Add gcc predefined macros to $Config{cppsymbols} on GNU/Hurd.
DEBPKG:fixes/autodie-flock - http://bugs.debian.org/543731 Allow for flock returning EAGAIN instead of EWOULDBLOCK on linux/parisc
DEBPKG:fixes/archive-tar-instance-error - http://bugs.debian.org/539355 [rt.cpan.org #48879] Separate Archive::Tar instance error strings from each other
DEBPKG:fixes/positive-gpos - http://bugs.debian.org/545234 [perl #69056] [c584a96] Fix \G crash on first match
DEBPKG:debian/devel-ppport-ia64-optim - http://bugs.debian.org/548943 Work around an ICE on ia64
DEBPKG:fixes/trie-logic-match - http://bugs.debian.org/552291 [perl #69973] [0abd0d7] Fix a DoS in Unicode processing [CVE-2009-3626]
DEBPKG:fixes/hppa-thread-eagain - http://bugs.debian.org/554218 make the threads-shared test suite more robust, fixing failures on hppa
DEBPKG:fixes/crash-on-undefined-destroy - http://bugs.debian.org/564074 [perl #71952] [1f15e67] Fix a NULL pointer dereference when looking for a DESTROY method
DEBPKG:fixes/tainted-errno - http://bugs.debian.org/574129 [perl #61976] [be1cf43] fix an errno stringification bug in taint mode
DEBPKG:fixes/safe-upgrade - http://bugs.debian.org/582978 Upgrade Safe.pm to 2.25, fixing CVE-2010-1974
DEBPKG:fixes/tell-crash - http://bugs.debian.org/578577 [f4817f3] Fix a tell() crash on bad arguments.
DEBPKG:fixes/format-write-crash - http://bugs.debian.org/579537 [perl #22977] [421f30e] Fix a crash in format/write
DEBPKG:fixes/arm-alignment - http://bugs.debian.org/289884 [f1c7503] Prevent gcc from optimizing the alignment test away on armel
DEBPKG:fixes/fcgi-test - Fix a failure in CGI/t/fast.t when FCGI is installed
DEBPKG:fixes/hurd-ccflags - http://bugs.debian.org/587901 Make hints/gnu.sh append to $ccflags rather than overriding them
DEBPKG:debian/squelch-locale-warnings - http://bugs.debian.org/508764 Squelch locale warnings in Debian package maintainer scripts
DEBPKG:patchlevel - http://bugs.debian.org/567489 List packaged patches for 5.10.1-15 in patchlevel.h
Built under linux
Compiled at Oct 7 2010 08:54:24
%ENV:
PERL5LIB="/root/.cpan/build/Email-Valid-Loose-0.05-PrfTwk/blib/arch:/root/.cpan/build/Email-Valid-Loose-0.05-PrfTwk/blib/lib:/root/.cpan/build/Test-Base-0.59-CgFxSE/blib/arch:/root/.cpan/build/Test-Base-0.59-CgFxSE/blib/lib:/root/.cpan/build/Spiffy-0.30-HumPVn/blib/arch:/root/.cpan/build/Spiffy-0.30-HumPVn/blib/lib:/root/.cpan/build/Perl6-Junction-1.40000-4SNU7b/blib/arch:/root/.cpan/build/Perl6-Junction-1.40000-4SNU7b/blib/lib"
PERL5OPT=""
PERL5_CPANPLUS_IS_RUNNING="995"
PERL5_CPAN_IS_RUNNING="995"
PERL5_MINISMOKEBOX="0.32"
PERL_EXTUTILS_AUTOINSTALL="--defaultdeps"
PERL_MM_USE_DEFAULT="1"
@INC:
/root/.cpan/build/Email-Valid-Loose-0.05-PrfTwk/blib/arch
/root/.cpan/build/Email-Valid-Loose-0.05-PrfTwk/blib/lib
/root/.cpan/build/Test-Base-0.59-CgFxSE/blib/arch
/root/.cpan/build/Test-Base-0.59-CgFxSE/blib/lib
/root/.cpan/build/Spiffy-0.30-HumPVn/blib/arch
/root/.cpan/build/Spiffy-0.30-HumPVn/blib/lib
/root/.cpan/build/Perl6-Junction-1.40000-4SNU7b/blib/arch
/root/.cpan/build/Perl6-Junction-1.40000-4SNU7b/blib/lib
/etc/perl
/usr/local/lib/perl/5.10.1
/usr/local/share/perl/5.10.1
/usr/lib/perl5
/usr/share/perl5
/usr/lib/perl/5.10
/usr/share/perl/5.10
/usr/local/lib/site_perl
/usr/local/lib/perl/5.10.0
/usr/local/share/perl/5.10.0
.