Back
From: metabase:user:31d414ea-2aae-11df-837a-5e0a49663a4f
Subject: PASS Dist-Zilla-Plugin-Chrome-ExtraPrompt-0.014 v5.20.0 GNU/Linux
Date: 2015-04-14T15:41:49Z
This distribution has been tested as part of the CPAN Testers
project, supporting the Perl programming language. See
http://wiki.cpantesters.org/ for more information or email
questions to cpan-testers-discuss@perl.org
--
Dear Karen Etheridge,
This is a computer-generated report for Dist-Zilla-Plugin-Chrome-ExtraPrompt-0.014
on perl 5.20.0, created by CPAN-Reporter-1.2011.
Thank you for uploading your work to CPAN. Congratulations!
All tests were successful.
Sections of this report:
* Tester comments
* Program output
* Prerequisites
* Environment and other context
------------------------------
TESTER COMMENTS
------------------------------
Additional comments from tester:
this report is from an automated smoke testing program
and was not reviewed by a human for accuracy
------------------------------
PROGRAM OUTPUT
------------------------------
Output from './Build test':
#
# Versions for all modules listed in MYMETA.json (including optional ones):
#
# === Configure Requires ===
#
# Module Want Have
# ------------------- ----- -----
# Module::Build::Tiny 0.039 0.039
#
# === Test Requires ===
#
# Module Want Have
# ----------------------------------------- ----- --------
# Dist::Zilla::Chrome::Test any 5.034
# Dist::Zilla::MVP::Assembler::GlobalConfig any 5.034
# Dist::Zilla::MVP::Reader::Finder any 5.034
# Dist::Zilla::MVP::Section any 5.034
# Dist::Zilla::Role::BeforeBuild any 5.034
# ExtUtils::MakeMaker any 6.98
# File::Spec any 3.47
# Path::Tiny any 0.068
# Test::DZil any 5.034
# Test::Deep any 0.115
# Test::Fatal any 0.013
# Test::More 0.88 1.001014
# Test::Warnings 0.009 0.021
# if any 0.0603
# lib any 0.63
#
# === Test Recommends ===
#
# Module Want Have
# ---------- -------- --------
# CPAN::Meta 2.120900 2.150001
#
# === Runtime Requires ===
#
# Module Want Have
# ------------------------- ---- -------
# Dist::Zilla::Role::Plugin any 5.034
# File::Spec any 3.47
# IPC::Open3 any 1.16
# Moose any 2.1403
# Moose::Role any 2.1403
# POSIX any 1.38_03
# namespace::autoclean any 0.24
# strict any 1.08
# warnings any 1.23
#
# === Other Modules ===
#
# Module Have
# ------------- -------
# Pod::Coverage missing
#
t/00-report-prereqs.t .. ok
t/01-basic.t ........... ok
t/02-no-distini.t ...... ok
t/03-repeat-prompt.t ... ok
t/04-error.t ........... ok
t/05-kill.t ............ ok
t/zzz-check-breaks.t ... ok
All tests successful.
Files=7, Tests=10, 14 wallclock secs ( 0.03 usr 0.04 sys + 3.54 cusr 0.28 csys = 3.89 CPU)
Result: PASS
------------------------------
PREREQUISITES
------------------------------
Prerequisite modules loaded:
requires:
Module Need Have
----------------------------------------- ----- --------
Dist::Zilla::Role::Plugin 0 5.034
File::Spec 0 3.47
IPC::Open3 0 1.16
Moose 0 2.1403
Moose::Role 0 2.1403
namespace::autoclean 0 0.24
perl 5.006 5.020000
POSIX 0 1.38_03
strict 0 1.08
warnings 0 1.23
build_requires:
Module Need Have
----------------------------------------- ----- --------
Dist::Zilla::Chrome::Test 0 5.034
Dist::Zilla::MVP::Assembler::GlobalConfig 0 5.034
Dist::Zilla::MVP::Reader::Finder 0 5.034
Dist::Zilla::MVP::Section 0 5.034
Dist::Zilla::Role::BeforeBuild 0 5.034
ExtUtils::MakeMaker 0 6.98
File::Spec 0 3.47
if 0 0.0603
lib 0 0.63
Path::Tiny 0 0.068
perl 5.006 5.020000
Test::Deep 0 0.115
Test::DZil 0 5.034
Test::Fatal 0 0.013
Test::More 0.88 1.001014
Test::Warnings 0.009 0.021
configure_requires:
Module Need Have
----------------------------------------- ----- --------
Module::Build::Tiny 0.039 0.039
perl 5.006 5.020000
------------------------------
ENVIRONMENT AND OTHER CONTEXT
------------------------------
Environment variables:
AUTOMATED_TESTING = 1
NONINTERACTIVE_TESTING = 1
PATH = /usr/local/bin:/usr/bin:/bin:/usr/games
PERL = 5.20.0
PERL5LIB =
PERL5OPT =
PERL5_CPANPLUS_IS_RUNNING = 12576
PERL5_CPAN_IS_RUNNING = 12576
PERLVER = 5.20.0
PERL_INLINE_DIRECTORY = /home/david/.Inline-5.20.0
PERL_MM_USE_DEFAULT = 1
SHELL = /bin/bash
TERM = screen
Perl special variables (and OS-specific diagnostics, for MSWin32):
$^X = /home/david/cpantesting/perl-5.20.0/bin/perl
$UID/$EUID = 1000 / 1000
$GID = 1000 1000
$EGID = 1000 1000
Perl module toolchain versions installed:
Module Have
------------------- --------
CPAN 2.05
CPAN::Meta 2.150001
Cwd 3.47
ExtUtils::CBuilder 0.280216
ExtUtils::Command 1.18
ExtUtils::Install 1.67
ExtUtils::MakeMaker 6.98
ExtUtils::Manifest 1.70
ExtUtils::ParseXS 3.24
File::Spec 3.47
JSON 2.90
JSON::PP 2.27203
Module::Build 0.4205
Module::Signature n/a
Parse::CPAN::Meta 1.4414
Test::Harness 3.30
Test::More 1.001014
YAML 1.14
YAML::Syck n/a
version 0.9908
--
Summary of my perl5 (revision 5 version 20 subversion 0) configuration:
Platform:
osname=linux, osvers=3.2.0-4-amd64, archname=x86_64-linux-thread-multi
uname='linux pigsty.barnyard.co.uk 3.2.0-4-amd64 #1 smp debian 3.2.35-2 x86_64 gnulinux '
config_args='-de -Dprefix=/home/david/cpantesting/perl-5.20.0 -Dusethreads -Duse64bitall'
hint=recommended, useposix=true, d_sigaction=define
useithreads=define, usemultiplicity=define
use64bitint=define, use64bitall=define, uselongdouble=undef
usemymalloc=n, bincompat5005=undef
Compiler:
cc='cc', ccflags ='-D_REENTRANT -D_GNU_SOURCE -fno-strict-aliasing -pipe -fstack-protector -I/usr/local/include -D_LARGEFILE_SOURCE -D_FILE_OFFSET_BITS=64',
optimize='-O2',
cppflags='-D_REENTRANT -D_GNU_SOURCE -fno-strict-aliasing -pipe -fstack-protector -I/usr/local/include'
ccversion='', gccversion='4.1.2 20061115 (prerelease) (Debian 4.1.1-21)', gccosandvers=''
intsize=4, longsize=8, ptrsize=8, doublesize=8, byteorder=12345678
d_longlong=define, longlongsize=8, d_longdbl=define, longdblsize=16
ivtype='long', ivsize=8, nvtype='double', nvsize=8, Off_t='off_t', lseeksize=8
alignbytes=8, prototype=define
Linker and Libraries:
ld='cc', ldflags =' -fstack-protector -L/usr/local/lib'
libpth=/usr/local/lib /usr/lib /lib /lib64 /usr/lib64
libs=-lnsl -lgdbm -ldb -ldl -lm -lcrypt -lutil -lpthread -lc -lgdbm_compat
perllibs=-lnsl -ldl -lm -lcrypt -lutil -lpthread -lc
libc=libc-2.3.6.so, so=so, useshrplib=false, libperl=libperl.a
gnulibc_version='2.3.6'
Dynamic Linking:
dlsrc=dl_dlopen.xs, dlext=so, d_dlsymun=undef, ccdlflags='-Wl,-E'
cccdlflags='-fPIC', lddlflags='-shared -O2 -L/usr/local/lib -fstack-protector'
Characteristics of this binary (from libperl):
Compile-time options: HAS_TIMES MULTIPLICITY PERLIO_LAYERS
PERL_DONT_CREATE_GVSV
PERL_HASH_FUNC_ONE_AT_A_TIME_HARD
PERL_IMPLICIT_CONTEXT PERL_MALLOC_WRAP
PERL_NEW_COPY_ON_WRITE PERL_PRESERVE_IVUV
USE_64_BIT_ALL USE_64_BIT_INT USE_ITHREADS
USE_LARGE_FILES USE_LOCALE USE_LOCALE_COLLATE
USE_LOCALE_CTYPE USE_LOCALE_NUMERIC USE_PERLIO
USE_PERL_ATOF USE_REENTRANT_API
Built under linux
Compiled at May 27 2014 16:06:22
%ENV:
PERL="5.20.0"
PERL5LIB=""
PERL5OPT=""
PERL5_CPANPLUS_IS_RUNNING="12576"
PERL5_CPAN_IS_RUNNING="12576"
PERLVER="5.20.0"
PERL_INLINE_DIRECTORY="/home/david/.Inline-5.20.0"
PERL_MM_USE_DEFAULT="1"
@INC:
/home/david/cpantesting/perl-5.20.0/lib/site_perl/5.20.0/x86_64-linux-thread-multi
/home/david/cpantesting/perl-5.20.0/lib/site_perl/5.20.0
/home/david/cpantesting/perl-5.20.0/lib/5.20.0/x86_64-linux-thread-multi
/home/david/cpantesting/perl-5.20.0/lib/5.20.0
.