Report for DBIx-TextIndex-0.28

Back
From: metabase:user:9820532a-708b-1014-9a05-b18a96298da1
Subject: PASS DBIx-TextIndex-0.28 v5.12.1 GNU/Linux
Date: 2010-10-08T09:52:30Z

This distribution has been tested as part of the CPAN Testers
project, supporting the Perl programming language.  See
http://wiki.cpantesters.org/ for more information or email
questions to cpan-testers-discuss@perl.org


--
Dear Daniel Koch,

This is a computer-generated report for DBIx-TextIndex-0.28
on perl 5.12.1, created by CPAN-Reporter-1.1803.

Thank you for uploading your work to CPAN.  Congratulations!
All tests were successful.

Sections of this report:

    * Tester comments
    * Program output
    * Prerequisites
    * Environment and other context

------------------------------
TESTER COMMENTS
------------------------------

Additional comments from tester:

this report is from an automated smoke testing program
and was not reviewed by a human for accuracy

------------------------------
PROGRAM OUTPUT
------------------------------

Output from '/usr/bin/make test':

PERL_DL_NONLAZY=1 /home/test/perl/bin/perl5.12.1 "-MExtUtils::Command::MM" "-e" "test_harness(0, 'blib/lib', 'blib/arch')" t/*.t
t/00_load.t ............. ok
t/01_kwalitee.t ......... skipped: Test::Kwalitee not installed; skipping
t/01_pod.t .............. skipped: Test::Pod 1.26 required for testing POD
t/01_pod_coverage.t ..... skipped: Test::Pod::Coverage 1.08 required for testing POD coverage
t/02_version.t .......... ok
t/03_connect_db.t ....... skipped: $ENV{DBIX_TEXTINDEX_DSN} (and DBIX_TEXTINDEX_USER and DBIX_TEXTINDEX_PASS) must be set to a DBI DSN to run tests against a database.
t/04_load_docs.t ........ skipped: $ENV{DBIX_TEXTINDEX_DSN} must be defined to run tests.
t/05_index_db_table.t ... skipped: $ENV{DBIX_TEXTINDEX_DSN} must be defined to run tests.
t/06_search.t ........... skipped: $ENV{DBIX_TEXTINDEX_DSN} must be defined to run tests.
t/07_unscored_search.t .. skipped: $ENV{DBIX_TEXTINDEX_DSN} must be defined to run tests.
t/08_remove_docs.t ...... skipped: $ENV{DBIX_TEXTINDEX_DSN} must be defined to run tests.
t/09_delete_index.t ..... skipped: $ENV{DBIX_TEXTINDEX_DSN} must be defined to run tests.
t/10_read_write_mix.t ... skipped: $ENV{DBIX_TEXTINDEX_DSN} must be defined to run tests.
t/11_stoplist.t ......... skipped: $ENV{DBIX_TEXTINDEX_DSN} must be defined to run tests.
t/12_sqlite.t ........... ok
All tests successful.
Files=15, Tests=12,  1 wallclock secs ( 0.05 usr  0.03 sys +  0.76 cusr  0.15 csys =  0.99 CPU)
Result: PASS

------------------------------
PREREQUISITES
------------------------------

Prerequisite modules loaded:

requires:

    Module           Need Have 
    ---------------- ---- -----
    Bit::Vector      6.3  7.1  
    DBI              1.43 1.615
    Exception::Class 1.12 1.32 
    HTML::Entities   1.22 3.68 
    Text::Balanced   1.83 2.02 


------------------------------
ENVIRONMENT AND OTHER CONTEXT
------------------------------

Environment variables:

    AUTOMATED_TESTING = 1
    LANG = C
    LC_ALL = C
    PATH = /home/test/perl/bin:~/bin:/usr/bin:/bin
    PERL5LIB = /home/test/.cpan/build/File-Tempdir-0.02-DG5fr9/blib/arch:/home/test/.cpan/build/File-Tempdir-0.02-DG5fr9/blib/lib:/home/test/.cpan/build/Bit-Vector-7.1-rD8Dyj/blib/arch:/home/test/.cpan/build/Bit-Vector-7.1-rD8Dyj/blib/lib
    PERL5OPT = 
    PERL5_CPANPLUS_IS_RUNNING = 26764
    PERL5_CPAN_IS_RUNNING = 26764
    PERL5_CPAN_IS_RUNNING_IN_RECURSION = 27758,26764
    PERL_CR_SMOKER_CURRENT = Devel-Ladybug-0.411
    PERL_EXTUTILS_AUTOINSTALL = --defaultdeps
    PERL_MM_USE_DEFAULT = 1
    SHELL = /bin/bash
    TERM = linux

Perl special variables (and OS-specific diagnostics, for MSWin32):

    $^X = /home/test/perl/bin/perl5.12.1
    $UID/$EUID = 1001 / 1001
    $GID = 1001 1001
    $EGID = 1001 1001

Perl module toolchain versions installed:

    Module              Have   
    ------------------- -------
    CPAN                1.94_56
    Cwd                 3.31   
    ExtUtils::CBuilder  0.27   
    ExtUtils::Command   1.16   
    ExtUtils::Install   1.55   
    ExtUtils::MakeMaker 6.56   
    ExtUtils::Manifest  1.57   
    ExtUtils::ParseXS   2.21   
    File::Spec          3.31   
    Module::Build       0.3603 
    Module::Signature   n/a    
    Test::Harness       3.17   
    Test::More          0.94   
    YAML                n/a    
    YAML::Syck          1.15   
    version             0.82   


--

Summary of my perl5 (revision 5 version 12 subversion 1) configuration:
   
  Platform:
    osname=linux, osvers=2.6.26-2-amd64, archname=x86_64-linux-thread-multi-ld
    uname='linux zippy 2.6.26-2-amd64 #1 smp tue jan 12 22:12:20 utc 2010 x86_64 gnulinux '
    config_args='-des -Dusedevel -des -Duselongdouble -Duse64bitall -Dusethreads -Dprefix=~/perl'
    hint=recommended, useposix=true, d_sigaction=define
    useithreads=define, usemultiplicity=define
    useperlio=define, d_sfio=undef, uselargefiles=define, usesocks=undef
    use64bitint=define, use64bitall=define, uselongdouble=define
    usemymalloc=n, bincompat5005=undef
  Compiler:
    cc='cc', ccflags ='-D_REENTRANT -D_GNU_SOURCE -fno-strict-aliasing -pipe -fstack-protector -I/usr/local/include -D_LARGEFILE_SOURCE -D_FILE_OFFSET_BITS=64',
    optimize='-O2',
    cppflags='-D_REENTRANT -D_GNU_SOURCE -fno-strict-aliasing -pipe -fstack-protector -I/usr/local/include'
    ccversion='', gccversion='4.4.4', gccosandvers=''
    intsize=4, longsize=8, ptrsize=8, doublesize=8, byteorder=12345678
    d_longlong=define, longlongsize=8, d_longdbl=define, longdblsize=16
    ivtype='long', ivsize=8, nvtype='long double', nvsize=16, Off_t='off_t', lseeksize=8
    alignbytes=16, prototype=define
  Linker and Libraries:
    ld='cc', ldflags =' -fstack-protector -L/usr/local/lib'
    libpth=/usr/local/lib /lib /usr/lib /lib64 /usr/lib64
    libs=-lnsl -ldb -ldl -lm -lcrypt -lutil -lpthread -lc
    perllibs=-lnsl -ldl -lm -lcrypt -lutil -lpthread -lc
    libc=/lib/libc-2.11.2.so, so=so, useshrplib=false, libperl=libperl.a
    gnulibc_version='2.11.2'
  Dynamic Linking:
    dlsrc=dl_dlopen.xs, dlext=so, d_dlsymun=undef, ccdlflags='-Wl,-E'
    cccdlflags='-fPIC', lddlflags='-shared -O2 -L/usr/local/lib -fstack-protector'


Characteristics of this binary (from libperl): 
  Compile-time options: MULTIPLICITY PERL_DONT_CREATE_GVSV
                        PERL_IMPLICIT_CONTEXT PERL_MALLOC_WRAP PERL_USE_DEVEL
                        USE_64_BIT_ALL USE_64_BIT_INT USE_ITHREADS
                        USE_LARGE_FILES USE_LONG_DOUBLE USE_PERLIO
                        USE_PERL_ATOF USE_REENTRANT_API
  Built under linux
  Compiled at Aug 23 2010 11:08:01
  %ENV:
    PERL5LIB="/home/test/.cpan/build/File-Tempdir-0.02-DG5fr9/blib/arch:/home/test/.cpan/build/File-Tempdir-0.02-DG5fr9/blib/lib:/home/test/.cpan/build/Bit-Vector-7.1-rD8Dyj/blib/arch:/home/test/.cpan/build/Bit-Vector-7.1-rD8Dyj/blib/lib"
    PERL5OPT=""
    PERL5_CPANPLUS_IS_RUNNING="26764"
    PERL5_CPAN_IS_RUNNING="26764"
    PERL5_CPAN_IS_RUNNING_IN_RECURSION="27758,26764"
    PERL_CR_SMOKER_CURRENT="Devel-Ladybug-0.411"
    PERL_EXTUTILS_AUTOINSTALL="--defaultdeps"
    PERL_MM_USE_DEFAULT="1"
  @INC:
    /home/test/.cpan/build/File-Tempdir-0.02-DG5fr9/blib/arch
    /home/test/.cpan/build/File-Tempdir-0.02-DG5fr9/blib/lib
    /home/test/.cpan/build/Bit-Vector-7.1-rD8Dyj/blib/arch
    /home/test/.cpan/build/Bit-Vector-7.1-rD8Dyj/blib/lib
    /home/test/perl/lib/site_perl/5.12.1/x86_64-linux-thread-multi-ld
    /home/test/perl/lib/site_perl/5.12.1
    /home/test/perl/lib/5.12.1/x86_64-linux-thread-multi-ld
    /home/test/perl/lib/5.12.1
    .