Report for Web-Scraper-0.38

Back
From: metabase:user:553c21ce-8d47-11df-9de5-e28c4c42590d
Subject: PASS Web-Scraper-0.38 v5.24.0 GNU/Linux
Date: 2017-04-10T23:31:05Z

This distribution has been tested as part of the CPAN Testers
project, supporting the Perl programming language.  See
http://wiki.cpantesters.org/ for more information or email
questions to cpan-testers-discuss@perl.org


--
Dear MIYAGAWA,

This is a computer-generated report for Web-Scraper-0.38
on perl 5.24.0, created by App::cpanminus::reporter 0.17 (1.7043).

Thank you for uploading your work to CPAN.  Congratulations!
All tests were successful.

Sections of this report:

    * Tester comments
    * Program output
    * Prerequisites
    * Environment and other context

------------------------------
TESTER COMMENTS
------------------------------

Additional comments from tester:

none provided

------------------------------
PROGRAM OUTPUT
------------------------------

Output from '':

Building and testing Web-Scraper-0.38
cp lib/Web/Scraper.pm blib/lib/Web/Scraper.pm
cp lib/Web/Scraper/Filter.pm blib/lib/Web/Scraper/Filter.pm
cp lib/Web/Scraper/LibXML.pm blib/lib/Web/Scraper/LibXML.pm
[16:30:56] t/00_compile.t .......... ok       57 ms ( 0.00 usr  0.00 sys +  0.09 cusr  0.01 csys =  0.10 CPU)
[16:30:56] t/01_process.t .......... ok       13 ms ( 0.01 usr  0.00 sys +  0.14 cusr  0.01 csys =  0.16 CPU)
[16:30:56] t/06_define.t ........... ok       11 ms ( 0.01 usr  0.00 sys +  0.26 cusr  0.02 csys =  0.29 CPU)
[16:30:56] t/07-live.t ............. skipped: LIVE_TEST not enabled
[16:30:56] t/02_process_multi.t .... ok       27 ms ( 0.01 usr  0.00 sys +  0.51 cusr  0.05 csys =  0.57 CPU)
[16:30:56] t/03_scraper_nest.t ..... ok       29 ms ( 0.01 usr  0.01 sys +  0.66 cusr  0.07 csys =  0.75 CPU)
[16:30:56] t/04_callback.t ......... ok       31 ms ( 0.01 usr  0.01 sys +  0.80 cusr  0.09 csys =  0.91 CPU)
[16:30:56] t/05_process_first.t .... ok       32 ms ( 0.01 usr  0.01 sys +  0.95 cusr  0.11 csys =  1.08 CPU)
[16:30:57] t/08-leak.t ............. skipped: LEAK_TEST is not defined
[16:30:57] t/09-process_hash.t ..... ok       26 ms ( 0.00 usr  0.00 sys +  0.15 cusr  0.02 csys =  0.17 CPU)
[16:30:57] t/12_html.t ............. ok       16 ms ( 0.00 usr  0.00 sys +  0.29 cusr  0.03 csys =  0.32 CPU)
[16:30:57] t/11_absolute.t ......... ok       21 ms ( 0.00 usr  0.00 sys +  0.43 cusr  0.05 csys =  0.48 CPU)
[16:30:57] t/14_absolute_nested.t .. ok       17 ms ( 0.01 usr  0.00 sys +  0.41 cusr  0.04 csys =  0.46 CPU)
[16:30:57] t/15_absolute_hash.t .... ok       25 ms ( 0.01 usr  0.00 sys +  0.70 cusr  0.08 csys =  0.79 CPU)
[16:30:57] t/16_filter.t ........... ok       16 ms ( 0.00 usr  0.00 sys +  0.41 cusr  0.04 csys =  0.45 CPU)
[16:30:57] t/13_textnode.t ......... ok       11 ms ( 0.00 usr  0.00 sys +  0.12 cusr  0.01 csys =  0.13 CPU)
[16:30:57] t/17_filter_loop.t ...... ok       22 ms ( 0.00 usr  0.00 sys +  0.15 cusr  0.01 csys =  0.16 CPU)
[16:30:57] t/release-pod-syntax.t .. skipped: these tests are for release candidate testing
[16:30:57] t/18_http_response.t .... skipped: LIVE_TEST not enabled
[16:30:57] t/redefine.t ............ ok        1 ms ( 0.00 usr  0.00 sys +  0.09 cusr  0.02 csys =  0.11 CPU)
[16:30:57] t/20_comment_nodes.t .... skipped: Please upgrade HTML::TreeBuilder::XPath and HTML::TreeBuilder::LibXML modules for comment nodes supporting
[16:30:57] t/xml-simple.t .......... skipped: Test requires module 'HTML::TreeBuilder::LibXML' but it's not found
[16:30:57] t/19_decode_content.t ... skipped: LIVE_TEST not enabled
[16:30:57] t/21_html5.t ............ ok        5 ms ( 0.00 usr  0.00 sys +  0.26 cusr  0.03 csys =  0.29 CPU)
[16:30:57] t/22_filter_regex.t ..... ok       16 ms ( 0.00 usr  0.00 sys +  0.14 cusr  0.01 csys =  0.15 CPU)
[16:30:57]
All tests successful.
Files=25, Tests=42,  1 wallclock secs ( 0.06 usr  0.03 sys +  3.09 cusr  0.31 csys =  3.49 CPU)
Result: PASS

------------------------------
PREREQUISITES
------------------------------

Prerequisite modules loaded:

    No requirements found

------------------------------
ENVIRONMENT AND OTHER CONTEXT
------------------------------

Environment variables:

    HARNESS_OPTIONS = j8
    HARNESS_TIMER = 1
    LANG = en_GB.UTF-8
    PATH = /home/ioanrogers/.plenv/versions/5.24.0-clang/bin:/home/ioanrogers/.plenv/libexec:/home/ioanrogers/.plenv/plugins/perl-build/bin:/home/ioanrogers/.local/share/go/bin:/opt/perforce/bin:/home/ioanrogers/.perl6/bin:/home/ioanrogers/.plenv/shims:~/.plenv/bin::/home/ioanrogers/bin:/home/ioanrogers/.local/bin:/usr/local/bin:/usr/bin:/bin:/usr/local/sbin:/sbin:/usr/sbin:/usr/games
    PERL_CPANM_OPT = --prompt --no-man-pages --verify --mirror https://cpan.metacpan.org
    SHELL = /bin/bash
    TERM = xterm-256color

Perl special variables (and OS-specific diagnostics, for MSWin32):

    EGID = 1854000021 10 969 973 982 1854000000 1854000021 1854000040 1854100503 1854100505
    EUID = 1854000021
    EXECUTABLE_NAME = /home/ioanrogers/.plenv/versions/5.24.0-clang/bin/perl5.24.0
    GID = 1854000021 10 969 973 982 1854000000 1854000021 1854000040 1854100503 1854100505
    UID = 1854000021

Perl module toolchain versions installed:

    Module              Have    
    ------------------- --------
    CPAN                2.16    
    CPAN::Meta          2.150010
    Cwd                 3.63    
    ExtUtils::CBuilder  0.280225
    ExtUtils::Command   7.24    
    ExtUtils::Install   2.04    
    ExtUtils::MakeMaker 7.24    
    ExtUtils::Manifest  1.70    
    ExtUtils::ParseXS   3.31    
    File::Spec          3.63    
    JSON                2.90    
    JSON::PP            2.27400 
    Module::Build       0.4222  
    Module::Signature   0.81    
    Parse::CPAN::Meta   2.150010
    Test::Harness       3.39    
    Test::More          1.302078
    YAML                1.23    
    YAML::Syck          n/a     
    version             0.9917  


--

Summary of my perl5 (revision 5 version 24 subversion 0) configuration:
   
  Platform:
    osname=linux, osvers=4.5.5-300.fc24.x86_64, archname=x86_64-linux
    uname='linux ioan-desktop.test.ca2.dco.sophos 4.5.5-300.fc24.x86_64 #1 smp thu may 19 13:05:32 utc 2016 x86_64 x86_64 x86_64 gnulinux '
    config_args='-Dprefix=/home/ioanrogers/.plenv/versions/5.24.0-clang -de -Dusedevel -Dcc=clang -Doptimize=-O3 -Dccflags-march=native -flto -Dman1dir=none -Dman3dir=none -A'eval:scriptdir=/home/ioanrogers/.plenv/versions/5.24.0-clang/bin''
    hint=recommended, useposix=true, d_sigaction=define
    useithreads=undef, usemultiplicity=undef
    use64bitint=define, use64bitall=define, uselongdouble=undef
    usemymalloc=n, bincompat5005=undef
  Compiler:
    cc='clang', ccflags ='-fno-strict-aliasing -pipe -fstack-protector-strong -I/usr/local/include -D_LARGEFILE_SOURCE -D_FILE_OFFSET_BITS=64 -D_FORTIFY_SOURCE=2',
    optimize='-O3',
    cppflags='-fno-strict-aliasing -pipe -fstack-protector-strong -I/usr/local/include'
    ccversion='', gccversion='4.2.1 Compatible Clang 3.8.0 (tags/RELEASE_380/final)', gccosandvers=''
    intsize=4, longsize=8, ptrsize=8, doublesize=8, byteorder=12345678, doublekind=3
    d_longlong=define, longlongsize=8, d_longdbl=define, longdblsize=16, longdblkind=3
    ivtype='long', ivsize=8, nvtype='double', nvsize=8, Off_t='off_t', lseeksize=8
    alignbytes=8, prototype=define
  Linker and Libraries:
    ld='clang', ldflags =' -fstack-protector-strong -L/usr/local/lib'
    libpth=/usr/local/lib /usr/lib /lib/../lib64 /usr/lib/../lib64 /lib /lib64 /usr/lib64 /usr/local/lib64
    libs=-lpthread -lnsl -lgdbm -ldb -ldl -lm -lcrypt -lutil -lc -lgdbm_compat
    perllibs=-lpthread -lnsl -ldl -lm -lcrypt -lutil -lc
    libc=libc-2.23.so, so=so, useshrplib=false, libperl=libperl.a
    gnulibc_version='2.23'
  Dynamic Linking:
    dlsrc=dl_dlopen.xs, dlext=so, d_dlsymun=undef, ccdlflags='-Wl,-E'
    cccdlflags='-fPIC', lddlflags='-shared -O3 -L/usr/local/lib -fstack-protector-strong'


Characteristics of this binary (from libperl): 
  Compile-time options: HAS_TIMES PERLIO_LAYERS PERL_COPY_ON_WRITE
                        PERL_DONT_CREATE_GVSV
                        PERL_HASH_FUNC_ONE_AT_A_TIME_HARD PERL_MALLOC_WRAP
                        PERL_PRESERVE_IVUV PERL_USE_DEVEL USE_64_BIT_ALL
                        USE_64_BIT_INT USE_LARGE_FILES USE_LOCALE
                        USE_LOCALE_COLLATE USE_LOCALE_CTYPE
                        USE_LOCALE_NUMERIC USE_LOCALE_TIME USE_PERLIO
                        USE_PERL_ATOF
  Locally applied patches:
	Devel::PatchPerl 1.40
  Built under linux
  Compiled at Aug 17 2016 09:27:21
  %ENV:
    PERL_CPANM_OPT="--prompt --no-man-pages --verify --mirror https://cpan.metacpan.org"
  @INC:
    /home/ioanrogers/.plenv/versions/5.24.0-clang/lib/perl5/site_perl/5.24.0/x86_64-linux
    /home/ioanrogers/.plenv/versions/5.24.0-clang/lib/perl5/site_perl/5.24.0
    /home/ioanrogers/.plenv/versions/5.24.0-clang/lib/perl5/5.24.0/x86_64-linux
    /home/ioanrogers/.plenv/versions/5.24.0-clang/lib/perl5/5.24.0
    .