Report for lsid-perl-1.1.7

Back
From: metabase:user:30f4dfbe-2aae-11df-837a-5e0a49663a4f
Subject: PASS lsid-perl-1.1.7 v5.12.2 GNU/Linux
Date: 2011-02-16T05:58:24Z

This distribution has been tested as part of the CPAN Testers
project, supporting the Perl programming language.  See
http://wiki.cpantesters.org/ for more information or email
questions to cpan-testers-discuss@perl.org


--
Dear Edward Kawas,

This is a computer-generated report for lsid-perl-1.1.7
on perl 5.12.2 patch v5.12.2-4-g6b6803c, created by CPAN-Reporter-1.1803.

Thank you for uploading your work to CPAN.  Congratulations!
All tests were successful.

Sections of this report:

    * Tester comments
    * Program output
    * Prerequisites
    * Environment and other context

------------------------------
TESTER COMMENTS
------------------------------

Additional comments from tester:

this report is from an automated smoke testing program
and was not reviewed by a human for accuracy

------------------------------
PROGRAM OUTPUT
------------------------------

Output from '/usr/bin/make test':

/usr/local/bin/perl5.12.2 "-Iinc" Makefile.PL --config= --installdeps=XML::XPath,1.12,RDF::Core,0.30,MIME::Tools,6.106

*** Since we're running under CPANPLUS, I'll just let it take care
    of the dependency's installation later.
PERL_DL_NONLAZY=1 /usr/local/bin/perl5.12.2 "-MExtUtils::Command::MM" "-e" "test_harness(0, 'inc', 'blib/lib', 'blib/arch')" t/1.t t/Authority.t t/ID.t t/Locator.t t/WSDL01.t t/WSDL02.t t/WSDL03.t t/WSDL04.t t/WSDL05.t t/WSDL_ns01.t t/WSDL_ns02.t
t/1.t .......... ok
t/Authority.t .. ok
t/ID.t ......... ok
t/Locator.t .... ok
Use of uninitialized value in uc at /.cpan/build/lsid-perl-1.1.7-g3BgiX/blib/lib/LS/Authority/WSDL/Simple.pm line 332.
t/WSDL01.t ..... ok
Use of uninitialized value in uc at /.cpan/build/lsid-perl-1.1.7-g3BgiX/blib/lib/LS/Authority/WSDL/Simple.pm line 332.
Use of uninitialized value in uc at /.cpan/build/lsid-perl-1.1.7-g3BgiX/blib/lib/LS/Authority/WSDL/Simple.pm line 332.
t/WSDL02.t ..... ok
Use of uninitialized value in uc at /.cpan/build/lsid-perl-1.1.7-g3BgiX/blib/lib/LS/Authority/WSDL/Simple.pm line 332.
Use of uninitialized value in uc at /.cpan/build/lsid-perl-1.1.7-g3BgiX/blib/lib/LS/Authority/WSDL/Simple.pm line 332.
t/WSDL03.t ..... ok
Use of uninitialized value in uc at /.cpan/build/lsid-perl-1.1.7-g3BgiX/blib/lib/LS/Authority/WSDL/Simple.pm line 332.
Use of uninitialized value in uc at /.cpan/build/lsid-perl-1.1.7-g3BgiX/blib/lib/LS/Authority/WSDL/Simple.pm line 332.
Use of uninitialized value in uc at /.cpan/build/lsid-perl-1.1.7-g3BgiX/blib/lib/LS/Authority/WSDL/Simple.pm line 332.
t/WSDL04.t ..... ok
Use of uninitialized value in uc at /.cpan/build/lsid-perl-1.1.7-g3BgiX/blib/lib/LS/Authority/WSDL/Services.pm line 163.
t/WSDL05.t ..... ok
Use of uninitialized value in uc at /.cpan/build/lsid-perl-1.1.7-g3BgiX/blib/lib/LS/Authority/WSDL/Simple.pm line 332.
Use of uninitialized value in uc at /.cpan/build/lsid-perl-1.1.7-g3BgiX/blib/lib/LS/Authority/WSDL/Simple.pm line 332.
Use of uninitialized value in uc at /.cpan/build/lsid-perl-1.1.7-g3BgiX/blib/lib/LS/Authority/WSDL/Simple.pm line 332.
t/WSDL_ns01.t .. ok
Use of uninitialized value in uc at /.cpan/build/lsid-perl-1.1.7-g3BgiX/blib/lib/LS/Authority/WSDL/Simple.pm line 332.
Use of uninitialized value in uc at /.cpan/build/lsid-perl-1.1.7-g3BgiX/blib/lib/LS/Authority/WSDL/Simple.pm line 332.
Use of uninitialized value in uc at /.cpan/build/lsid-perl-1.1.7-g3BgiX/blib/lib/LS/Authority/WSDL/Simple.pm line 332.
t/WSDL_ns02.t .. ok
All tests successful.
Files=11, Tests=192,  2 wallclock secs ( 0.08 usr  0.02 sys +  1.53 cusr  0.22 csys =  1.85 CPU)
Result: PASS

------------------------------
PREREQUISITES
------------------------------

Prerequisite modules loaded:

requires:

    Module         Need  Have   
    -------------- ----- -------
    Carp           0     1.17   
    Compress::Zlib 1.22  2.033  
    Error          0.15  0.17016
    File::Copy     2.01  2.18   
    File::Temp     0.12  0.22   
    LWP            5.53  5.837  
    MIME::Base64   2.12  3.13   
  ! MIME::Tools    6.106 5.500  
    Net::DNS       0.28  0.66   
    Net::FTP       2.65  2.77   
    RDF::Core      0.30  0.51   
    SOAP::Lite     0.69  0.712  
    Time::HiRes    1.20  1.9721 
    URI            1.21  1.56   
    XML::XPath     1.12  1.13   


------------------------------
ENVIRONMENT AND OTHER CONTEXT
------------------------------

Environment variables:

    AUTOMATED_TESTING = 1
    LANG = en_GB.UTF-8
    PATH = /usr/bin:/bin
    PERL5LIB = /.cpan/build/RDF-Core-0.51-TBRV8g/blib/arch:/.cpan/build/RDF-Core-0.51-TBRV8g/blib/lib:/.cpan/build/XML-XPath-1.13-181FMR/blib/arch:/.cpan/build/XML-XPath-1.13-181FMR/blib/lib:/.cpan/build/MIME-tools-5.500-IGwINC/blib/arch:/.cpan/build/MIME-tools-5.500-IGwINC/blib/lib:/.cpan/build/File-ShareDir-1.03-HLnA2C/blib/arch:/.cpan/build/File-ShareDir-1.03-HLnA2C/blib/lib:/.cpan/build/Config-Simple-4.58-udFtz6/blib/arch:/.cpan/build/Config-Simple-4.58-udFtz6/blib/lib
    PERL5OPT = 
    PERL5_CPANPLUS_IS_RUNNING = 1601
    PERL5_CPAN_IS_RUNNING = 1601
    PERL5_MINISMOKEBOX = 0.40
    PERL_EXTUTILS_AUTOINSTALL = --defaultdeps
    PERL_MM_USE_DEFAULT = 1
    SHELL = /bin/sh

Perl special variables (and OS-specific diagnostics, for MSWin32):

    $^X = /usr/local/bin/perl5.12.2
    $UID/$EUID = 0 / 0
    $GID = 0 0
    $EGID = 0 0

Perl module toolchain versions installed:

    Module              Have   
    ------------------- -------
    CPAN                1.94_56
    Cwd                 3.33   
    ExtUtils::CBuilder  0.2802 
    ExtUtils::Command   1.16   
    ExtUtils::Install   1.55   
    ExtUtils::MakeMaker 6.56   
    ExtUtils::Manifest  1.57   
    ExtUtils::ParseXS   2.21   
    File::Spec          3.33   
    Module::Build       0.3607 
    Module::Signature   0.66   
    Test::Harness       3.22   
    Test::More          0.96   
    YAML                0.72   
    YAML::Syck          1.17   
    version             0.88   


--

Summary of my perl5 (revision 5 version 12 subversion 2 patch v5.12.2-4-g6b6803c) configuration:
  Snapshot of: 6b6803ca5cc042a20bd63333defdcf9b4b5a045c
  Platform:
    osname=linux, osvers=2.6.32-5-686, archname=i686-linux-thread-multi
    uname='linux gateway.bandsman.co.uk 2.6.32-5-686 #1 smp thu nov 25 18:43:34 utc 2010 i686 gnulinux '
    config_args='-des -Dusedevel -Accflags=-O2 -W -Wformat=2 -Wall -Wextra -pipe -mtune=native -march=native -fomit-frame-pointer -ffast-math -msse2 -msse -mmmx -mfpmath=sse -D_FORTIFY_SOURCE=2 -fstack-protector -Wstack-protector -Wfloat-equal -Duseithreads'
    hint=recommended, useposix=true, d_sigaction=define
    useithreads=define, usemultiplicity=define
    useperlio=define, d_sfio=undef, uselargefiles=define, usesocks=undef
    use64bitint=undef, use64bitall=undef, uselongdouble=undef
    usemymalloc=n, bincompat5005=undef
  Compiler:
    cc='cc', ccflags ='-D_REENTRANT -D_GNU_SOURCE -DDEBUGGING -O2 -W -Wformat=2 -Wall -Wextra -pipe -mtune=native -march=native -fomit-frame-pointer -ffast-math -msse2 -msse -mmmx -mfpmath=sse -D_FORTIFY_SOURCE=2 -fstack-protector -Wstack-protector -Wfloat-equal -fno-strict-aliasing -I/usr/local/include -D_LARGEFILE_SOURCE -D_FILE_OFFSET_BITS=64',
    optimize='-O2',
    cppflags='-D_REENTRANT -D_GNU_SOURCE -DDEBUGGING -O2 -W -Wformat=2 -Wall -Wextra -pipe -mtune=native -march=native -fomit-frame-pointer -ffast-math -msse2 -msse -mmmx -mfpmath=sse -D_FORTIFY_SOURCE=2 -fstack-protector -Wstack-protector -Wfloat-equal -fno-strict-aliasing -I/usr/local/include'
    ccversion='', gccversion='4.4.5', gccosandvers=''
    intsize=4, longsize=4, ptrsize=4, doublesize=8, byteorder=1234
    d_longlong=define, longlongsize=8, d_longdbl=define, longdblsize=12
    ivtype='long', ivsize=4, nvtype='double', nvsize=8, Off_t='off_t', lseeksize=8
    alignbytes=4, prototype=define
  Linker and Libraries:
    ld='cc', ldflags =' -fstack-protector -L/usr/local/lib'
    libpth=/usr/local/lib /lib /usr/lib
    libs=-lnsl -lgdbm -ldb -ldl -lm -lcrypt -lutil -lpthread -lc -lgdbm_compat
    perllibs=-lnsl -ldl -lm -lcrypt -lutil -lpthread -lc
    libc=/lib/libc-2.11.2.so, so=so, useshrplib=false, libperl=libperl.a
    gnulibc_version='2.11.2'
  Dynamic Linking:
    dlsrc=dl_dlopen.xs, dlext=so, d_dlsymun=undef, ccdlflags='-Wl,-E'
    cccdlflags='-fPIC', lddlflags='-shared -O2 -L/usr/local/lib -fstack-protector'


Characteristics of this binary (from libperl): 
  Compile-time options: DEBUGGING MULTIPLICITY PERL_DONT_CREATE_GVSV
                        PERL_IMPLICIT_CONTEXT PERL_MALLOC_WRAP
                        PERL_TRACK_MEMPOOL PERL_USE_DEVEL USE_ITHREADS
                        USE_LARGE_FILES USE_PERLIO USE_PERL_ATOF
                        USE_REENTRANT_API
  Locally applied patches:
	SMOKE6b6803ca5cc042a20bd63333defdcf9b4b5a045c
  Built under linux
  Compiled at Dec  6 2010 22:03:03
  %ENV:
    PERL5LIB="/.cpan/build/RDF-Core-0.51-TBRV8g/blib/arch:/.cpan/build/RDF-Core-0.51-TBRV8g/blib/lib:/.cpan/build/XML-XPath-1.13-181FMR/blib/arch:/.cpan/build/XML-XPath-1.13-181FMR/blib/lib:/.cpan/build/MIME-tools-5.500-IGwINC/blib/arch:/.cpan/build/MIME-tools-5.500-IGwINC/blib/lib:/.cpan/build/File-ShareDir-1.03-HLnA2C/blib/arch:/.cpan/build/File-ShareDir-1.03-HLnA2C/blib/lib:/.cpan/build/Config-Simple-4.58-udFtz6/blib/arch:/.cpan/build/Config-Simple-4.58-udFtz6/blib/lib"
    PERL5OPT=""
    PERL5_CPANPLUS_IS_RUNNING="1601"
    PERL5_CPAN_IS_RUNNING="1601"
    PERL5_MINISMOKEBOX="0.40"
    PERL_EXTUTILS_AUTOINSTALL="--defaultdeps"
    PERL_MM_USE_DEFAULT="1"
  @INC:
    /.cpan/build/RDF-Core-0.51-TBRV8g/blib/arch
    /.cpan/build/RDF-Core-0.51-TBRV8g/blib/lib
    /.cpan/build/XML-XPath-1.13-181FMR/blib/arch
    /.cpan/build/XML-XPath-1.13-181FMR/blib/lib
    /.cpan/build/MIME-tools-5.500-IGwINC/blib/arch
    /.cpan/build/MIME-tools-5.500-IGwINC/blib/lib
    /.cpan/build/File-ShareDir-1.03-HLnA2C/blib/arch
    /.cpan/build/File-ShareDir-1.03-HLnA2C/blib/lib
    /.cpan/build/Config-Simple-4.58-udFtz6/blib/arch
    /.cpan/build/Config-Simple-4.58-udFtz6/blib/lib
    /usr/local/lib/perl5/site_perl/5.12.2/i686-linux-thread-multi
    /usr/local/lib/perl5/site_perl/5.12.2
    /usr/local/lib/perl5/5.12.2/i686-linux-thread-multi
    /usr/local/lib/perl5/5.12.2
    /usr/local/lib/perl5/site_perl
    .