OpenTracing-Implementation-DataDog vv0.47.1 Perl 5 v5.41.12 x86_64-linux-ld

Status
Pass
From
Andreas J. König (ANDK)
Dist
OpenTracing-Implementation-DataDog vv0.47.1
Platform
Perl 5 v5.41.12 x86_64-linux-ld
Date
2025-05-07 06:30:28
ID
c44d3d8c-2b0c-11f0-acc4-b4d6418deac4
This distribution has been tested as part of the CPAN Testers
project, supporting the Perl programming language.  See
http://wiki.cpantesters.org/ for more information or email
questions to cpan-testers-discuss@perl.org


--
Dear Theo van Hoesel,

This is a computer-generated report for OpenTracing-Implementation-DataDog-v0.47.1
on perl 5.41.12, created by CPAN-Reporter-1.2020.

Thank you for uploading your work to CPAN.  Congratulations!
All tests were successful.

Sections of this report:

    * Tester comments
    * Program output
    * Prerequisites
    * Environment and other context

------------------------------
TESTER COMMENTS
------------------------------

Additional comments from tester:

this report is from an automated smoke testing program
and was not reviewed by a human for accuracy

------------------------------
PROGRAM OUTPUT
------------------------------

Output from '/usr/bin/make test':

PERL_DL_NONLAZY=1 "/tmp/basesmoker-reloperl-Dgnl/bin/perl" "-MExtUtils::Command::MM" "-MTest::Harness" "-e" "undef *Test::Harness::Switches; test_harness(0, 'blib/lib', 'blib/arch')" t/OpenTracing/Implementation/DataDog/*.t t/OpenTracing/Implementation/DataDog/*/*.t
t/OpenTracing/Implementation/DataDog/00_use_ok.t ................................. ok
t/OpenTracing/Implementation/DataDog/10_component.t .............................. ok
t/OpenTracing/Implementation/DataDog/Client/00_use_ok.t .......................... ok
t/OpenTracing/Implementation/DataDog/Client/10_uri.t ............................. ok
t/OpenTracing/Implementation/DataDog/Client/11_to_struct.t ....................... ok
t/OpenTracing/Implementation/DataDog/Client/12_http_post_struct_as_json.t ........ ok
t/OpenTracing/Implementation/DataDog/Client/19_client_halted.t ................... ok
t/OpenTracing/Implementation/DataDog/Client/19_send_span.t ....................... ok
t/OpenTracing/Implementation/DataDog/Scope/00_use_ok.t ........................... ok
t/OpenTracing/Implementation/DataDog/Scope/01_can_all_ok.t ....................... ok
t/OpenTracing/Implementation/DataDog/ScopeManager/01_can_all_ok.t ................ ok
t/OpenTracing/Implementation/DataDog/ScopeManager/09_build_scope.t ............... ok
t/OpenTracing/Implementation/DataDog/ScopeManager/09_build_scope_STRICT.t ........ ok
t/OpenTracing/Implementation/DataDog/ScopeManager/09_build_scope_STRICT_no.t ..... ok
t/OpenTracing/Implementation/DataDog/Span/01_can_all_ok.t ........................ ok
t/OpenTracing/Implementation/DataDog/Span/03_constructor_new.t ................... ok
t/OpenTracing/Implementation/DataDog/SpanContext/00_use_ok.t ..................... ok
t/OpenTracing/Implementation/DataDog/SpanContext/01_can_all_ok.t ................. ok
t/OpenTracing/Implementation/DataDog/SpanContext/01_constructor_new.t ............ ok
t/OpenTracing/Implementation/DataDog/SpanContext/01_constructor_new_STRICT.t ..... ok
t/OpenTracing/Implementation/DataDog/SpanContext/01_constructor_new_STRICT_no.t .. ok
t/OpenTracing/Implementation/DataDog/SpanContext/11_with_environment.t ........... ok
t/OpenTracing/Implementation/DataDog/SpanContext/11_with_hostname.t .............. ok
t/OpenTracing/Implementation/DataDog/SpanContext/11_with_resource_name.t ......... ok
t/OpenTracing/Implementation/DataDog/SpanContext/11_with_service_name.t .......... ok
t/OpenTracing/Implementation/DataDog/SpanContext/11_with_service_type.t .......... ok
t/OpenTracing/Implementation/DataDog/SpanContext/11_with_version.t ............... ok
t/OpenTracing/Implementation/DataDog/Tracer/00_use_ok.t .......................... ok
t/OpenTracing/Implementation/DataDog/Tracer/01_can_all_ok.t ...................... ok
t/OpenTracing/Implementation/DataDog/Tracer/09_build_context.t ................... ok
t/OpenTracing/Implementation/DataDog/Tracer/09_build_span.t ...................... ok
t/OpenTracing/Implementation/DataDog/Tracer/11_extract_context.t ................. ok
t/OpenTracing/Implementation/DataDog/Tracer/12_inject_context.t .................. ok
All tests successful.
Files=33, Tests=61, 11 wallclock secs ( 0.09 usr  0.05 sys +  9.92 cusr  1.60 csys = 11.66 CPU)
Result: PASS

------------------------------
PREREQUISITES
------------------------------

Prerequisite modules loaded:

requires:

    Module                        Need    Have      
    ----------------------------- ------- ----------
    aliased                       0       0.34      
    Carp                          0       1.54      
    Exporter                      0       5.79      
    Hash::Merge                   0       0.302     
    HTTP::Request                 0       7.00      
    HTTP::Response::Maker         0       0.02      
    JSON::MaybeXS                 0       1.004008  
    LWP::UserAgent                0       6.78      
    Math::BigInt::Random::OO      0       0.05      
    Moo                           0       2.005005  
    Moo::Role                     0       2.005005  
    MooX::Attribute::ENV          0.04    0.04      
    MooX::Enumeration             0       0.010     
    MooX::ProtectedAttributes     0       0.03      
    MooX::Should                  v0.1.4  v0.1.4    
    OpenTracing::Implementation   0.03    v0.33.2   
    OpenTracing::Role             v0.86.0 v0.86.1   
    PerlX::Maybe                  0       1.202     
    Ref::Util                     0       0.204     
    Regexp::Common                0       2024080801
    Regexp::Common::URI::http     0       2024080801
    Sub::HandlesVia               0       0.050002  
    Sub::Trigger::Lock            0       0.002     
    syntax                        0       0.004     
    Syntax::Feature::Maybe        0       1.202     
    Try::Tiny                     0       0.32      
    Type::Tiny::XS                0       0.025     
    Types::Common::Numeric        0       2.008002  
    Types::Common::String         0       2.008002  
    Types::Interface              0       0.002     
    Types::Standard               0       2.008002  

build_requires:

    Module                        Need    Have      
    ----------------------------- ------- ----------
    ExtUtils::MakeMaker           0       7.74      
    Ref::Util                     0       0.204     
    Test::JSON                    0       0.11      
    Test::MockModule              0       0.179.0   
    Test::Most                    0       0.38      
    Test::OpenTracing::Interface  0       v0.23.1   
    Test::URI                     0       1.087     

configure_requires:

    Module                        Need    Have      
    ----------------------------- ------- ----------
    ExtUtils::MakeMaker::CPANfile 0.09    0.09      


------------------------------
ENVIRONMENT AND OTHER CONTEXT
------------------------------

Environment variables:

    AUTOMATED_TESTING = 1
    LANG = en_US.UTF-8
    LC_ADDRESS = de_DE.UTF-8
    LC_IDENTIFICATION = de_DE.UTF-8
    LC_MEASUREMENT = de_DE.UTF-8
    LC_MONETARY = de_DE.UTF-8
    LC_NAME = de_DE.UTF-8
    LC_NUMERIC = de_DE.UTF-8
    LC_PAPER = de_DE.UTF-8
    LC_TELEPHONE = de_DE.UTF-8
    LC_TIME = de_DE.UTF-8
    PATH = /home/sand/bin:/usr/local/bin:/usr/local/sbin:/usr/sbin:/usr/bin:/sbin:/bin:/usr/games:/usr/local/games:/snap/bin:/usr/local/perl/bin:/usr/X11/bin
    PERL = /tmp/basesmoker-reloperl-Dgnl/bin/perl
    PERL5LIB = /tmp/loop_over_bdir-3651052-As6cnM/DBIx-Migration-Directories-0.12-0/blib/arch:/tmp/loop_over_bdir-3651052-As6cnM/DBIx-Migration-Directories-0.12-0/blib/lib:/tmp/loop_over_bdir-3651052-As6cnM/App-nrun-v1.1.2-0/blib/arch:/tmp/loop_over_bdir-3651052-As6cnM/App-nrun-v1.1.2-0/blib/lib:/tmp/loop_over_bdir-3651052-As6cnM/Net-Async-WebService-lxd-0.03-0/blib/arch:/tmp/loop_over_bdir-3651052-As6cnM/Net-Async-WebService-lxd-0.03-0/blib/lib:/tmp/loop_over_bdir-3651052-As6cnM/Alien-SNMP-MIBDEV-2.020000-0/blib/arch:/tmp/loop_over_bdir-3651052-As6cnM/Alien-SNMP-MIBDEV-2.020000-0/blib/lib
    PERL5OPT = 
    PERL5_CPANPLUS_IS_RUNNING = 3651065
    PERL5_CPAN_IS_RUNNING = 3651065
    PERL_CANARY_STABILITY_NOPROMPT = 1
    PERL_MM_USE_DEFAULT = 1
    PERL_USE_UNSAFE_INC = 1
    SHELL = /usr/bin/zsh
    TERM = screen

Perl special variables (and OS-specific diagnostics, for MSWin32):

    $^X = /tmp/basesmoker-reloperl-Dgnl/bin/perl
    $UID/$EUID = 1005 / 1005
    $GID = 1005 1005
    $EGID = 1005 1005

Perl module toolchain versions installed:

    Module              Have    
    ------------------- --------
    CPAN                2.38    
    CPAN::Meta          2.150010
    Cwd                 3.94    
    ExtUtils::CBuilder  0.280240
    ExtUtils::Command   7.74    
    ExtUtils::Install   2.22    
    ExtUtils::MakeMaker 7.74    
    ExtUtils::Manifest  1.75    
    ExtUtils::ParseXS   3.57    
    File::Spec          3.94    
    JSON                4.10    
    JSON::PP            4.16    
    Module::Build       0.4234  
    Module::Signature   0.89    
    Parse::CPAN::Meta   2.150010
    Test2               1.302211
    Test::Harness       3.52    
    Test::More          1.302211
    YAML                1.31    
    YAML::Syck          1.34    
    version             0.9933  


--

Summary of my perl5 (revision 5 version 41 subversion 12) configuration:
  Commit id: bc4cd0b708bd15e68ef7f85105f7edb5be1f0f58
  Platform:
    osname=linux
    osvers=6.8.0-57-generic
    archname=x86_64-linux-ld
    uname='linux k93jammy 6.8.0-57-generic #59~22.04.1-ubuntu smp preempt_dynamic wed mar 19 17:07:41 utc 2 x86_64 x86_64 x86_64 gnulinux '
    config_args='-Dprefix=/home/sand/src/perl/repoperls/installed-perls/host/k93jammy/v5.41.12/5674 -Dmyhostname=k93jammy -Dinstallusrbinperl=n -Uversiononly -Dusedevel -des -Ui_db -Dlibswanted=cl pthread socket inet nsl gdbm dbm malloc dl ld sun m crypt sec util c cposix posix ucb BSD gdbm_compat -Uuseithreads -Duselongdouble -DEBUGGING=-g'
    hint=recommended
    useposix=true
    d_sigaction=define
    useithreads=undef
    usemultiplicity=undef
    use64bitint=define
    use64bitall=define
    uselongdouble=define
    usemymalloc=n
    default_inc_excludes_dot=define
  Compiler:
    cc='cc'
    ccflags ='-fwrapv -fno-strict-aliasing -pipe -fstack-protector-strong -I/usr/local/include -D_LARGEFILE_SOURCE -D_FILE_OFFSET_BITS=64'
    optimize='-O2 -g'
    cppflags='-fwrapv -fno-strict-aliasing -pipe -fstack-protector-strong -I/usr/local/include'
    ccversion=''
    gccversion='11.4.0'
    gccosandvers=''
    intsize=4
    longsize=8
    ptrsize=8
    doublesize=8
    byteorder=12345678
    doublekind=3
    d_longlong=define
    longlongsize=8
    d_longdbl=define
    longdblsize=16
    longdblkind=3
    ivtype='long'
    ivsize=8
    nvtype='long double'
    nvsize=16
    Off_t='off_t'
    lseeksize=8
    alignbytes=16
    prototype=define
  Linker and Libraries:
    ld='cc'
    ldflags =' -fstack-protector-strong -L/usr/local/lib'
    libpth=/usr/local/lib /usr/lib/x86_64-linux-gnu /usr/lib /usr/lib64
    libs=-lpthread -lnsl -ldl -lm -lcrypt -lutil -lc
    perllibs=-lpthread -lnsl -ldl -lm -lcrypt -lutil -lc
    libc=/lib/x86_64-linux-gnu/libc.so.6
    so=so
    useshrplib=false
    libperl=libperl.a
    gnulibc_version='2.35'
  Dynamic Linking:
    dlsrc=dl_dlopen.xs
    dlext=so
    d_dlsymun=undef
    ccdlflags='-Wl,-E'
    cccdlflags='-fPIC'
    lddlflags='-shared -O2 -g -L/usr/local/lib -fstack-protector-strong'


Characteristics of this binary (from libperl): 
  Compile-time options:
    HAS_LONG_DOUBLE
    HAS_STRTOLD
    HAS_TIMES
    PERLIO_LAYERS
    PERL_COPY_ON_WRITE
    PERL_DONT_CREATE_GVSV
    PERL_HASH_FUNC_SIPHASH13
    PERL_HASH_USE_SBOX32
    PERL_MALLOC_WRAP
    PERL_OP_PARENT
    PERL_PRESERVE_IVUV
    PERL_USE_DEVEL
    PERL_USE_SAFE_PUTENV
    USE_64_BIT_ALL
    USE_64_BIT_INT
    USE_LARGE_FILES
    USE_LOCALE
    USE_LOCALE_COLLATE
    USE_LOCALE_CTYPE
    USE_LOCALE_NUMERIC
    USE_LOCALE_TIME
    USE_LONG_DOUBLE
    USE_PERLIO
    USE_PERL_ATOF
  Built under linux
  Compiled at May  3 2025 18:14:17
  %ENV:
    PERL="/tmp/basesmoker-reloperl-Dgnl/bin/perl"
    PERL5LIB="/tmp/loop_over_bdir-3651052-As6cnM/DBIx-Migration-Directories-0.12-0/blib/arch:/tmp/loop_over_bdir-3651052-As6cnM/DBIx-Migration-Directories-0.12-0/blib/lib:/tmp/loop_over_bdir-3651052-As6cnM/App-nrun-v1.1.2-0/blib/arch:/tmp/loop_over_bdir-3651052-As6cnM/App-nrun-v1.1.2-0/blib/lib:/tmp/loop_over_bdir-3651052-As6cnM/Net-Async-WebService-lxd-0.03-0/blib/arch:/tmp/loop_over_bdir-3651052-As6cnM/Net-Async-WebService-lxd-0.03-0/blib/lib:/tmp/loop_over_bdir-3651052-As6cnM/Alien-SNMP-MIBDEV-2.020000-0/blib/arch:/tmp/loop_over_bdir-3651052-As6cnM/Alien-SNMP-MIBDEV-2.020000-0/blib/lib"
    PERL5OPT=""
    PERL5_CPANPLUS_IS_RUNNING="3651065"
    PERL5_CPAN_IS_RUNNING="3651065"
    PERL_CANARY_STABILITY_NOPROMPT="1"
    PERL_MM_USE_DEFAULT="1"
    PERL_USE_UNSAFE_INC="1"
  @INC:
    /tmp/loop_over_bdir-3651052-As6cnM/DBIx-Migration-Directories-0.12-0/blib/arch
    /tmp/loop_over_bdir-3651052-As6cnM/DBIx-Migration-Directories-0.12-0/blib/lib
    /tmp/loop_over_bdir-3651052-As6cnM/App-nrun-v1.1.2-0/blib/arch
    /tmp/loop_over_bdir-3651052-As6cnM/App-nrun-v1.1.2-0/blib/lib
    /tmp/loop_over_bdir-3651052-As6cnM/Net-Async-WebService-lxd-0.03-0/blib/arch
    /tmp/loop_over_bdir-3651052-As6cnM/Net-Async-WebService-lxd-0.03-0/blib/lib
    /tmp/loop_over_bdir-3651052-As6cnM/Alien-SNMP-MIBDEV-2.020000-0/blib/arch
    /tmp/loop_over_bdir-3651052-As6cnM/Alien-SNMP-MIBDEV-2.020000-0/blib/lib
    /home/sand/src/perl/repoperls/installed-perls/host/k93jammy/v5.41.12/5674/lib/site_perl/5.41.12/x86_64-linux-ld
    /home/sand/src/perl/repoperls/installed-perls/host/k93jammy/v5.41.12/5674/lib/site_perl/5.41.12
    /home/sand/src/perl/repoperls/installed-perls/host/k93jammy/v5.41.12/5674/lib/5.41.12/x86_64-linux-ld
    /home/sand/src/perl/repoperls/installed-perls/host/k93jammy/v5.41.12/5674/lib/5.41.12
    .