Catalyst-Authentication-Credential-RemoteHTTP v0.05 Perl 5 v5.37.11 x86_64-linux-ld

Status
Pass
From
Andreas J. König (ANDK)
Dist
Catalyst-Authentication-Credential-RemoteHTTP v0.05
Platform
Perl 5 v5.37.11 x86_64-linux-ld
Date
2023-04-27 11:22:17
ID
c45efeb2-e4ed-11ed-9d78-17e51a637507
This distribution has been tested as part of the CPAN Testers
project, supporting the Perl programming language.  See
http://wiki.cpantesters.org/ for more information or email
questions to cpan-testers-discuss@perl.org


--
Dear Nigel Metheringham,

This is a computer-generated report for Catalyst-Authentication-Credential-RemoteHTTP-0.05
on perl 5.37.11, created by CPAN-Reporter-1.2018.

Thank you for uploading your work to CPAN.  Congratulations!
All tests were successful.

Sections of this report:

    * Tester comments
    * Program output
    * Prerequisites
    * Environment and other context

------------------------------
TESTER COMMENTS
------------------------------

Additional comments from tester:

this report is from an automated smoke testing program
and was not reviewed by a human for accuracy

------------------------------
PROGRAM OUTPUT
------------------------------

Output from './Build test':

t/00-compile.t ............... ok
# Testing Catalyst::Authentication::Credential::RemoteHTTP 0.05, Perl 5.037011, /tmp/basesmoker-reloperl-9NH6/bin/perl
t/00-load.t .................. ok
# Testing with Perl 5.037011, /tmp/basesmoker-reloperl-9NH6/bin/perl
#     Carp version is 1.54
#     Catalyst version is 5.90130
#     Catalyst::Authentication::Store::Minimal version is undefined
#     Catalyst::Controller version is undefined
#     Catalyst::Exception version is undefined
#     Catalyst::Test version is undefined
#     English version is 1.11
#     File::Find version is 1.43
#     File::Temp version is 0.2311
#     HTTP::Server::Simple version is 0.52
#     HTTP::Server::Simple::CGI version is undefined
#     IO::Socket::INET version is 1.51
#     LWP::UserAgent version is 6.68
#     MIME::Base64 version is 3.16
#     Module::Build version is 0.4232
#     Moose version is 2.2203
#     MooseX::Types::Moose version is 0.50
#     Scalar::Util version is 1.63
#     Test::Exception version is 0.43
#     Test::More version is 1.302194
#     base version is 2.27
#     namespace::autoclean version is 0.29
#     strict version is 1.12
#     warnings version is 1.64
t/000-report-versions.t ...... ok
t/author-critic.t ............ skipped: these tests are for testing by the author
t/author-pod-spell.t ......... skipped: these tests are for testing by the author
t/live.t ..................... ok
t/release-dist-manifest.t .... skipped: these tests are for release candidate testing
t/release-distmeta.t ......... skipped: these tests are for release candidate testing
t/release-eol.t .............. skipped: these tests are for release candidate testing
t/release-has-version.t ...... skipped: these tests are for release candidate testing
t/release-kwalitee.t ......... skipped: these tests are for release candidate testing
t/release-minimum-version.t .. skipped: these tests are for release candidate testing
t/release-no-tabs.t .......... skipped: these tests are for release candidate testing
t/release-pod-coverage.t ..... skipped: these tests are for release candidate testing
t/release-pod-syntax.t ....... skipped: these tests are for release candidate testing
t/release-portability.t ...... skipped: these tests are for release candidate testing
t/release-synopsis.t ......... skipped: these tests are for release candidate testing
t/release-unused-vars.t ...... skipped: these tests are for release candidate testing
All tests successful.
Files=18, Tests=43,  4 wallclock secs ( 0.05 usr  0.02 sys +  2.35 cusr  0.41 csys =  2.83 CPU)
Result: PASS

------------------------------
PREREQUISITES
------------------------------

Prerequisite modules loaded:

requires:

    Module                                   Need     Have    
    ---------------------------------------- -------- --------
    base                                     0        2.27    
    Catalyst::Exception                      0        0       
    LWP::UserAgent                           0        6.68    
    Moose                                    0        2.2203  
    MooseX::Types::Moose                     0        0.50    
    namespace::autoclean                     0        0.29    
    perl                                     5.008005 5.037011
    strict                                   0        1.12    
    warnings                                 0        1.64    

build_requires:

    Module                                   Need     Have    
    ---------------------------------------- -------- --------
    Carp                                     0        1.54    
    Catalyst                                 0        5.90130 
    Catalyst::Authentication::Store::Minimal 0        0       
    Catalyst::Controller                     0        0       
    Catalyst::Test                           0        0       
    English                                  0        1.11    
    File::Find                               0        1.43    
    File::Temp                               0        0.2311  
    HTTP::Server::Simple                     0        0.52    
    HTTP::Server::Simple::CGI                0        0       
    IO::Socket::INET                         0        1.51    
    MIME::Base64                             0        3.16    
    Module::Build                            0.3601   0.4232  
    Scalar::Util                             0        1.63    
    Test::Exception                          0        0.43    
    Test::More                               0.94     1.302194

configure_requires:

    Module                                   Need     Have    
    ---------------------------------------- -------- --------
    Module::Build                            0.3601   0.4232  


------------------------------
ENVIRONMENT AND OTHER CONTEXT
------------------------------

Environment variables:

    AUTOMATED_TESTING = 1
    LANG = en_US.UTF-8
    LC_ADDRESS = de_DE.UTF-8
    LC_IDENTIFICATION = de_DE.UTF-8
    LC_MEASUREMENT = de_DE.UTF-8
    LC_MONETARY = de_DE.UTF-8
    LC_NAME = de_DE.UTF-8
    LC_NUMERIC = de_DE.UTF-8
    LC_PAPER = de_DE.UTF-8
    LC_TELEPHONE = de_DE.UTF-8
    LC_TIME = de_DE.UTF-8
    PATH = /home/sand/bin:/usr/local/bin:/usr/local/sbin:/usr/sbin:/usr/bin:/sbin:/bin:/usr/games:/usr/local/games:/snap/bin:/usr/local/perl/bin:/usr/X11/bin
    PERL = /tmp/basesmoker-reloperl-9NH6/bin/perl
    PERL5LIB = /tmp/loop_over_bdir-1128535-bh7ZiA/Lingua-YaTeA-0.626-0/blib/arch:/tmp/loop_over_bdir-1128535-bh7ZiA/Lingua-YaTeA-0.626-0/blib/lib:/tmp/loop_over_bdir-1128535-bh7ZiA/Simulation-Automate-1.0.1-0/blib/arch:/tmp/loop_over_bdir-1128535-bh7ZiA/Simulation-Automate-1.0.1-0/blib/lib:/tmp/loop_over_bdir-1128535-bh7ZiA/Alien-SNMP-MIBDEV-2.020000-0/blib/arch:/tmp/loop_over_bdir-1128535-bh7ZiA/Alien-SNMP-MIBDEV-2.020000-0/blib/lib:/tmp/loop_over_bdir-1128535-bh7ZiA/dta-tokwrap-0.98-0/blib/arch:/tmp/loop_over_bdir-1128535-bh7ZiA/dta-tokwrap-0.98-0/blib/lib:/tmp/loop_over_bdir-1128535-bh7ZiA/Dpkg-1.21.19-0/blib/arch:/tmp/loop_over_bdir-1128535-bh7ZiA/Dpkg-1.21.19-0/blib/lib:/tmp/loop_over_bdir-1128535-bh7ZiA/EJBCA-CrlPublish-0.60-0/blib/arch:/tmp/loop_over_bdir-1128535-bh7ZiA/EJBCA-CrlPublish-0.60-0/blib/lib:/tmp/loop_over_bdir-1128535-bh7ZiA/Devel-Required-0.16-0/blib/arch:/tmp/loop_over_bdir-1128535-bh7ZiA/Devel-Required-0.16-0/blib/lib:/tmp/loop_over_bdir-1128535-bh7ZiA/Debian-Packages-0.03-0/blib/arch:/tmp/loop_over_bdir-1128535-bh7ZiA/Debian-Packages-0.03-0/blib/lib:/tmp/loop_over_bdir-1128535-bh7ZiA/Mail-SPF-v2.9.0-0/blib/arch:/tmp/loop_over_bdir-1128535-bh7ZiA/Mail-SPF-v2.9.0-0/blib/lib
    PERL5OPT = 
    PERL5_CPANPLUS_IS_RUNNING = 1128544
    PERL5_CPAN_IS_RUNNING = 1128544
    PERL_CANARY_STABILITY_NOPROMPT = 1
    PERL_MM_USE_DEFAULT = 1
    PERL_USE_UNSAFE_INC = 1
    SHELL = /usr/bin/zsh
    TERM = screen

Perl special variables (and OS-specific diagnostics, for MSWin32):

    $^X = /tmp/basesmoker-reloperl-9NH6/bin/perl
    $UID/$EUID = 1005 / 1005
    $GID = 1005 1005
    $EGID = 1005 1005

Perl module toolchain versions installed:

    Module              Have    
    ------------------- --------
    CPAN                2.34    
    CPAN::Meta          2.150010
    Cwd                 3.89    
    ExtUtils::CBuilder  0.280238
    ExtUtils::Command   7.70    
    ExtUtils::Install   2.22    
    ExtUtils::MakeMaker 7.70    
    ExtUtils::Manifest  1.73    
    ExtUtils::ParseXS   3.50    
    File::Spec          3.88    
    JSON                4.10    
    JSON::PP            4.16    
    Module::Build       0.4232  
    Module::Signature   0.88    
    Parse::CPAN::Meta   2.150010
    Test::Harness       3.44    
    Test::More          1.302194
    YAML                1.30    
    YAML::Syck          1.34    
    version             0.9929  


--

Summary of my perl5 (revision 5 version 37 subversion 11) configuration:
  Commit id: f94aafcf7b0649f7058ce2679b1be428d0b1bca8
  Platform:
    osname=linux
    osvers=5.19.0-38-generic
    archname=x86_64-linux-ld
    uname='linux k93jammy 5.19.0-38-generic #39~22.04.1-ubuntu smp preempt_dynamic fri mar 17 21:16:15 utc 2 x86_64 x86_64 x86_64 gnulinux '
    config_args='-Dprefix=/home/sand/src/perl/repoperls/installed-perls/host/k93jammy/v5.37.11/5674 -Dmyhostname=k93jammy -Dinstallusrbinperl=n -Uversiononly -Dusedevel -des -Ui_db -Dlibswanted=cl pthread socket inet nsl gdbm dbm malloc dl ld sun m crypt sec util c cposix posix ucb BSD gdbm_compat -Uuseithreads -Duselongdouble -DEBUGGING=-g'
    hint=recommended
    useposix=true
    d_sigaction=define
    useithreads=undef
    usemultiplicity=undef
    use64bitint=define
    use64bitall=define
    uselongdouble=define
    usemymalloc=n
    default_inc_excludes_dot=define
  Compiler:
    cc='cc'
    ccflags ='-fwrapv -fno-strict-aliasing -pipe -fstack-protector-strong -I/usr/local/include -D_LARGEFILE_SOURCE -D_FILE_OFFSET_BITS=64'
    optimize='-O2 -g'
    cppflags='-fwrapv -fno-strict-aliasing -pipe -fstack-protector-strong -I/usr/local/include'
    ccversion=''
    gccversion='11.3.0'
    gccosandvers=''
    intsize=4
    longsize=8
    ptrsize=8
    doublesize=8
    byteorder=12345678
    doublekind=3
    d_longlong=define
    longlongsize=8
    d_longdbl=define
    longdblsize=16
    longdblkind=3
    ivtype='long'
    ivsize=8
    nvtype='long double'
    nvsize=16
    Off_t='off_t'
    lseeksize=8
    alignbytes=16
    prototype=define
  Linker and Libraries:
    ld='cc'
    ldflags =' -fstack-protector-strong -L/usr/local/lib'
    libpth=/usr/local/lib /usr/lib/x86_64-linux-gnu /usr/lib /usr/lib64
    libs=-lpthread -lnsl -ldl -lm -lcrypt -lutil -lc
    perllibs=-lpthread -lnsl -ldl -lm -lcrypt -lutil -lc
    libc=/lib/x86_64-linux-gnu/libc.so.6
    so=so
    useshrplib=false
    libperl=libperl.a
    gnulibc_version='2.35'
  Dynamic Linking:
    dlsrc=dl_dlopen.xs
    dlext=so
    d_dlsymun=undef
    ccdlflags='-Wl,-E'
    cccdlflags='-fPIC'
    lddlflags='-shared -O2 -g -L/usr/local/lib -fstack-protector-strong'


Characteristics of this binary (from libperl): 
  Compile-time options:
    HAS_LONG_DOUBLE
    HAS_STRTOLD
    HAS_TIMES
    PERLIO_LAYERS
    PERL_COPY_ON_WRITE
    PERL_DONT_CREATE_GVSV
    PERL_HASH_FUNC_SIPHASH13
    PERL_HASH_USE_SBOX32
    PERL_MALLOC_WRAP
    PERL_OP_PARENT
    PERL_PRESERVE_IVUV
    PERL_USE_DEVEL
    PERL_USE_SAFE_PUTENV
    USE_64_BIT_ALL
    USE_64_BIT_INT
    USE_LARGE_FILES
    USE_LOCALE
    USE_LOCALE_COLLATE
    USE_LOCALE_CTYPE
    USE_LOCALE_NUMERIC
    USE_LOCALE_TIME
    USE_LONG_DOUBLE
    USE_PERLIO
    USE_PERL_ATOF
  Built under linux
  Compiled at Apr 23 2023 19:59:22
  %ENV:
    PERL="/tmp/basesmoker-reloperl-9NH6/bin/perl"
    PERL5LIB="/tmp/loop_over_bdir-1128535-bh7ZiA/Lingua-YaTeA-0.626-0/blib/arch:/tmp/loop_over_bdir-1128535-bh7ZiA/Lingua-YaTeA-0.626-0/blib/lib:/tmp/loop_over_bdir-1128535-bh7ZiA/Simulation-Automate-1.0.1-0/blib/arch:/tmp/loop_over_bdir-1128535-bh7ZiA/Simulation-Automate-1.0.1-0/blib/lib:/tmp/loop_over_bdir-1128535-bh7ZiA/Alien-SNMP-MIBDEV-2.020000-0/blib/arch:/tmp/loop_over_bdir-1128535-bh7ZiA/Alien-SNMP-MIBDEV-2.020000-0/blib/lib:/tmp/loop_over_bdir-1128535-bh7ZiA/dta-tokwrap-0.98-0/blib/arch:/tmp/loop_over_bdir-1128535-bh7ZiA/dta-tokwrap-0.98-0/blib/lib:/tmp/loop_over_bdir-1128535-bh7ZiA/Dpkg-1.21.19-0/blib/arch:/tmp/loop_over_bdir-1128535-bh7ZiA/Dpkg-1.21.19-0/blib/lib:/tmp/loop_over_bdir-1128535-bh7ZiA/EJBCA-CrlPublish-0.60-0/blib/arch:/tmp/loop_over_bdir-1128535-bh7ZiA/EJBCA-CrlPublish-0.60-0/blib/lib:/tmp/loop_over_bdir-1128535-bh7ZiA/Devel-Required-0.16-0/blib/arch:/tmp/loop_over_bdir-1128535-bh7ZiA/Devel-Required-0.16-0/blib/lib:/tmp/loop_over_bdir-1128535-bh7ZiA/Debian-Packages-0.03-0/blib/arch:/tmp/loop_over_bdir-1128535-bh7ZiA/Debian-Packages-0.03-0/blib/lib:/tmp/loop_over_bdir-1128535-bh7ZiA/Mail-SPF-v2.9.0-0/blib/arch:/tmp/loop_over_bdir-1128535-bh7ZiA/Mail-SPF-v2.9.0-0/blib/lib"
    PERL5OPT=""
    PERL5_CPANPLUS_IS_RUNNING="1128544"
    PERL5_CPAN_IS_RUNNING="1128544"
    PERL_CANARY_STABILITY_NOPROMPT="1"
    PERL_MM_USE_DEFAULT="1"
    PERL_USE_UNSAFE_INC="1"
  @INC:
    /tmp/loop_over_bdir-1128535-bh7ZiA/Lingua-YaTeA-0.626-0/blib/arch
    /tmp/loop_over_bdir-1128535-bh7ZiA/Lingua-YaTeA-0.626-0/blib/lib
    /tmp/loop_over_bdir-1128535-bh7ZiA/Simulation-Automate-1.0.1-0/blib/arch
    /tmp/loop_over_bdir-1128535-bh7ZiA/Simulation-Automate-1.0.1-0/blib/lib
    /tmp/loop_over_bdir-1128535-bh7ZiA/Alien-SNMP-MIBDEV-2.020000-0/blib/arch
    /tmp/loop_over_bdir-1128535-bh7ZiA/Alien-SNMP-MIBDEV-2.020000-0/blib/lib
    /tmp/loop_over_bdir-1128535-bh7ZiA/dta-tokwrap-0.98-0/blib/arch
    /tmp/loop_over_bdir-1128535-bh7ZiA/dta-tokwrap-0.98-0/blib/lib
    /tmp/loop_over_bdir-1128535-bh7ZiA/Dpkg-1.21.19-0/blib/arch
    /tmp/loop_over_bdir-1128535-bh7ZiA/Dpkg-1.21.19-0/blib/lib
    /tmp/loop_over_bdir-1128535-bh7ZiA/EJBCA-CrlPublish-0.60-0/blib/arch
    /tmp/loop_over_bdir-1128535-bh7ZiA/EJBCA-CrlPublish-0.60-0/blib/lib
    /tmp/loop_over_bdir-1128535-bh7ZiA/Devel-Required-0.16-0/blib/arch
    /tmp/loop_over_bdir-1128535-bh7ZiA/Devel-Required-0.16-0/blib/lib
    /tmp/loop_over_bdir-1128535-bh7ZiA/Debian-Packages-0.03-0/blib/arch
    /tmp/loop_over_bdir-1128535-bh7ZiA/Debian-Packages-0.03-0/blib/lib
    /tmp/loop_over_bdir-1128535-bh7ZiA/Mail-SPF-v2.9.0-0/blib/arch
    /tmp/loop_over_bdir-1128535-bh7ZiA/Mail-SPF-v2.9.0-0/blib/lib
    /home/sand/src/perl/repoperls/installed-perls/host/k93jammy/v5.37.11/5674/lib/site_perl/5.37.11/x86_64-linux-ld
    /home/sand/src/perl/repoperls/installed-perls/host/k93jammy/v5.37.11/5674/lib/site_perl/5.37.11
    /home/sand/src/perl/repoperls/installed-perls/host/k93jammy/v5.37.11/5674/lib/5.37.11/x86_64-linux-ld
    /home/sand/src/perl/repoperls/installed-perls/host/k93jammy/v5.37.11/5674/lib/5.37.11
    .