Catalyst-View-HTML-Zoom v0.003 Perl 5 v5.37.2 x86_64-linux-ld

Status
Pass
From
Andreas J. König (ANDK)
Dist
Catalyst-View-HTML-Zoom v0.003
Platform
Perl 5 v5.37.2 x86_64-linux-ld
Date
2022-08-13 12:38:00
ID
c4638d6e-1b04-11ed-a160-b55c1a63211c
This distribution has been tested as part of the CPAN Testers
project, supporting the Perl programming language.  See
http://wiki.cpantesters.org/ for more information or email
questions to cpan-testers-discuss@perl.org


--
Dear Oliver Charles,

This is a computer-generated report for Catalyst-View-HTML-Zoom-0.003
on perl 5.37.2, created by CPAN-Reporter-1.2018.

Thank you for uploading your work to CPAN.  Congratulations!
All tests were successful.

Sections of this report:

    * Tester comments
    * Program output
    * Prerequisites
    * Environment and other context

------------------------------
TESTER COMMENTS
------------------------------

Additional comments from tester:

this report is from an automated smoke testing program
and was not reviewed by a human for accuracy

------------------------------
PROGRAM OUTPUT
------------------------------

Output from '/usr/bin/make test':

PERL_DL_NONLAZY=1 "/tmp/basesmoker-reloperl-bTn0/bin/perl" "-MExtUtils::Command::MM" "-MTest::Harness" "-e" "undef *Test::Harness::Switches; test_harness(0, 'blib/lib', 'blib/arch')" t/*.t
t/00-load.t ............... ok
t/author-pod-coverage.t ... skipped: these tests are for testing by the author
t/author-pod.t ............ skipped: these tests are for testing by the author
Class::MOP::load_class is deprecated at /home/sand/src/perl/repoperls/installed-perls/host/k93focal/v5.37.2/d3e4/lib/site_perl/5.37.2/x86_64-linux-ld/Class/MOP.pm line 69, <ARGV> line 1.
	Class::MOP::load_class("TestAppAltRoot::View::HTML::Root") called at /tmp/loop_over_bdir-368726-nanjwu/Catalyst-View-HTML-Zoom-0.003-0/blib/lib/Catalyst/View/HTML/Zoom.pm line 138
	Catalyst::View::HTML::Zoom::_zoomer_class_from_context(TestAppAltRoot::View::HTML=HASH(0x56214a665f08), TestAppAltRoot=HASH(0x56214a7a2060)) called at /tmp/loop_over_bdir-368726-nanjwu/Catalyst-View-HTML-Zoom-0.003-0/blib/lib/Catalyst/View/HTML/Zoom.pm line 90
	Catalyst::View::HTML::Zoom::_build_renderer_from_zoomer_class(TestAppAltRoot::View::HTML=HASH(0x56214a665f08), TestAppAltRoot=HASH(0x56214a7a2060)) called at /tmp/loop_over_bdir-368726-nanjwu/Catalyst-View-HTML-Zoom-0.003-0/blib/lib/Catalyst/View/HTML/Zoom.pm line 76
	Catalyst::View::HTML::Zoom::_build_renderer_from(TestAppAltRoot::View::HTML=HASH(0x56214a665f08), TestAppAltRoot=HASH(0x56214a7a2060), undef) called at /tmp/loop_over_bdir-368726-nanjwu/Catalyst-View-HTML-Zoom-0.003-0/blib/lib/Catalyst/View/HTML/Zoom.pm line 67
	Catalyst::View::HTML::Zoom::render(TestAppAltRoot::View::HTML=HASH(0x56214a665f08), TestAppAltRoot=HASH(0x56214a7a2060), "/main") called at /tmp/loop_over_bdir-368726-nanjwu/Catalyst-View-HTML-Zoom-0.003-0/blib/lib/Catalyst/View/HTML/Zoom.pm line 41
	Catalyst::View::HTML::Zoom::process(TestAppAltRoot::View::HTML=HASH(0x56214a665f08), TestAppAltRoot=HASH(0x56214a7a2060)) called at /home/sand/src/perl/repoperls/installed-perls/host/k93focal/v5.37.2/d3e4/lib/site_perl/5.37.2/Catalyst/Action.pm line 369
	Catalyst::Action::execute(Catalyst::Action=HASH(0x56214a7feab8), TestAppAltRoot::View::HTML=HASH(0x56214a665f08), TestAppAltRoot=HASH(0x56214a7a2060)) called at /home/sand/src/perl/repoperls/installed-perls/host/k93focal/v5.37.2/d3e4/lib/site_perl/5.37.2/Catalyst.pm line 2060
	eval {...} called at /home/sand/src/perl/repoperls/installed-perls/host/k93focal/v5.37.2/d3e4/lib/site_perl/5.37.2/Catalyst.pm line 2060
	Catalyst::execute(TestAppAltRoot=HASH(0x56214a7a2060), "TestAppAltRoot::View::HTML", Catalyst::Action=HASH(0x56214a7feab8)) called at /home/sand/src/perl/repoperls/installed-perls/host/k93focal/v5.37.2/d3e4/lib/site_perl/5.37.2/Catalyst/Action.pm line 364
	Catalyst::Action::dispatch(Catalyst::Action=HASH(0x56214a7feab8), TestAppAltRoot=HASH(0x56214a7a2060)) called at /home/sand/src/perl/repoperls/installed-perls/host/k93focal/v5.37.2/d3e4/lib/site_perl/5.37.2/Catalyst/Dispatcher.pm line 261
	Catalyst::Dispatcher::_do_forward(Catalyst::Dispatcher=HASH(0x56214950b0b8), "forward", TestAppAltRoot=HASH(0x56214a7a2060), TestAppAltRoot::View::HTML=HASH(0x56214a665f08)) called at /home/sand/src/perl/repoperls/installed-perls/host/k93focal/v5.37.2/d3e4/lib/site_perl/5.37.2/Catalyst/Dispatcher.pm line 241
	Catalyst::Dispatcher::forward(Catalyst::Dispatcher=HASH(0x56214950b0b8), TestAppAltRoot=HASH(0x56214a7a2060), TestAppAltRoot::View::HTML=HASH(0x56214a665f08)) called at /home/sand/src/perl/repoperls/installed-perls/host/k93focal/v5.37.2/d3e4/lib/site_perl/5.37.2/Catalyst.pm line 482
	Catalyst::forward(TestAppAltRoot=HASH(0x56214a7a2060), TestAppAltRoot::View::HTML=HASH(0x56214a665f08)) called at /home/sand/src/perl/repoperls/installed-perls/host/k93focal/v5.37.2/d3e4/lib/site_perl/5.37.2/Catalyst/Action/RenderView.pm line 57
	Catalyst::Action::RenderView::execute(Catalyst::Action::RenderView=HASH(0x56214a6b7d80), TestAppAltRoot::Controller::Root=HASH(0x56214a665d40), TestAppAltRoot=HASH(0x56214a7a2060)) called at /home/sand/src/perl/repoperls/installed-perls/host/k93focal/v5.37.2/d3e4/lib/site_perl/5.37.2/Catalyst.pm line 2060
	eval {...} called at /home/sand/src/perl/repoperls/installed-perls/host/k93focal/v5.37.2/d3e4/lib/site_perl/5.37.2/Catalyst.pm line 2060
	Catalyst::execute(TestAppAltRoot=HASH(0x56214a7a2060), "TestAppAltRoot::Controller::Root", Catalyst::Action::RenderView=HASH(0x56214a6b7d80)) called at /home/sand/src/perl/repoperls/installed-perls/host/k93focal/v5.37.2/d3e4/lib/site_perl/5.37.2/Catalyst/Action.pm line 364
	Catalyst::Action::dispatch(Catalyst::Action::RenderView=HASH(0x56214a6b7d80), TestAppAltRoot=HASH(0x56214a7a2060)) called at /home/sand/src/perl/repoperls/installed-perls/host/k93focal/v5.37.2/d3e4/lib/site_perl/5.37.2/Catalyst/Controller.pm line 188
	Catalyst::Controller::_END(TestAppAltRoot::Controller::Root=HASH(0x56214a665d40), TestAppAltRoot=HASH(0x56214a7a2060)) called at /home/sand/src/perl/repoperls/installed-perls/host/k93focal/v5.37.2/d3e4/lib/site_perl/5.37.2/Catalyst/Action.pm line 369
	Catalyst::Action::execute(Catalyst::Action=HASH(0x56214a6b4138), TestAppAltRoot::Controller::Root=HASH(0x56214a665d40), TestAppAltRoot=HASH(0x56214a7a2060)) called at /home/sand/src/perl/repoperls/installed-perls/host/k93focal/v5.37.2/d3e4/lib/site_perl/5.37.2/Catalyst.pm line 2060
	eval {...} called at /home/sand/src/perl/repoperls/installed-perls/host/k93focal/v5.37.2/d3e4/lib/site_perl/5.37.2/Catalyst.pm line 2060
	Catalyst::execute(TestAppAltRoot=HASH(0x56214a7a2060), "TestAppAltRoot::Controller::Root", Catalyst::Action=HASH(0x56214a6b4138)) called at /home/sand/src/perl/repoperls/installed-perls/host/k93focal/v5.37.2/d3e4/lib/site_perl/5.37.2/Catalyst/Action.pm line 364
	Catalyst::Action::dispatch(Catalyst::Action=HASH(0x56214a6b4138), TestAppAltRoot=HASH(0x56214a7a2060)) called at /home/sand/src/perl/repoperls/installed-perls/host/k93focal/v5.37.2/d3e4/lib/site_perl/5.37.2/Catalyst/Dispatcher.pm line 261
	Catalyst::Dispatcher::_do_forward(Catalyst::Dispatcher=HASH(0x56214950b0b8), "forward", TestAppAltRoot=HASH(0x56214a7a2060), "_END") called at /home/sand/src/perl/repoperls/installed-perls/host/k93focal/v5.37.2/d3e4/lib/site_perl/5.37.2/Catalyst/Dispatcher.pm line 241
	Catalyst::Dispatcher::forward(Catalyst::Dispatcher=HASH(0x56214950b0b8), TestAppAltRoot=HASH(0x56214a7a2060), "_END") called at /home/sand/src/perl/repoperls/installed-perls/host/k93focal/v5.37.2/d3e4/lib/site_perl/5.37.2/Catalyst.pm line 482
	Catalyst::forward(TestAppAltRoot=HASH(0x56214a7a2060), "_END") called at /home/sand/src/perl/repoperls/installed-perls/host/k93focal/v5.37.2/d3e4/lib/site_perl/5.37.2/Catalyst/Controller.pm line 137
	Catalyst::Controller::_DISPATCH(TestAppAltRoot::Controller::Root=HASH(0x56214a665d40), TestAppAltRoot=HASH(0x56214a7a2060)) called at /home/sand/src/perl/repoperls/installed-perls/host/k93focal/v5.37.2/d3e4/lib/site_perl/5.37.2/Catalyst/Action.pm line 369
	Catalyst::Action::execute(Catalyst::Action=HASH(0x56214a580a18), TestAppAltRoot::Controller::Root=HASH(0x56214a665d40), TestAppAltRoot=HASH(0x56214a7a2060)) called at /home/sand/src/perl/repoperls/installed-perls/host/k93focal/v5.37.2/d3e4/lib/site_perl/5.37.2/Catalyst.pm line 2060
	eval {...} called at /home/sand/src/perl/repoperls/installed-perls/host/k93focal/v5.37.2/d3e4/lib/site_perl/5.37.2/Catalyst.pm line 2060
	Catalyst::execute(TestAppAltRoot=HASH(0x56214a7a2060), "TestAppAltRoot::Controller::Root", Catalyst::Action=HASH(0x56214a580a18)) called at /home/sand/src/perl/repoperls/installed-perls/host/k93focal/v5.37.2/d3e4/lib/site_perl/5.37.2/Catalyst/Action.pm line 364
	Catalyst::Action::dispatch(Catalyst::Action=HASH(0x56214a580a18), TestAppAltRoot=HASH(0x56214a7a2060)) called at /home/sand/src/perl/repoperls/installed-perls/host/k93focal/v5.37.2/d3e4/lib/site_perl/5.37.2/Catalyst/Dispatcher.pm line 261
	Catalyst::Dispatcher::_do_forward(Catalyst::Dispatcher=HASH(0x56214950b0b8), "forward", TestAppAltRoot=HASH(0x56214a7a2060), "//_DISPATCH") called at /home/sand/src/perl/repoperls/installed-perls/host/k93focal/v5.37.2/d3e4/lib/site_perl/5.37.2/Catalyst/Dispatcher.pm line 241
	Catalyst::Dispatcher::forward(Catalyst::Dispatcher=HASH(0x56214950b0b8), TestAppAltRoot=HASH(0x56214a7a2060), "//_DISPATCH") called at /home/sand/src/perl/repoperls/installed-perls/host/k93focal/v5.37.2/d3e4/lib/site_perl/5.37.2/Catalyst.pm line 482
	Catalyst::forward(TestAppAltRoot=HASH(0x56214a7a2060), "//_DISPATCH") called at /home/sand/src/perl/repoperls/installed-perls/host/k93focal/v5.37.2/d3e4/lib/site_perl/5.37.2/Catalyst/Dispatcher.pm line 107
	Catalyst::Dispatcher::dispatch(Catalyst::Dispatcher=HASH(0x56214950b0b8), TestAppAltRoot=HASH(0x56214a7a2060)) called at /home/sand/src/perl/repoperls/installed-perls/host/k93focal/v5.37.2/d3e4/lib/site_perl/5.37.2/Catalyst.pm line 2006
	Catalyst::dispatch(TestAppAltRoot=HASH(0x56214a7a2060)) called at /home/sand/src/perl/repoperls/installed-perls/host/k93focal/v5.37.2/d3e4/lib/site_perl/5.37.2/x86_64-linux-ld/Class/MOP/Method/Wrapped.pm line 56
	TestAppAltRoot::_wrapped_dispatch(TestAppAltRoot=HASH(0x56214a7a2060)) called at /home/sand/src/perl/repoperls/installed-perls/host/k93focal/v5.37.2/d3e4/lib/site_perl/5.37.2/x86_64-linux-ld/Class/MOP/Method/Wrapped.pm line 97
	TestAppAltRoot::dispatch(TestAppAltRoot=HASH(0x56214a7a2060)) called at /home/sand/src/perl/repoperls/installed-perls/host/k93focal/v5.37.2/d3e4/lib/site_perl/5.37.2/Catalyst.pm line 2412
	Catalyst::try {...} () called at /home/sand/src/perl/repoperls/installed-perls/host/k93focal/v5.37.2/d3e4/lib/site_perl/5.37.2/Try/Tiny.pm line 102
	eval {...} called at /home/sand/src/perl/repoperls/installed-perls/host/k93focal/v5.37.2/d3e4/lib/site_perl/5.37.2/Try/Tiny.pm line 93
	Try::Tiny::try(CODE(0x56214a7a1aa8), Try::Tiny::Catch=REF(0x56214a7e8ce8)) called at /home/sand/src/perl/repoperls/installed-perls/host/k93focal/v5.37.2/d3e4/lib/site_perl/5.37.2/Catalyst.pm line 2421
	Catalyst::handle_request("TestAppAltRoot", "env", HASH(0x56214a6bdf20), "response_cb", CODE(0x56214a7a1970)) called at /home/sand/src/perl/repoperls/installed-perls/host/k93focal/v5.37.2/d3e4/lib/site_perl/5.37.2/Catalyst/Engine.pm line 807
	Catalyst::Engine::__ANON__(CODE(0x56214a7a1970)) called at /home/sand/src/perl/repoperls/installed-perls/host/k93focal/v5.37.2/d3e4/lib/site_perl/5.37.2/Plack/Middleware/HTTPExceptions.pm line 32
	Plack::Middleware::HTTPExceptions::try {...} () called at /home/sand/src/perl/repoperls/installed-perls/host/k93focal/v5.37.2/d3e4/lib/site_perl/5.37.2/Try/Tiny.pm line 102
	eval {...} called at /home/sand/src/perl/repoperls/installed-perls/host/k93focal/v5.37.2/d3e4/lib/site_perl/5.37.2/Try/Tiny.pm line 93
	Try::Tiny::try(CODE(0x56214a7e8b80), Try::Tiny::Catch=REF(0x56214a797ee0)) called at /home/sand/src/perl/repoperls/installed-perls/host/k93focal/v5.37.2/d3e4/lib/site_perl/5.37.2/Plack/Middleware/HTTPExceptions.pm line 41
	Plack::Middleware::HTTPExceptions::__ANON__(CODE(0x56214a67bab0)) called at /home/sand/src/perl/repoperls/installed-perls/host/k93focal/v5.37.2/d3e4/lib/site_perl/5.37.2/Plack/Util.pm line 339
	Plack::Util::__ANON__(CODE(0x56214a666370)) called at /home/sand/src/perl/repoperls/installed-perls/host/k93focal/v5.37.2/d3e4/lib/site_perl/5.37.2/Plack/Util.pm line 339
	Plack::Util::__ANON__(CODE(0x56214a777478)) called at /home/sand/src/perl/repoperls/installed-perls/host/k93focal/v5.37.2/d3e4/lib/site_perl/5.37.2/Plack/Util.pm line 339
	Plack::Util::__ANON__(CODE(0x56214a57fbe0)) called at /home/sand/src/perl/repoperls/installed-perls/host/k93focal/v5.37.2/d3e4/lib/site_perl/5.37.2/HTTP/Message/PSGI.pm line 100
	HTTP::Message::PSGI::res_from_psgi(CODE(0x56214a7e88e0)) called at /home/sand/src/perl/repoperls/installed-perls/host/k93focal/v5.37.2/d3e4/lib/site_perl/5.37.2/HTTP/Message/PSGI.pm line 157
	HTTP::Response::from_psgi("HTTP::Response", CODE(0x56214a7e88e0)) called at /home/sand/src/perl/repoperls/installed-perls/host/k93focal/v5.37.2/d3e4/lib/site_perl/5.37.2/Plack/Test/MockHTTP.pm line 24
	Plack::Test::MockHTTP::try {...} () called at /home/sand/src/perl/repoperls/installed-perls/host/k93focal/v5.37.2/d3e4/lib/site_perl/5.37.2/Try/Tiny.pm line 100
	eval {...} called at /home/sand/src/perl/repoperls/installed-perls/host/k93focal/v5.37.2/d3e4/lib/site_perl/5.37.2/Try/Tiny.pm line 93
	Try::Tiny::try(CODE(0x56214a539978), Try::Tiny::Catch=REF(0x56214a777198)) called at /home/sand/src/perl/repoperls/installed-perls/host/k93focal/v5.37.2/d3e4/lib/site_perl/5.37.2/Plack/Test/MockHTTP.pm line 27
	Plack::Test::MockHTTP::request(Plack::Test::MockHTTP=HASH(0x56214a6be340), HTTP::Request=HASH(0x56214a6bdfb0)) called at /home/sand/src/perl/repoperls/installed-perls/host/k93focal/v5.37.2/d3e4/lib/site_perl/5.37.2/Plack/Test.pm line 38
	Plack::Test::__ANON__(HTTP::Request=HASH(0x56214a6bdfb0)) called at /home/sand/src/perl/repoperls/installed-perls/host/k93focal/v5.37.2/d3e4/lib/site_perl/5.37.2/Catalyst/Test.pm line 290
	Catalyst::Test::__ANON__(CODE(0x56214a6be2c8)) called at /home/sand/src/perl/repoperls/installed-perls/host/k93focal/v5.37.2/d3e4/lib/site_perl/5.37.2/Plack/Test.pm line 38
	Plack::Test::test_psgi("app", CODE(0x56214a7780f0), "mangle_response", CODE(0x5621494eb5c0), "app", CODE(0x56214a6b4ab0), "client", CODE(0x56214a6be160)) called at /home/sand/src/perl/repoperls/installed-perls/host/k93focal/v5.37.2/d3e4/lib/site_perl/5.37.2/Catalyst/Test.pm line 293
	Catalyst::Test::_request(HASH(0x56214a6bdd28), "/") called at /home/sand/src/perl/repoperls/installed-perls/host/k93focal/v5.37.2/d3e4/lib/site_perl/5.37.2/Catalyst/Test.pm line 336
	Catalyst::Test::_local_request("TestAppAltRoot", "/") called at /home/sand/src/perl/repoperls/installed-perls/host/k93focal/v5.37.2/d3e4/lib/site_perl/5.37.2/Catalyst/Test.pm line 32
	Catalyst::Test::__ANON__("/") called at /home/sand/src/perl/repoperls/installed-perls/host/k93focal/v5.37.2/d3e4/lib/site_perl/5.37.2/Catalyst/Test.pm line 72
	Catalyst::Test::__ANON__("/") called at t/live-test-alt-root.t line 14
t/live-test-alt-root.t .... ok
Class::MOP::load_class is deprecated at /home/sand/src/perl/repoperls/installed-perls/host/k93focal/v5.37.2/d3e4/lib/site_perl/5.37.2/x86_64-linux-ld/Class/MOP.pm line 69, <ARGV> line 1.
	Class::MOP::load_class("TestApp::View::HTML::Root") called at /tmp/loop_over_bdir-368726-nanjwu/Catalyst-View-HTML-Zoom-0.003-0/blib/lib/Catalyst/View/HTML/Zoom.pm line 138
	Catalyst::View::HTML::Zoom::_zoomer_class_from_context(TestApp::View::HTML=HASH(0x562fb0382890), TestApp=HASH(0x562fb0537668)) called at /tmp/loop_over_bdir-368726-nanjwu/Catalyst-View-HTML-Zoom-0.003-0/blib/lib/Catalyst/View/HTML/Zoom.pm line 90
	Catalyst::View::HTML::Zoom::_build_renderer_from_zoomer_class(TestApp::View::HTML=HASH(0x562fb0382890), TestApp=HASH(0x562fb0537668)) called at /tmp/loop_over_bdir-368726-nanjwu/Catalyst-View-HTML-Zoom-0.003-0/blib/lib/Catalyst/View/HTML/Zoom.pm line 76
	Catalyst::View::HTML::Zoom::_build_renderer_from(TestApp::View::HTML=HASH(0x562fb0382890), TestApp=HASH(0x562fb0537668), undef) called at /tmp/loop_over_bdir-368726-nanjwu/Catalyst-View-HTML-Zoom-0.003-0/blib/lib/Catalyst/View/HTML/Zoom.pm line 67
	Catalyst::View::HTML::Zoom::render(TestApp::View::HTML=HASH(0x562fb0382890), TestApp=HASH(0x562fb0537668), "/main") called at /tmp/loop_over_bdir-368726-nanjwu/Catalyst-View-HTML-Zoom-0.003-0/blib/lib/Catalyst/View/HTML/Zoom.pm line 41
	Catalyst::View::HTML::Zoom::process(TestApp::View::HTML=HASH(0x562fb0382890), TestApp=HASH(0x562fb0537668)) called at /home/sand/src/perl/repoperls/installed-perls/host/k93focal/v5.37.2/d3e4/lib/site_perl/5.37.2/Catalyst/Action.pm line 369
	Catalyst::Action::execute(Catalyst::Action=HASH(0x562fb0543418), TestApp::View::HTML=HASH(0x562fb0382890), TestApp=HASH(0x562fb0537668)) called at /home/sand/src/perl/repoperls/installed-perls/host/k93focal/v5.37.2/d3e4/lib/site_perl/5.37.2/Catalyst.pm line 2060
	eval {...} called at /home/sand/src/perl/repoperls/installed-perls/host/k93focal/v5.37.2/d3e4/lib/site_perl/5.37.2/Catalyst.pm line 2060
	Catalyst::execute(TestApp=HASH(0x562fb0537668), "TestApp::View::HTML", Catalyst::Action=HASH(0x562fb0543418)) called at /home/sand/src/perl/repoperls/installed-perls/host/k93focal/v5.37.2/d3e4/lib/site_perl/5.37.2/Catalyst/Action.pm line 364
	Catalyst::Action::dispatch(Catalyst::Action=HASH(0x562fb0543418), TestApp=HASH(0x562fb0537668)) called at /home/sand/src/perl/repoperls/installed-perls/host/k93focal/v5.37.2/d3e4/lib/site_perl/5.37.2/Catalyst/Dispatcher.pm line 261
	Catalyst::Dispatcher::_do_forward(Catalyst::Dispatcher=HASH(0x562faf210ec8), "forward", TestApp=HASH(0x562fb0537668), TestApp::View::HTML=HASH(0x562fb0382890)) called at /home/sand/src/perl/repoperls/installed-perls/host/k93focal/v5.37.2/d3e4/lib/site_perl/5.37.2/Catalyst/Dispatcher.pm line 241
	Catalyst::Dispatcher::forward(Catalyst::Dispatcher=HASH(0x562faf210ec8), TestApp=HASH(0x562fb0537668), TestApp::View::HTML=HASH(0x562fb0382890)) called at /home/sand/src/perl/repoperls/installed-perls/host/k93focal/v5.37.2/d3e4/lib/site_perl/5.37.2/Catalyst.pm line 482
	Catalyst::forward(TestApp=HASH(0x562fb0537668), TestApp::View::HTML=HASH(0x562fb0382890)) called at /home/sand/src/perl/repoperls/installed-perls/host/k93focal/v5.37.2/d3e4/lib/site_perl/5.37.2/Catalyst/Action/RenderView.pm line 57
	Catalyst::Action::RenderView::execute(Catalyst::Action::RenderView=HASH(0x562fb03f40a8), TestApp::Controller::Root=HASH(0x562fb03834f0), TestApp=HASH(0x562fb0537668)) called at /home/sand/src/perl/repoperls/installed-perls/host/k93focal/v5.37.2/d3e4/lib/site_perl/5.37.2/Catalyst.pm line 2060
	eval {...} called at /home/sand/src/perl/repoperls/installed-perls/host/k93focal/v5.37.2/d3e4/lib/site_perl/5.37.2/Catalyst.pm line 2060
	Catalyst::execute(TestApp=HASH(0x562fb0537668), "TestApp::Controller::Root", Catalyst::Action::RenderView=HASH(0x562fb03f40a8)) called at /home/sand/src/perl/repoperls/installed-perls/host/k93focal/v5.37.2/d3e4/lib/site_perl/5.37.2/Catalyst/Action.pm line 364
	Catalyst::Action::dispatch(Catalyst::Action::RenderView=HASH(0x562fb03f40a8), TestApp=HASH(0x562fb0537668)) called at /home/sand/src/perl/repoperls/installed-perls/host/k93focal/v5.37.2/d3e4/lib/site_perl/5.37.2/Catalyst/Controller.pm line 188
	Catalyst::Controller::_END(TestApp::Controller::Root=HASH(0x562fb03834f0), TestApp=HASH(0x562fb0537668)) called at /home/sand/src/perl/repoperls/installed-perls/host/k93focal/v5.37.2/d3e4/lib/site_perl/5.37.2/Catalyst/Action.pm line 369
	Catalyst::Action::execute(Catalyst::Action=HASH(0x562fb03edf68), TestApp::Controller::Root=HASH(0x562fb03834f0), TestApp=HASH(0x562fb0537668)) called at /home/sand/src/perl/repoperls/installed-perls/host/k93focal/v5.37.2/d3e4/lib/site_perl/5.37.2/Catalyst.pm line 2060
	eval {...} called at /home/sand/src/perl/repoperls/installed-perls/host/k93focal/v5.37.2/d3e4/lib/site_perl/5.37.2/Catalyst.pm line 2060
	Catalyst::execute(TestApp=HASH(0x562fb0537668), "TestApp::Controller::Root", Catalyst::Action=HASH(0x562fb03edf68)) called at /home/sand/src/perl/repoperls/installed-perls/host/k93focal/v5.37.2/d3e4/lib/site_perl/5.37.2/Catalyst/Action.pm line 364
	Catalyst::Action::dispatch(Catalyst::Action=HASH(0x562fb03edf68), TestApp=HASH(0x562fb0537668)) called at /home/sand/src/perl/repoperls/installed-perls/host/k93focal/v5.37.2/d3e4/lib/site_perl/5.37.2/Catalyst/Dispatcher.pm line 261
	Catalyst::Dispatcher::_do_forward(Catalyst::Dispatcher=HASH(0x562faf210ec8), "forward", TestApp=HASH(0x562fb0537668), "_END") called at /home/sand/src/perl/repoperls/installed-perls/host/k93focal/v5.37.2/d3e4/lib/site_perl/5.37.2/Catalyst/Dispatcher.pm line 241
	Catalyst::Dispatcher::forward(Catalyst::Dispatcher=HASH(0x562faf210ec8), TestApp=HASH(0x562fb0537668), "_END") called at /home/sand/src/perl/repoperls/installed-perls/host/k93focal/v5.37.2/d3e4/lib/site_perl/5.37.2/Catalyst.pm line 482
	Catalyst::forward(TestApp=HASH(0x562fb0537668), "_END") called at /home/sand/src/perl/repoperls/installed-perls/host/k93focal/v5.37.2/d3e4/lib/site_perl/5.37.2/Catalyst/Controller.pm line 137
	Catalyst::Controller::_DISPATCH(TestApp::Controller::Root=HASH(0x562fb03834f0), TestApp=HASH(0x562fb0537668)) called at /home/sand/src/perl/repoperls/installed-perls/host/k93focal/v5.37.2/d3e4/lib/site_perl/5.37.2/Catalyst/Action.pm line 369
	Catalyst::Action::execute(Catalyst::Action=HASH(0x562fb03ede90), TestApp::Controller::Root=HASH(0x562fb03834f0), TestApp=HASH(0x562fb0537668)) called at /home/sand/src/perl/repoperls/installed-perls/host/k93focal/v5.37.2/d3e4/lib/site_perl/5.37.2/Catalyst.pm line 2060
	eval {...} called at /home/sand/src/perl/repoperls/installed-perls/host/k93focal/v5.37.2/d3e4/lib/site_perl/5.37.2/Catalyst.pm line 2060
	Catalyst::execute(TestApp=HASH(0x562fb0537668), "TestApp::Controller::Root", Catalyst::Action=HASH(0x562fb03ede90)) called at /home/sand/src/perl/repoperls/installed-perls/host/k93focal/v5.37.2/d3e4/lib/site_perl/5.37.2/Catalyst/Action.pm line 364
	Catalyst::Action::dispatch(Catalyst::Action=HASH(0x562fb03ede90), TestApp=HASH(0x562fb0537668)) called at /home/sand/src/perl/repoperls/installed-perls/host/k93focal/v5.37.2/d3e4/lib/site_perl/5.37.2/Catalyst/Dispatcher.pm line 261
	Catalyst::Dispatcher::_do_forward(Catalyst::Dispatcher=HASH(0x562faf210ec8), "forward", TestApp=HASH(0x562fb0537668), "//_DISPATCH") called at /home/sand/src/perl/repoperls/installed-perls/host/k93focal/v5.37.2/d3e4/lib/site_perl/5.37.2/Catalyst/Dispatcher.pm line 241
	Catalyst::Dispatcher::forward(Catalyst::Dispatcher=HASH(0x562faf210ec8), TestApp=HASH(0x562fb0537668), "//_DISPATCH") called at /home/sand/src/perl/repoperls/installed-perls/host/k93focal/v5.37.2/d3e4/lib/site_perl/5.37.2/Catalyst.pm line 482
	Catalyst::forward(TestApp=HASH(0x562fb0537668), "//_DISPATCH") called at /home/sand/src/perl/repoperls/installed-perls/host/k93focal/v5.37.2/d3e4/lib/site_perl/5.37.2/Catalyst/Dispatcher.pm line 107
	Catalyst::Dispatcher::dispatch(Catalyst::Dispatcher=HASH(0x562faf210ec8), TestApp=HASH(0x562fb0537668)) called at /home/sand/src/perl/repoperls/installed-perls/host/k93focal/v5.37.2/d3e4/lib/site_perl/5.37.2/Catalyst.pm line 2006
	Catalyst::dispatch(TestApp=HASH(0x562fb0537668)) called at /home/sand/src/perl/repoperls/installed-perls/host/k93focal/v5.37.2/d3e4/lib/site_perl/5.37.2/x86_64-linux-ld/Class/MOP/Method/Wrapped.pm line 56
	TestApp::_wrapped_dispatch(TestApp=HASH(0x562fb0537668)) called at /home/sand/src/perl/repoperls/installed-perls/host/k93focal/v5.37.2/d3e4/lib/site_perl/5.37.2/x86_64-linux-ld/Class/MOP/Method/Wrapped.pm line 97
	TestApp::dispatch(TestApp=HASH(0x562fb0537668)) called at /home/sand/src/perl/repoperls/installed-perls/host/k93focal/v5.37.2/d3e4/lib/site_perl/5.37.2/Catalyst.pm line 2412
	Catalyst::try {...} () called at /home/sand/src/perl/repoperls/installed-perls/host/k93focal/v5.37.2/d3e4/lib/site_perl/5.37.2/Try/Tiny.pm line 102
	eval {...} called at /home/sand/src/perl/repoperls/installed-perls/host/k93focal/v5.37.2/d3e4/lib/site_perl/5.37.2/Try/Tiny.pm line 93
	Try::Tiny::try(CODE(0x562fb05370b0), Try::Tiny::Catch=REF(0x562fb0536f18)) called at /home/sand/src/perl/repoperls/installed-perls/host/k93focal/v5.37.2/d3e4/lib/site_perl/5.37.2/Catalyst.pm line 2421
	Catalyst::handle_request("TestApp", "env", HASH(0x562fb0270648), "response_cb", CODE(0x562fb0536f78)) called at /home/sand/src/perl/repoperls/installed-perls/host/k93focal/v5.37.2/d3e4/lib/site_perl/5.37.2/Catalyst/Engine.pm line 807
	Catalyst::Engine::__ANON__(CODE(0x562fb0536f78)) called at /home/sand/src/perl/repoperls/installed-perls/host/k93focal/v5.37.2/d3e4/lib/site_perl/5.37.2/Plack/Middleware/HTTPExceptions.pm line 32
	Plack::Middleware::HTTPExceptions::try {...} () called at /home/sand/src/perl/repoperls/installed-perls/host/k93focal/v5.37.2/d3e4/lib/site_perl/5.37.2/Try/Tiny.pm line 102
	eval {...} called at /home/sand/src/perl/repoperls/installed-perls/host/k93focal/v5.37.2/d3e4/lib/site_perl/5.37.2/Try/Tiny.pm line 93
	Try::Tiny::try(CODE(0x562fb0536db0), Try::Tiny::Catch=REF(0x562fb036f4a8)) called at /home/sand/src/perl/repoperls/installed-perls/host/k93focal/v5.37.2/d3e4/lib/site_perl/5.37.2/Plack/Middleware/HTTPExceptions.pm line 41
	Plack::Middleware::HTTPExceptions::__ANON__(CODE(0x562fb03829f8)) called at /home/sand/src/perl/repoperls/installed-perls/host/k93focal/v5.37.2/d3e4/lib/site_perl/5.37.2/Plack/Util.pm line 339
	Plack::Util::__ANON__(CODE(0x562fb04d9768)) called at /home/sand/src/perl/repoperls/installed-perls/host/k93focal/v5.37.2/d3e4/lib/site_perl/5.37.2/Plack/Util.pm line 339
	Plack::Util::__ANON__(CODE(0x562fb03918b0)) called at /home/sand/src/perl/repoperls/installed-perls/host/k93focal/v5.37.2/d3e4/lib/site_perl/5.37.2/Plack/Util.pm line 339
	Plack::Util::__ANON__(CODE(0x562fb03b3288)) called at /home/sand/src/perl/repoperls/installed-perls/host/k93focal/v5.37.2/d3e4/lib/site_perl/5.37.2/HTTP/Message/PSGI.pm line 100
	HTTP::Message::PSGI::res_from_psgi(CODE(0x562fb0536b10)) called at /home/sand/src/perl/repoperls/installed-perls/host/k93focal/v5.37.2/d3e4/lib/site_perl/5.37.2/HTTP/Message/PSGI.pm line 157
	HTTP::Response::from_psgi("HTTP::Response", CODE(0x562fb0536b10)) called at /home/sand/src/perl/repoperls/installed-perls/host/k93focal/v5.37.2/d3e4/lib/site_perl/5.37.2/Plack/Test/MockHTTP.pm line 24
	Plack::Test::MockHTTP::try {...} () called at /home/sand/src/perl/repoperls/installed-perls/host/k93focal/v5.37.2/d3e4/lib/site_perl/5.37.2/Try/Tiny.pm line 100
	eval {...} called at /home/sand/src/perl/repoperls/installed-perls/host/k93focal/v5.37.2/d3e4/lib/site_perl/5.37.2/Try/Tiny.pm line 93
	Try::Tiny::try(CODE(0x562fb036beb8), Try::Tiny::Catch=REF(0x562fad965188)) called at /home/sand/src/perl/repoperls/installed-perls/host/k93focal/v5.37.2/d3e4/lib/site_perl/5.37.2/Plack/Test/MockHTTP.pm line 27
	Plack::Test::MockHTTP::request(Plack::Test::MockHTTP=HASH(0x562fb04d9b88), HTTP::Request=HASH(0x562fb04d97f8)) called at /home/sand/src/perl/repoperls/installed-perls/host/k93focal/v5.37.2/d3e4/lib/site_perl/5.37.2/Plack/Test.pm line 38
	Plack::Test::__ANON__(HTTP::Request=HASH(0x562fb04d97f8)) called at /home/sand/src/perl/repoperls/installed-perls/host/k93focal/v5.37.2/d3e4/lib/site_perl/5.37.2/Catalyst/Test.pm line 290
	Catalyst::Test::__ANON__(CODE(0x562fb04d9b10)) called at /home/sand/src/perl/repoperls/installed-perls/host/k93focal/v5.37.2/d3e4/lib/site_perl/5.37.2/Plack/Test.pm line 38
	Plack::Test::test_psgi("mangle_response", CODE(0x562faf1f01b0), "app", CODE(0x562fad9640e8), "app", CODE(0x562fb03f3da8), "client", CODE(0x562fb04d99a8)) called at /home/sand/src/perl/repoperls/installed-perls/host/k93focal/v5.37.2/d3e4/lib/site_perl/5.37.2/Catalyst/Test.pm line 293
	Catalyst::Test::_request(HASH(0x562fad965428), "/") called at /home/sand/src/perl/repoperls/installed-perls/host/k93focal/v5.37.2/d3e4/lib/site_perl/5.37.2/Catalyst/Test.pm line 336
	Catalyst::Test::_local_request("TestApp", "/") called at /home/sand/src/perl/repoperls/installed-perls/host/k93focal/v5.37.2/d3e4/lib/site_perl/5.37.2/Catalyst/Test.pm line 32
	Catalyst::Test::__ANON__("/") called at /home/sand/src/perl/repoperls/installed-perls/host/k93focal/v5.37.2/d3e4/lib/site_perl/5.37.2/Catalyst/Test.pm line 72
	Catalyst::Test::__ANON__("/") called at t/live-test.t line 14
t/live-test.t ............. ok
t/release-pod-coverage.t .. skipped: these tests are for release candidate testing
t/release-pod-syntax.t .... skipped: these tests are for release candidate testing
All tests successful.
Files=7, Tests=17,  3 wallclock secs ( 0.08 usr  0.04 sys +  2.01 cusr  0.41 csys =  2.54 CPU)
Result: PASS

------------------------------
PREREQUISITES
------------------------------

Prerequisite modules loaded:

requires:

    Module                       Need  Have    
    ---------------------------- ----- --------
    Class::MOP                   1.12  2.2201  
    HTML::Zoom                   0.009 0.009009
    Moose                        1.21  2.2201  
    namespace::autoclean         0.09  0.29    
    Path::Class                  0.23  0.37    

build_requires:

    Module                       Need  Have    
    ---------------------------- ----- --------
    Catalyst::Action::RenderView 0.14  0.16    
    Catalyst::Runtime            5.8   5.90129 
    Test::More                   0.96  1.302191

configure_requires:

    Module                       Need  Have    
    ---------------------------- ----- --------
    ExtUtils::MakeMaker          6.31  7.64    


------------------------------
ENVIRONMENT AND OTHER CONTEXT
------------------------------

Environment variables:

    AUTOMATED_TESTING = 1
    LANG = en_US.UTF-8
    PATH = /home/sand/bin:/usr/local/bin:/usr/local/sbin:/usr/sbin:/usr/bin:/sbin:/bin:/usr/games:/usr/local/games:/snap/bin:/usr/local/perl/bin:/usr/X11/bin
    PERL = /tmp/basesmoker-reloperl-bTn0/bin/perl
    PERL5LIB = /tmp/loop_over_bdir-368726-nanjwu/perl-Hardware-UPS-Perl-0.43-0/blib/arch:/tmp/loop_over_bdir-368726-nanjwu/perl-Hardware-UPS-Perl-0.43-0/blib/lib:/tmp/loop_over_bdir-368726-nanjwu/mmds-1.902-0/blib/arch:/tmp/loop_over_bdir-368726-nanjwu/mmds-1.902-0/blib/lib:/tmp/loop_over_bdir-368726-nanjwu/EJBCA-CrlPublish-0.60-0/blib/arch:/tmp/loop_over_bdir-368726-nanjwu/EJBCA-CrlPublish-0.60-0/blib/lib:/tmp/loop_over_bdir-368726-nanjwu/App-nrun-v1.1.2-0/blib/arch:/tmp/loop_over_bdir-368726-nanjwu/App-nrun-v1.1.2-0/blib/lib:/tmp/loop_over_bdir-368726-nanjwu/HTML-Menu-TreeView-1.22-0/blib/arch:/tmp/loop_over_bdir-368726-nanjwu/HTML-Menu-TreeView-1.22-0/blib/lib:/tmp/loop_over_bdir-368726-nanjwu/Simulation-Automate-1.0.1-0/blib/arch:/tmp/loop_over_bdir-368726-nanjwu/Simulation-Automate-1.0.1-0/blib/lib:/tmp/loop_over_bdir-368726-nanjwu/Linux-InitFS-0.2-0/blib/arch:/tmp/loop_over_bdir-368726-nanjwu/Linux-InitFS-0.2-0/blib/lib:/tmp/loop_over_bdir-368726-nanjwu/Business-Shipping-DataFiles-1.02-0/blib/arch:/tmp/loop_over_bdir-368726-nanjwu/Business-Shipping-DataFiles-1.02-0/blib/lib:/tmp/loop_over_bdir-368726-nanjwu/App-oo_modulino_zsh_completion_helper-0.04-0/blib/arch:/tmp/loop_over_bdir-368726-nanjwu/App-oo_modulino_zsh_completion_helper-0.04-0/blib/lib:/tmp/loop_over_bdir-368726-nanjwu/CGI-Application-NetNewsIface-0.0204-0/blib/arch:/tmp/loop_over_bdir-368726-nanjwu/CGI-Application-NetNewsIface-0.0204-0/blib/lib:/tmp/loop_over_bdir-368726-nanjwu/Captive-Portal-4.10-0/blib/arch:/tmp/loop_over_bdir-368726-nanjwu/Captive-Portal-4.10-0/blib/lib:/tmp/loop_over_bdir-368726-nanjwu/dta-tokwrap-0.98-0/blib/arch:/tmp/loop_over_bdir-368726-nanjwu/dta-tokwrap-0.98-0/blib/lib:/tmp/loop_over_bdir-368726-nanjwu/LCFG-Build-Skeleton-0.5.0-0/blib/arch:/tmp/loop_over_bdir-368726-nanjwu/LCFG-Build-Skeleton-0.5.0-0/blib/lib:/tmp/loop_over_bdir-368726-nanjwu/LiquidWeb-Storm-CLI-1.03-0/blib/arch:/tmp/loop_over_bdir-368726-nanjwu/LiquidWeb-Storm-CLI-1.03-0/blib/lib:/tmp/loop_over_bdir-368726-nanjwu/LCFG-Build-Tools-0.9.30-0/blib/arch:/tmp/loop_over_bdir-368726-nanjwu/LCFG-Build-Tools-0.9.30-0/blib/lib:/tmp/loop_over_bdir-368726-nanjwu/Net-ISP-Balance-1.31-0/blib/arch:/tmp/loop_over_bdir-368726-nanjwu/Net-ISP-Balance-1.31-0/blib/lib:/tmp/loop_over_bdir-368726-nanjwu/ProjectBuilder-0.14.1-0/blib/arch:/tmp/loop_over_bdir-368726-nanjwu/ProjectBuilder-0.14.1-0/blib/lib:/tmp/loop_over_bdir-368726-nanjwu/RDF-NLP-SPARQLQuery-0.1-0/blib/arch:/tmp/loop_over_bdir-368726-nanjwu/RDF-NLP-SPARQLQuery-0.1-0/blib/lib:/tmp/loop_over_bdir-368726-nanjwu/Dpkg-1.21.9-0/blib/arch:/tmp/loop_over_bdir-368726-nanjwu/Dpkg-1.21.9-0/blib/lib:/tmp/loop_over_bdir-368726-nanjwu/Lingua-YaTeA-0.626-0/blib/arch:/tmp/loop_over_bdir-368726-nanjwu/Lingua-YaTeA-0.626-0/blib/lib:/tmp/loop_over_bdir-368726-nanjwu/Devel-Required-0.16-0/blib/arch:/tmp/loop_over_bdir-368726-nanjwu/Devel-Required-0.16-0/blib/lib
    PERL5OPT = 
    PERL5_CPANPLUS_IS_RUNNING = 368734
    PERL5_CPAN_IS_RUNNING = 368734
    PERL_CANARY_STABILITY_NOPROMPT = 1
    PERL_MM_USE_DEFAULT = 1
    PERL_USE_UNSAFE_INC = 1
    SHELL = /usr/bin/zsh
    TERM = screen

Perl special variables (and OS-specific diagnostics, for MSWin32):

    $^X = /tmp/basesmoker-reloperl-bTn0/bin/perl
    $UID/$EUID = 1005 / 1005
    $GID = 1005 1005
    $EGID = 1005 1005

Perl module toolchain versions installed:

    Module              Have    
    ------------------- --------
    CPAN                2.34    
    CPAN::Meta          2.150010
    Cwd                 3.86    
    ExtUtils::CBuilder  0.280237
    ExtUtils::Command   7.64    
    ExtUtils::Install   2.20    
    ExtUtils::MakeMaker 7.64    
    ExtUtils::Manifest  1.73    
    ExtUtils::ParseXS   3.45    
    File::Spec          3.86    
    JSON                4.09    
    JSON::PP            4.11    
    Module::Build       0.4231  
    Module::Signature   0.88    
    Parse::CPAN::Meta   2.150010
    Test::Harness       3.44    
    Test::More          1.302191
    YAML                1.30    
    YAML::Syck          1.34    
    version             0.9929  


--

Summary of my perl5 (revision 5 version 37 subversion 2) configuration:
  Commit id: 7f9b65d969a1c8b44028cacbb9e88596d1e5a8a3
  Platform:
    osname=linux
    osvers=5.4.0-122-generic
    archname=x86_64-linux-ld
    uname='linux k93focal 5.4.0-122-generic #138-ubuntu smp wed jun 22 15:00:31 utc 2022 x86_64 x86_64 x86_64 gnulinux '
    config_args='-Dprefix=/home/sand/src/perl/repoperls/installed-perls/host/k93focal/v5.37.2/d3e4 -Dmyhostname=k93focal -Dinstallusrbinperl=n -Uversiononly -Dusedevel -des -Ui_db -Dlibswanted=cl pthread socket inet nsl gdbm dbm malloc dl ld sun m crypt sec util c cposix posix ucb BSD gdbm_compat -Uuseithreads -Duselongdouble -DEBUGGING=both'
    hint=recommended
    useposix=true
    d_sigaction=define
    useithreads=undef
    usemultiplicity=undef
    use64bitint=define
    use64bitall=define
    uselongdouble=define
    usemymalloc=n
    default_inc_excludes_dot=define
  Compiler:
    cc='cc'
    ccflags ='-fwrapv -DDEBUGGING -fno-strict-aliasing -pipe -fstack-protector-strong -I/usr/local/include -D_LARGEFILE_SOURCE -D_FILE_OFFSET_BITS=64'
    optimize='-O2 -g'
    cppflags='-fwrapv -DDEBUGGING -fno-strict-aliasing -pipe -fstack-protector-strong -I/usr/local/include'
    ccversion=''
    gccversion='9.4.0'
    gccosandvers=''
    intsize=4
    longsize=8
    ptrsize=8
    doublesize=8
    byteorder=12345678
    doublekind=3
    d_longlong=define
    longlongsize=8
    d_longdbl=define
    longdblsize=16
    longdblkind=3
    ivtype='long'
    ivsize=8
    nvtype='long double'
    nvsize=16
    Off_t='off_t'
    lseeksize=8
    alignbytes=16
    prototype=define
  Linker and Libraries:
    ld='cc'
    ldflags =' -fstack-protector-strong -L/usr/local/lib'
    libpth=/usr/local/lib /usr/lib/x86_64-linux-gnu /usr/lib /usr/lib64
    libs=-lpthread -lnsl -ldl -lm -lcrypt -lutil -lc
    perllibs=-lpthread -lnsl -ldl -lm -lcrypt -lutil -lc
    libc=libc-2.31.so
    so=so
    useshrplib=false
    libperl=libperl.a
    gnulibc_version='2.31'
  Dynamic Linking:
    dlsrc=dl_dlopen.xs
    dlext=so
    d_dlsymun=undef
    ccdlflags='-Wl,-E'
    cccdlflags='-fPIC'
    lddlflags='-shared -O2 -g -L/usr/local/lib -fstack-protector-strong'


Characteristics of this binary (from libperl): 
  Compile-time options:
    DEBUGGING
    HAS_TIMES
    PERLIO_LAYERS
    PERL_COPY_ON_WRITE
    PERL_DONT_CREATE_GVSV
    PERL_MALLOC_WRAP
    PERL_OP_PARENT
    PERL_PRESERVE_IVUV
    PERL_USE_DEVEL
    PERL_USE_SAFE_PUTENV
    USE_64_BIT_ALL
    USE_64_BIT_INT
    USE_LARGE_FILES
    USE_LOCALE
    USE_LOCALE_COLLATE
    USE_LOCALE_CTYPE
    USE_LOCALE_NUMERIC
    USE_LOCALE_TIME
    USE_LONG_DOUBLE
    USE_PERLIO
    USE_PERL_ATOF
  Built under linux
  Compiled at Aug  7 2022 06:04:34
  %ENV:
    PERL="/tmp/basesmoker-reloperl-bTn0/bin/perl"
    PERL5LIB="/tmp/loop_over_bdir-368726-nanjwu/perl-Hardware-UPS-Perl-0.43-0/blib/arch:/tmp/loop_over_bdir-368726-nanjwu/perl-Hardware-UPS-Perl-0.43-0/blib/lib:/tmp/loop_over_bdir-368726-nanjwu/mmds-1.902-0/blib/arch:/tmp/loop_over_bdir-368726-nanjwu/mmds-1.902-0/blib/lib:/tmp/loop_over_bdir-368726-nanjwu/EJBCA-CrlPublish-0.60-0/blib/arch:/tmp/loop_over_bdir-368726-nanjwu/EJBCA-CrlPublish-0.60-0/blib/lib:/tmp/loop_over_bdir-368726-nanjwu/App-nrun-v1.1.2-0/blib/arch:/tmp/loop_over_bdir-368726-nanjwu/App-nrun-v1.1.2-0/blib/lib:/tmp/loop_over_bdir-368726-nanjwu/HTML-Menu-TreeView-1.22-0/blib/arch:/tmp/loop_over_bdir-368726-nanjwu/HTML-Menu-TreeView-1.22-0/blib/lib:/tmp/loop_over_bdir-368726-nanjwu/Simulation-Automate-1.0.1-0/blib/arch:/tmp/loop_over_bdir-368726-nanjwu/Simulation-Automate-1.0.1-0/blib/lib:/tmp/loop_over_bdir-368726-nanjwu/Linux-InitFS-0.2-0/blib/arch:/tmp/loop_over_bdir-368726-nanjwu/Linux-InitFS-0.2-0/blib/lib:/tmp/loop_over_bdir-368726-nanjwu/Business-Shipping-DataFiles-1.02-0/blib/arch:/tmp/loop_over_bdir-368726-nanjwu/Business-Shipping-DataFiles-1.02-0/blib/lib:/tmp/loop_over_bdir-368726-nanjwu/App-oo_modulino_zsh_completion_helper-0.04-0/blib/arch:/tmp/loop_over_bdir-368726-nanjwu/App-oo_modulino_zsh_completion_helper-0.04-0/blib/lib:/tmp/loop_over_bdir-368726-nanjwu/CGI-Application-NetNewsIface-0.0204-0/blib/arch:/tmp/loop_over_bdir-368726-nanjwu/CGI-Application-NetNewsIface-0.0204-0/blib/lib:/tmp/loop_over_bdir-368726-nanjwu/Captive-Portal-4.10-0/blib/arch:/tmp/loop_over_bdir-368726-nanjwu/Captive-Portal-4.10-0/blib/lib:/tmp/loop_over_bdir-368726-nanjwu/dta-tokwrap-0.98-0/blib/arch:/tmp/loop_over_bdir-368726-nanjwu/dta-tokwrap-0.98-0/blib/lib:/tmp/loop_over_bdir-368726-nanjwu/LCFG-Build-Skeleton-0.5.0-0/blib/arch:/tmp/loop_over_bdir-368726-nanjwu/LCFG-Build-Skeleton-0.5.0-0/blib/lib:/tmp/loop_over_bdir-368726-nanjwu/LiquidWeb-Storm-CLI-1.03-0/blib/arch:/tmp/loop_over_bdir-368726-nanjwu/LiquidWeb-Storm-CLI-1.03-0/blib/lib:/tmp/loop_over_bdir-368726-nanjwu/LCFG-Build-Tools-0.9.30-0/blib/arch:/tmp/loop_over_bdir-368726-nanjwu/LCFG-Build-Tools-0.9.30-0/blib/lib:/tmp/loop_over_bdir-368726-nanjwu/Net-ISP-Balance-1.31-0/blib/arch:/tmp/loop_over_bdir-368726-nanjwu/Net-ISP-Balance-1.31-0/blib/lib:/tmp/loop_over_bdir-368726-nanjwu/ProjectBuilder-0.14.1-0/blib/arch:/tmp/loop_over_bdir-368726-nanjwu/ProjectBuilder-0.14.1-0/blib/lib:/tmp/loop_over_bdir-368726-nanjwu/RDF-NLP-SPARQLQuery-0.1-0/blib/arch:/tmp/loop_over_bdir-368726-nanjwu/RDF-NLP-SPARQLQuery-0.1-0/blib/lib:/tmp/loop_over_bdir-368726-nanjwu/Dpkg-1.21.9-0/blib/arch:/tmp/loop_over_bdir-368726-nanjwu/Dpkg-1.21.9-0/blib/lib:/tmp/loop_over_bdir-368726-nanjwu/Lingua-YaTeA-0.626-0/blib/arch:/tmp/loop_over_bdir-368726-nanjwu/Lingua-YaTeA-0.626-0/blib/lib:/tmp/loop_over_bdir-368726-nanjwu/Devel-Required-0.16-0/blib/arch:/tmp/loop_over_bdir-368726-nanjwu/Devel-Required-0.16-0/blib/lib"
    PERL5OPT=""
    PERL5_CPANPLUS_IS_RUNNING="368734"
    PERL5_CPAN_IS_RUNNING="368734"
    PERL_CANARY_STABILITY_NOPROMPT="1"
    PERL_MM_USE_DEFAULT="1"
    PERL_USE_UNSAFE_INC="1"
  @INC:
    /tmp/loop_over_bdir-368726-nanjwu/perl-Hardware-UPS-Perl-0.43-0/blib/arch
    /tmp/loop_over_bdir-368726-nanjwu/perl-Hardware-UPS-Perl-0.43-0/blib/lib
    /tmp/loop_over_bdir-368726-nanjwu/mmds-1.902-0/blib/arch
    /tmp/loop_over_bdir-368726-nanjwu/mmds-1.902-0/blib/lib
    /tmp/loop_over_bdir-368726-nanjwu/EJBCA-CrlPublish-0.60-0/blib/arch
    /tmp/loop_over_bdir-368726-nanjwu/EJBCA-CrlPublish-0.60-0/blib/lib
    /tmp/loop_over_bdir-368726-nanjwu/App-nrun-v1.1.2-0/blib/arch
    /tmp/loop_over_bdir-368726-nanjwu/App-nrun-v1.1.2-0/blib/lib
    /tmp/loop_over_bdir-368726-nanjwu/HTML-Menu-TreeView-1.22-0/blib/arch
    /tmp/loop_over_bdir-368726-nanjwu/HTML-Menu-TreeView-1.22-0/blib/lib
    /tmp/loop_over_bdir-368726-nanjwu/Simulation-Automate-1.0.1-0/blib/arch
    /tmp/loop_over_bdir-368726-nanjwu/Simulation-Automate-1.0.1-0/blib/lib
    /tmp/loop_over_bdir-368726-nanjwu/Linux-InitFS-0.2-0/blib/arch
    /tmp/loop_over_bdir-368726-nanjwu/Linux-InitFS-0.2-0/blib/lib
    /tmp/loop_over_bdir-368726-nanjwu/Business-Shipping-DataFiles-1.02-0/blib/arch
    /tmp/loop_over_bdir-368726-nanjwu/Business-Shipping-DataFiles-1.02-0/blib/lib
    /tmp/loop_over_bdir-368726-nanjwu/App-oo_modulino_zsh_completion_helper-0.04-0/blib/arch
    /tmp/loop_over_bdir-368726-nanjwu/App-oo_modulino_zsh_completion_helper-0.04-0/blib/lib
    /tmp/loop_over_bdir-368726-nanjwu/CGI-Application-NetNewsIface-0.0204-0/blib/arch
    /tmp/loop_over_bdir-368726-nanjwu/CGI-Application-NetNewsIface-0.0204-0/blib/lib
    /tmp/loop_over_bdir-368726-nanjwu/Captive-Portal-4.10-0/blib/arch
    /tmp/loop_over_bdir-368726-nanjwu/Captive-Portal-4.10-0/blib/lib
    /tmp/loop_over_bdir-368726-nanjwu/dta-tokwrap-0.98-0/blib/arch
    /tmp/loop_over_bdir-368726-nanjwu/dta-tokwrap-0.98-0/blib/lib
    /tmp/loop_over_bdir-368726-nanjwu/LCFG-Build-Skeleton-0.5.0-0/blib/arch
    /tmp/loop_over_bdir-368726-nanjwu/LCFG-Build-Skeleton-0.5.0-0/blib/lib
    /tmp/loop_over_bdir-368726-nanjwu/LiquidWeb-Storm-CLI-1.03-0/blib/arch
    /tmp/loop_over_bdir-368726-nanjwu/LiquidWeb-Storm-CLI-1.03-0/blib/lib
    /tmp/loop_over_bdir-368726-nanjwu/LCFG-Build-Tools-0.9.30-0/blib/arch
    /tmp/loop_over_bdir-368726-nanjwu/LCFG-Build-Tools-0.9.30-0/blib/lib
    /tmp/loop_over_bdir-368726-nanjwu/Net-ISP-Balance-1.31-0/blib/arch
    /tmp/loop_over_bdir-368726-nanjwu/Net-ISP-Balance-1.31-0/blib/lib
    /tmp/loop_over_bdir-368726-nanjwu/ProjectBuilder-0.14.1-0/blib/arch
    /tmp/loop_over_bdir-368726-nanjwu/ProjectBuilder-0.14.1-0/blib/lib
    /tmp/loop_over_bdir-368726-nanjwu/RDF-NLP-SPARQLQuery-0.1-0/blib/arch
    /tmp/loop_over_bdir-368726-nanjwu/RDF-NLP-SPARQLQuery-0.1-0/blib/lib
    /tmp/loop_over_bdir-368726-nanjwu/Dpkg-1.21.9-0/blib/arch
    /tmp/loop_over_bdir-368726-nanjwu/Dpkg-1.21.9-0/blib/lib
    /tmp/loop_over_bdir-368726-nanjwu/Lingua-YaTeA-0.626-0/blib/arch
    /tmp/loop_over_bdir-368726-nanjwu/Lingua-YaTeA-0.626-0/blib/lib
    /tmp/loop_over_bdir-368726-nanjwu/Devel-Required-0.16-0/blib/arch
    /tmp/loop_over_bdir-368726-nanjwu/Devel-Required-0.16-0/blib/lib
    /home/sand/src/perl/repoperls/installed-perls/host/k93focal/v5.37.2/d3e4/lib/site_perl/5.37.2/x86_64-linux-ld
    /home/sand/src/perl/repoperls/installed-perls/host/k93focal/v5.37.2/d3e4/lib/site_perl/5.37.2
    /home/sand/src/perl/repoperls/installed-perls/host/k93focal/v5.37.2/d3e4/lib/5.37.2/x86_64-linux-ld
    /home/sand/src/perl/repoperls/installed-perls/host/k93focal/v5.37.2/d3e4/lib/5.37.2
    .