Report for Soar-WM-0.04

Back
From: metabase:user:917c2b6a-77f3-11e5-af78-c9d573d1e3cf
Subject: PASS Soar-WM-0.04 v5.20.2 
Date: 2016-02-10T15:13:19Z

This distribution has been tested as part of the CPAN Testers
project, supporting the Perl programming language.  See
http://wiki.cpantesters.org/ for more information or email
questions to cpan-testers-discuss@perl.org


--
Dear Nathan Gary Glenn,

This is a computer-generated report for Soar-WM-0.04
on perl 5.20.2, created by CPAN-Reporter-1.2015.

Thank you for uploading your work to CPAN.  Congratulations!
All tests were successful.

Sections of this report:

    * Tester comments
    * Program output
    * Prerequisites
    * Environment and other context

------------------------------
TESTER COMMENTS
------------------------------

Additional comments from tester:

this report is from an automated smoke testing program
and was not reviewed by a human for accuracy

------------------------------
PROGRAM OUTPUT
------------------------------

Output from 'C:\Perl\bin\perl.exe ./Build test':

t/00-compile.t ................ ok
# 
# 
# Generated by Dist::Zilla::Plugin::ReportVersions::Tiny v1.08
# perl: 5.020002 (wanted 5.010) on MSWin32 from C:\Perl\bin\perl.exe
# 
# Carp                                          => 1.36       (want any version)
# Data::Dumper                                  => 2.154      (want any version)
# Data::Section::Simple                         => 0.07       (want any version)
# Exporter                                      => 5.71       (want any version)
# File::Find                                    => 1.27       (want any version)
# File::Spec                                    => 3.48_01    (want any version)
# File::Temp                                    => 0.2304     (want any version)
# FindBin                                       => 1.51       (want any version)
# Module::Build                                 => 0.4214     (want 0.3601) 
# Pod::Coverage::TrustPod                       => module not found. (want any version)
# Test::CPAN::Meta                              => module not found. (want any version)
# Test::Deep                                    => 1.120      (want any version)
# Test::More                                    => 1.001014   (want 0.88)   
# Test::NoWarnings                              => 1.04       (want any version)
# Test::Pod                                     => module not found. (want 1.41)   
# Test::Pod::Coverage                           => module not found. (want 1.08)   
# Test::Warn                                    => 0.30       (want any version)
# autodie                                       => 2.26       (want any version)
# base                                          => 2.22       (want any version)
# strict                                        => 1.08       (want any version)
# version                                       => 0.9912     (want 0.9901) 
# warnings                                      => 1.23       (want any version)
# 
# Thanks for using my code.  I hope it works for you.
# If not, please try and include this output in the bug report.
# That will help me reproduce the issue and solve your problem.
# 
t/000-report-versions-tiny.t .. ok
t/01-slurp.t .................. ok
t/02-wm.t ..................... ok
t/03-traversal.t .............. ok
t/04-errors.t ................. ok
All tests successful.
Files=6, Tests=34,  2 wallclock secs ( 0.08 usr +  0.05 sys =  0.12 CPU)
Result: PASS

------------------------------
PREREQUISITES
------------------------------

Prerequisite modules loaded:

requires:

    Module                Need   Have    
    --------------------- ------ --------
    autodie               0      2.26    
    base                  0      2.22    
    Carp                  0      1.36    
    Exporter              0      5.71    
    perl                  5.010  5.020002
    strict                0      1.08    
    warnings              0      1.23    

build_requires:

    Module                Need   Have    
    --------------------- ------ --------
    Data::Dumper          0      2.154   
    Data::Section::Simple 0      0.07    
    File::Find            0      1.27    
    File::Spec            0      3.48_01 
    File::Temp            0      0.2304  
    FindBin               0      1.51    
    Module::Build         0.3601 0.4214  
    Test::Deep            0      1.120   
    Test::More            0.88   1.001014
    Test::NoWarnings      0      1.04    
    Test::Warn            0      0.30    

configure_requires:

    Module                Need   Have    
    --------------------- ------ --------
    Module::Build         0.3601 0.4214  


------------------------------
ENVIRONMENT AND OTHER CONTEXT
------------------------------

Environment variables:

    AUTOMATED_TESTING = 1
    COMSPEC = C:\Windows\system32\cmd.exe
    NUMBER_OF_PROCESSORS = 4
    PATH = C:\Perl\site\bin;C:\Perl\bin;C:\Windows\system32;C:\Windows;C:\Windows\System32\Wbem;C:\Windows\System32\WindowsPowerShell\v1.0\;C:\Program Files\Mercurial\;C:\Perl\site\lib\auto\MinGW\bin;C:\Program Files\vim\vim74;C:\Ruby22\bin;C:\Tcl\bin;C:\Perl\site\bin;C:\Perl\bin;C:\Windows\system32;C:\Windows;C:\Windows\System32\Wbem;C:\Windows\System32\WindowsPowerShell\v1.0\;C:\Program Files\Mercurial\;C:\Perl\site\lib\auto\MinGW\bin;C:\Program Files\vim\vim74
    PERL5LIB = C:\Perl\cpan\build\Data-Section-Simple-0.07-jHVaOz/blib/arch;C:\Perl\cpan\build\Data-Section-Simple-0.07-jHVaOz/blib/lib;C:\Perl\cpan\build\Test-Requires-0.10-_UbjQl/blib/arch;C:\Perl\cpan\build\Test-Requires-0.10-_UbjQl/blib/lib;C:\Perl\cpan\build\Test-Warn-0.30-mFUtGR/blib/arch;C:\Perl\cpan\build\Test-Warn-0.30-mFUtGR/blib/lib
    PERL5OPT = 
    PERL5_CPANPLUS_IS_RUNNING = 2632
    PERL5_CPAN_IS_RUNNING = 2632
    PERL5_CPAN_IS_RUNNING_IN_RECURSION = 1084,2632
    PERL_CR_SMOKER_CURRENT = Soar-WM-0.04
    PERL_EXTUTILS_AUTOINSTALL = --defaultdeps
    PERL_MM_USE_DEFAULT = 1
    PROCESSOR_IDENTIFIER = x86 Family 6 Model 58 Stepping 9, GenuineIntel
    TEMP = C:\Users\petr\AppData\Local\Temp

Perl special variables (and OS-specific diagnostics, for MSWin32):

    $^X = C:\Perl\bin\perl.exe
    $UID/$EUID = 0 / 0
    $GID = 0
    $EGID = 0
    Win32::GetOSName = Win7
    Win32::GetOSVersion = Service Pack 1, 6, 1, 7601, 2, 1, 0, 256, 1
    Win32::FsType = NTFS
    Win32::IsAdminUser = 0

Perl module toolchain versions installed:

    Module              Have    
    ------------------- --------
    CPAN                2.10    
    CPAN::Meta          2.150005
    Cwd                 3.48_01 
    ExtUtils::CBuilder  0.280223
    ExtUtils::Command   1.20    
    ExtUtils::Install   1.68    
    ExtUtils::MakeMaker 6.98    
    ExtUtils::Manifest  1.70    
    ExtUtils::ParseXS   3.24    
    File::Spec          3.48_01 
    JSON                2.90    
    JSON::PP            2.27300 
    Module::Build       0.4214  
    Module::Signature   n/a     
    Parse::CPAN::Meta   1.4414  
    Test::Harness       3.35    
    Test::More          1.001014
    YAML                1.15    
    YAML::Syck          1.29    
    version             0.9912  


--

Summary of my perl5 (revision 5 version 20 subversion 2) configuration:
   
  Platform:
    osname=MSWin32, osvers=5.2, archname=MSWin32-x86-multi-thread-64int
    uname=''
    config_args='undef'
    hint=recommended, useposix=true, d_sigaction=undef
    useithreads=define, usemultiplicity=define
    use64bitint=define, use64bitall=undef, uselongdouble=undef
    usemymalloc=n, bincompat5005=undef
  Compiler:
    cc='C:\Perl\site\bin\gcc.exe', ccflags =' -s -O2 -DWIN32 -DPERL_TEXTMODE_SCRIPTS -DUSE_SITECUSTOMIZE -DPERL_IMPLICIT_CONTEXT -DPERL_IMPLICIT_SYS -DUSE_PERLIO -fwrapv -fno-strict-aliasing -mms-bitfields',
    optimize='-s -O2',
    cppflags='-DWIN32'
    ccversion='', gccversion='4.6.3', gccosandvers=''
    intsize=4, longsize=4, ptrsize=4, doublesize=8, byteorder=12345678
    d_longlong=define, longlongsize=8, d_longdbl=define, longdblsize=12
    ivtype='long long', ivsize=8, nvtype='double', nvsize=8, Off_t='long long', lseeksize=8
    alignbytes=8, prototype=define
  Linker and Libraries:
    ld='C:\Perl\site\bin\g++.exe', ldflags ='-s -static-libgcc -static-libstdc++ -L"C:\Perl\lib\CORE" -L"C:\MinGW\i686-w64-mingw32\lib"'
    libpth=C:\MinGW\i686-w64-mingw32\lib
    libs=-lmoldname -lkernel32 -luser32 -lgdi32 -lwinspool -lcomdlg32 -ladvapi32 -lshell32 -lole32 -loleaut32 -lnetapi32 -luuid -lws2_32 -lmpr -lwinmm -lversion -lodbc32 -lodbccp32 -lcomctl32
    perllibs=-lmoldname -lkernel32 -luser32 -lgdi32 -lwinspool -lcomdlg32 -ladvapi32 -lshell32 -lole32 -loleaut32 -lnetapi32 -luuid -lws2_32 -lmpr -lwinmm -lversion -lodbc32 -lodbccp32 -lcomctl32
    libc=, so=dll, useshrplib=true, libperl=libperl520.a
    gnulibc_version=''
  Dynamic Linking:
    dlsrc=dl_win32.xs, dlext=dll, d_dlsymun=undef, ccdlflags=' '
    cccdlflags=' ', lddlflags='-mdll -s -static-libgcc -static-libstdc++ -L"C:\Perl\lib\CORE" -L"C:\MinGW\i686-w64-mingw32\lib"'


Characteristics of this binary (from libperl): 
  Compile-time options: HAS_TIMES HAVE_INTERP_INTERN MULTIPLICITY
                        PERLIO_LAYERS PERL_DONT_CREATE_GVSV
                        PERL_HASH_FUNC_ONE_AT_A_TIME_HARD
                        PERL_IMPLICIT_CONTEXT PERL_IMPLICIT_SYS
                        PERL_MALLOC_WRAP PERL_NEW_COPY_ON_WRITE
                        PERL_PRESERVE_IVUV USE_64_BIT_INT USE_ITHREADS
                        USE_LARGE_FILES USE_LOCALE USE_LOCALE_COLLATE
                        USE_LOCALE_CTYPE USE_LOCALE_NUMERIC USE_PERLIO
                        USE_PERL_ATOF USE_SITECUSTOMIZE
  Locally applied patches:
	ActivePerl Build 2002 [299195]
  Built under MSWin32
  Compiled at Jul 20 2015 13:29:53
  %ENV:
    PERL5LIB="C:\Perl\cpan\build\Data-Section-Simple-0.07-jHVaOz/blib/arch;C:\Perl\cpan\build\Data-Section-Simple-0.07-jHVaOz/blib/lib;C:\Perl\cpan\build\Test-Requires-0.10-_UbjQl/blib/arch;C:\Perl\cpan\build\Test-Requires-0.10-_UbjQl/blib/lib;C:\Perl\cpan\build\Test-Warn-0.30-mFUtGR/blib/arch;C:\Perl\cpan\build\Test-Warn-0.30-mFUtGR/blib/lib"
    PERL5_CPANPLUS_IS_RUNNING="2632"
    PERL5_CPAN_IS_RUNNING="2632"
    PERL5_CPAN_IS_RUNNING_IN_RECURSION="1084,2632"
    PERL_CR_SMOKER_CURRENT="Soar-WM-0.04"
    PERL_EXTUTILS_AUTOINSTALL="--defaultdeps"
    PERL_MM_USE_DEFAULT="1"
  @INC:
    C:\Perl\cpan\build\Data-Section-Simple-0.07-jHVaOz/blib/arch
    C:\Perl\cpan\build\Data-Section-Simple-0.07-jHVaOz/blib/lib
    C:\Perl\cpan\build\Test-Requires-0.10-_UbjQl/blib/arch
    C:\Perl\cpan\build\Test-Requires-0.10-_UbjQl/blib/lib
    C:\Perl\cpan\build\Test-Warn-0.30-mFUtGR/blib/arch
    C:\Perl\cpan\build\Test-Warn-0.30-mFUtGR/blib/lib
    C:/Perl/site/lib/MSWin32-x86-multi-thread-64int
    C:/Perl/site/lib
    C:/Perl/lib
    .