Config-JSON-Enhanced v0.10 Perl 5 v5.41.12 x86_64-linux

Status
Pass
From
Slaven Rezić
Dist
Config-JSON-Enhanced v0.10
Platform
Perl 5 v5.41.12 x86_64-linux
Date
2025-04-23 19:47:19
ID
c46acb2c-207b-11f0-b6ea-ac0b6e8775ea
This distribution has been tested as part of the CPAN Testers
project, supporting the Perl programming language.  See
http://wiki.cpantesters.org/ for more information or email
questions to cpan-testers-discuss@perl.org


--
Dear Andreas Hadjiprocopis,

This is a computer-generated report for Config-JSON-Enhanced-0.10
on perl 5.41.12, created by CPAN-Reporter-1.2020.

Thank you for uploading your work to CPAN.  Congratulations!
All tests were successful.

Sections of this report:

    * Tester comments
    * Program output
    * Prerequisites
    * Environment and other context

------------------------------
TESTER COMMENTS
------------------------------

Additional comments from tester:

none provided

------------------------------
PROGRAM OUTPUT
------------------------------

Output from '/usr/bin/make test':

PERL_DL_NONLAZY=1 "/opt/perl-5.41.12/bin/perl5.41.12" "-MExtUtils::Command::MM" "-MTest::Harness" "-e" "undef *Test::Harness::Switches; test_harness(0, 'blib/lib', 'blib/arch')" t/*.t
# Testing Config::JSON::Enhanced 0.10, Perl 5.041012, /opt/perl-5.41.12/bin/perl5.41.12
t/000-load.t ........................................... ok
t/010-config2perl-simple.t ............................. ok
t/030-config2perl-simple-utf8.t ........................ ok
t/060-config2perl-complex.t ............................ ok
t/070-config2perl-complex-utf8.t ....................... ok
json2perl() :  error, call to json2perl() has failed with this exception: malformed JSON string, neither tag, array, object, number, string or atom, at character offset 51 (before "<%begin-verbatim-sec...") at /opt/perl-5.41.12/lib/site_perl/5.41.12/Data/Roundtrip.pm line 253.
:
  {
    "long bash script" : ["/usr/bin/bash",
    <%begin-verbatim-section%>
    pushd . &> /dev/null
    echo "My 'appdir' is \"/home/cpansand/.cpan/build/2025042319/Config-JSON-Enhanced-0.10-0/t\""
    echo "My current dir: " $(echo $PWD) " and bye"
    popd &> /dev/null
    ],
    
    "expected result" : "42"
  }


Config::JSON::Enhanced::config2perl() (line 214) : error, call to Data::Roundtrip::json2perl() has failed for above json string and comments style 'C,CPP'. at /home/cpansand/.cpan/build/2025042319/Config-JSON-Enhanced-0.10-0/blib/lib/Config/JSON/Enhanced.pm line 214.
t/090-config2perl-failed-verbatim.t .................... ok
# $VAR1 = {
#   "b" => "i am a verbatim section:\nhehehe\n</* this must remain */>\nand goodbye from verbatim section.",
#   "a" => "hello ***"
# };
# $VAR1 = {
#   "b" => "i am a verbatim section:\n***\n\\* this must remain *\\\nand goodbye from verbatim section.",
#   "a" => "hello hahaha"
# };
# $VAR1 = {
#   "b" => "i am a verbatim section:\n+++\n/*/+/? this must remain ?/+/*/\nand goodbye from verbatim section.",
#   "a" => "hello hahaha"
# };
# $VAR1 = {
#   "b" => "i am a verbatim section:\n{\n--- this must remain +++\nand goodbye from verbatim section.",
#   "a" => "hello }"
# };
t/100-tags-for-comments-and-verbatim-and-variables.t ... ok
t/110-config2perl-dont-remove-comments-from-strings.t .. ok
t/130-config2perl-remove-comments-from-strings.t ....... ok
t/150-config2perl-comments-in-verbatim-section.t ....... ok
t/200-commentstyle.t ................................... ok
t/250-custom-tags.t .................................... ok
Config::JSON::Enhanced::configfile2perl() (line 80) : error, there is a clash (exact match) with verbatim/variable tags ('<:*' and '*:>') and comment tags ('<:*' and '*:>'). at /home/cpansand/.cpan/build/2025042319/Config-JSON-Enhanced-0.10-0/blib/lib/Config/JSON/Enhanced.pm line 80.
Config::JSON::Enhanced::configfile2perl() (line 80) : error, there is a clash (exact match) with verbatim/variable tags ('<:*' and '*:>!!') and comment tags ('<:*' and '!!*:>'). at /home/cpansand/.cpan/build/2025042319/Config-JSON-Enhanced-0.10-0/blib/lib/Config/JSON/Enhanced.pm line 80.
Config::JSON::Enhanced::configfile2perl() (line 80) : error, there is a clash (exact match) with verbatim/variable tags ('*:>' and 'xxx') and comment tags ('<:*' and '*:>'). at /home/cpansand/.cpan/build/2025042319/Config-JSON-Enhanced-0.10-0/blib/lib/Config/JSON/Enhanced.pm line 80.
Config::JSON::Enhanced::configfile2perl() (line 69) : error, input parameter 'tags' must be an ARRAYref of exactly 2 items and not a ''. at /home/cpansand/.cpan/build/2025042319/Config-JSON-Enhanced-0.10-0/blib/lib/Config/JSON/Enhanced.pm line 69.
Config::JSON::Enhanced::configfile2perl() (line 84) : error, there is a clash (one contains the other) with verbatim/variable tags ('<<<:*>>' and 'xxx') and comment tags ('<:*' and '*:>'). at /home/cpansand/.cpan/build/2025042319/Config-JSON-Enhanced-0.10-0/blib/lib/Config/JSON/Enhanced.pm line 84.
Config::JSON::Enhanced::configfile2perl() (line 84) : error, there is a clash (one contains the other) with verbatim/variable tags ('xxx' and '<<<*:>>>>') and comment tags ('<:*' and '*:>'). at /home/cpansand/.cpan/build/2025042319/Config-JSON-Enhanced-0.10-0/blib/lib/Config/JSON/Enhanced.pm line 84.
Config::JSON::Enhanced::configfile2perl() (line 84) : error, there is a clash (one contains the other) with verbatim/variable tags ('<<<:*>>' and 'xxx') and comment tags ('<:*' and '*:>'). at /home/cpansand/.cpan/build/2025042319/Config-JSON-Enhanced-0.10-0/blib/lib/Config/JSON/Enhanced.pm line 84.
Config::JSON::Enhanced::configfile2perl() (line 87) : error, there is a clash (one contains the other) with verbatim/variable tags ('<:*' and '*:>') and comment tags ('xxx' and '<<<*:>>>>'). at /home/cpansand/.cpan/build/2025042319/Config-JSON-Enhanced-0.10-0/blib/lib/Config/JSON/Enhanced.pm line 87.
t/300-tags-clashing.t .................................. ok
t/800-config2perl-pod-synopsis.t ....................... ok
# $VAR1 = {
#   "long bash script" => [
#     "/usr/bin/bash",
#     "# save current dir, this comment remains\npushd . &> /dev/null\n# following quotes will be escaped\necho \"My 'appdir' is \\\"/home/cpansand/.cpan/build/2025042319/Config-JSON-Enhanced-0.10-0/t\\\"\"\necho \"My current dir: \" \$(echo \$PWD) \" and bye\"\n# go back to initial dir, this comment remains\npopd &> /dev/null"
#   ],
#   "expected result" => 42
# };
t/810-config2perl-pod.t ................................ ok
t/manifest.t ........................................... skipped: Author tests not required for installation
t/pod-coverage.t ....................................... skipped: Author tests not required for installation
t/pod.t ................................................ skipped: Author tests not required for installation
All tests successful.
Files=18, Tests=7062,  4 wallclock secs ( 0.62 usr  0.11 sys +  3.04 cusr  0.40 csys =  4.17 CPU)
Result: PASS

------------------------------
PREREQUISITES
------------------------------

Prerequisite modules loaded:

requires:

    Module              Need  Have    
    ------------------- ----- --------
    Data::Roundtrip     0.16  0.29    
    perl                5.006 5.041012

build_requires:

    Module              Need  Have    
    ------------------- ----- --------
    Cwd                 0     3.94    
    ExtUtils::MakeMaker 0     7.74    
    File::Spec          0     3.94    
    File::Temp          0     0.2311  
    FindBin             0     1.54    
    Test2::Plugin::UTF8 0     1.302210
    Test::More          0     1.302210

configure_requires:

    Module              Need  Have    
    ------------------- ----- --------
    ExtUtils::MakeMaker 6.64  7.74    


------------------------------
ENVIRONMENT AND OTHER CONTEXT
------------------------------

Environment variables:

    LANG = C
    PATH = /usr/local/bin:/usr/bin:/bin:/usr/local/sbin:/usr/sbin:/sbin:/home/cpansand/bin/linux-gnu:/home/cpansand/bin/sh:/home/cpansand/bin:/usr/games:/home/cpansand/devel:/home/eserte/src/srezic-misc/scripts
    PERL5LIB = 
    PERL5OPT = 
    PERL5_CPANPLUS_IS_RUNNING = 2221794
    PERL5_CPAN_IS_RUNNING = 2221794
    PERL5_CPAN_IS_RUNNING_IN_RECURSION = 2082827,2221794
    PERLDOC = -MPod::Perldoc::ToTextOverstrike
    PERL_BATCH = yes
    PERL_CANARY_STABILITY_NOPROMPT = 1
    PERL_CPAN_REPORTER_CONFIG = /var/tmp/cpansmoker-1023/2025042317/cpanreporter_000_config.ini
    PERL_EXTUTILS_AUTOINSTALL = --defaultdeps
    PERL_USE_UNSAFE_INC = 1
    SHELL = /usr/bin/zsh
    TERM = screen
    TMPDIR = /var/tmp/cpansmoker-1023/2025042317

Perl special variables (and OS-specific diagnostics, for MSWin32):

    $^X = /opt/perl-5.41.12/bin/perl5.41.12
    $UID/$EUID = 1023 / 1023
    $GID = 1023 1023
    $EGID = 1023 1023

Perl module toolchain versions installed:

    Module              Have    
    ------------------- --------
    CPAN                2.38    
    CPAN::Meta          2.150010
    Cwd                 3.94    
    ExtUtils::CBuilder  0.280240
    ExtUtils::Command   7.74    
    ExtUtils::Install   2.22    
    ExtUtils::MakeMaker 7.74    
    ExtUtils::Manifest  1.75    
    ExtUtils::ParseXS   3.57    
    File::Spec          3.94    
    JSON                4.10    
    JSON::PP            4.16    
    Module::Build       0.4234  
    Module::Signature   n/a     
    Parse::CPAN::Meta   2.150010
    Test2               1.302210
    Test::Harness       3.50    
    Test::More          1.302210
    YAML                1.31    
    YAML::Syck          1.34    
    version             0.9933  


--

Summary of my perl5 (revision 5 version 41 subversion 12) configuration:
   
  Platform:
    osname=linux
    osvers=6.1.0-33-amd64
    archname=x86_64-linux
    uname='linux cloud5.bbbike.org 6.1.0-33-amd64 #1 smp preempt_dynamic debian 6.1.133-1 (2025-04-10) x86_64 gnulinux '
    config_args='-ds -e -Dprefix=/opt/perl-5.41.12 -Uinstallusrbinperl -Dusedevel -Dusemallocwrap=no -Dcf_email=srezic@cpan.org'
    hint=recommended
    useposix=true
    d_sigaction=define
    useithreads=undef
    usemultiplicity=undef
    use64bitint=define
    use64bitall=define
    uselongdouble=undef
    usemymalloc=n
    default_inc_excludes_dot=define
  Compiler:
    cc='cc'
    ccflags ='-fwrapv -fno-strict-aliasing -pipe -fstack-protector-strong -I/usr/local/include -D_LARGEFILE_SOURCE -D_FILE_OFFSET_BITS=64 -D_FORTIFY_SOURCE=2'
    optimize='-O2'
    cppflags='-fwrapv -fno-strict-aliasing -pipe -fstack-protector-strong -I/usr/local/include'
    ccversion=''
    gccversion='12.2.0'
    gccosandvers=''
    intsize=4
    longsize=8
    ptrsize=8
    doublesize=8
    byteorder=12345678
    doublekind=3
    d_longlong=define
    longlongsize=8
    d_longdbl=define
    longdblsize=16
    longdblkind=3
    ivtype='long'
    ivsize=8
    nvtype='double'
    nvsize=8
    Off_t='off_t'
    lseeksize=8
    alignbytes=8
    prototype=define
  Linker and Libraries:
    ld='cc'
    ldflags =' -fstack-protector-strong -L/usr/local/lib'
    libpth=/usr/local/lib /usr/lib/x86_64-linux-gnu /usr/lib /usr/lib64
    libs=-lpthread -lgdbm -ldb -ldl -lm -lcrypt -lutil -lc
    perllibs=-lpthread -ldl -lm -lcrypt -lutil -lc
    libc=/lib/x86_64-linux-gnu/libc.so.6
    so=so
    useshrplib=false
    libperl=libperl.a
    gnulibc_version='2.36'
  Dynamic Linking:
    dlsrc=dl_dlopen.xs
    dlext=so
    d_dlsymun=undef
    ccdlflags='-Wl,-E'
    cccdlflags='-fPIC'
    lddlflags='-shared -O2 -L/usr/local/lib -fstack-protector-strong'


Characteristics of this binary (from libperl): 
  Compile-time options:
    HAS_LONG_DOUBLE
    HAS_STRTOLD
    HAS_TIMES
    PERLIO_LAYERS
    PERL_COPY_ON_WRITE
    PERL_DONT_CREATE_GVSV
    PERL_HASH_FUNC_SIPHASH13
    PERL_HASH_USE_SBOX32
    PERL_OP_PARENT
    PERL_PRESERVE_IVUV
    PERL_USE_DEVEL
    PERL_USE_SAFE_PUTENV
    USE_64_BIT_ALL
    USE_64_BIT_INT
    USE_LARGE_FILES
    USE_LOCALE
    USE_LOCALE_COLLATE
    USE_LOCALE_CTYPE
    USE_LOCALE_NUMERIC
    USE_LOCALE_TIME
    USE_PERLIO
    USE_PERL_ATOF
  Built under linux
  Compiled at Apr 23 2025 15:17:31
  %ENV:
    PERL5LIB=""
    PERL5OPT=""
    PERL5_CPANPLUS_IS_RUNNING="2221794"
    PERL5_CPAN_IS_RUNNING="2221794"
    PERL5_CPAN_IS_RUNNING_IN_RECURSION="2082827,2221794"
    PERLDOC="-MPod::Perldoc::ToTextOverstrike"
    PERL_BATCH="yes"
    PERL_CANARY_STABILITY_NOPROMPT="1"
    PERL_CPAN_REPORTER_CONFIG="/var/tmp/cpansmoker-1023/2025042317/cpanreporter_000_config.ini"
    PERL_EXTUTILS_AUTOINSTALL="--defaultdeps"
    PERL_USE_UNSAFE_INC="1"
  @INC:
    /opt/perl-5.41.12/lib/site_perl/5.41.12/x86_64-linux
    /opt/perl-5.41.12/lib/site_perl/5.41.12
    /opt/perl-5.41.12/lib/5.41.12/x86_64-linux
    /opt/perl-5.41.12/lib/5.41.12
    .