Report for Soar-Production-0.03

Back
From: metabase:user:00e8548a-0e72-11e3-8ee3-df0a9c418065
Subject: PASS Soar-Production-0.03 v5.14.4 Windows (Cygwin)
Date: 2013-09-05T20:17:21Z

This distribution has been tested as part of the CPAN Testers
project, supporting the Perl programming language.  See
http://wiki.cpantesters.org/ for more information or email
questions to cpan-testers-discuss@perl.org


--
Dear Nathan Gary Glenn,

This is a computer-generated report for Soar-Production-0.03
on perl 5.14.4, created by CPAN-Reporter-1.2010.

Thank you for uploading your work to CPAN.  Congratulations!
All tests were successful.

Sections of this report:

    * Tester comments
    * Program output
    * Prerequisites
    * Environment and other context

------------------------------
TESTER COMMENTS
------------------------------

Additional comments from tester:

this report is from an automated smoke testing program
and was not reviewed by a human for accuracy

------------------------------
PROGRAM OUTPUT
------------------------------

Output from './Build test':

t/0-use.t ........................ ok
t/00-compile.t ................... ok
# 
# 
# Generated by Dist::Zilla::Plugin::ReportVersions::Tiny v1.08
# perl: 5.014004 (wanted 5.010) on cygwin from /usr/bin/perl
# 
# Carp                                          => 1.32       (want any version)
# Data::Diver                                   => 1.0101     (want any version)
# Data::Dumper                                  => 2.145      (want any version)
# Exporter::Easy                                => 0.16       (want any version)
# File::Find                                    => 1.19       (want any version)
# File::Spec                                    => 3.40       (want any version)
# File::Spec::Functions                         => 3.40       (want any version)
# File::Temp                                    => 0.2301     (want any version)
# FindBin                                       => 1.50       (want any version)
# Module::Build                                 => 0.4007     (want 0.3601) 
# Parse::RecDescent                             => 1.967009   (want any version)
# Path::Tiny                                    => 0.030      (want any version)
# Pod::Coverage::TrustPod                       => module not found. (want any version)
# Test::Base                                    => 0.60       (want any version)
# Test::Base::Filter                            => <undef>    (want any version)
# Test::CPAN::Meta                              => module not found. (want any version)
# Test::Deep                                    => 0.11       (want any version)
# Test::Exception                               => 0.32       (want any version)
# Test::LongString                              => 0.15       (want any version)
# Test::More                                    => 0.98       (want 0.88)   
# Test::Pod                                     => 1.48       (want 1.41)   
# Test::Pod::Coverage                           => 1.08       (want 1.08)   
# Test::Warn                                    => 0.24       (want any version)
# strict                                        => 1.04       (want any version)
# utf8                                          => 1.09       (want any version)
# version                                       => 0.9903     (want 0.9901) 
# warnings                                      => 1.12       (want any version)
# 
# Thanks for using my code.  I hope it works for you.
# If not, please try and include this output in the bug report.
# That will help me reproduce the issue and solve your problem.
# 
t/000-report-versions-tiny.t ..... ok
t/1-basic.t ...................... ok
t/parser/00-use.t ................ ok
t/parser/01-bad_input.t .......... ok
t/parser/01_5-comments.t ......... ok
t/parser/02-split-productions.t .. ok
Subroutine main::is redefined at t/parser/03-production-names.t line 4.
t/parser/03-production-names.t ... ok
Subroutine main::is redefined at t/parser/04-documentation.t line 5.
t/parser/04-documentation.t ...... ok
Subroutine main::is redefined at t/parser/05-Flags.t line 5.
t/parser/05-Flags.t .............. ok
Subroutine main::is redefined at t/parser/06-State.t line 6.
t/parser/06-State.t .............. ok
Subroutine main::is redefined at t/parser/07-variables.t line 6.
t/parser/07-variables.t .......... ok
Subroutine main::is redefined at t/parser/08-attributes.t line 6.
t/parser/08-attributes.t ......... ok
Subroutine main::is redefined at t/parser/09-int.t line 6.
t/parser/09-int.t ................ ok
Subroutine main::is redefined at t/parser/10-float.t line 6.
t/parser/10-float.t .............. ok
Subroutine main::is redefined at t/parser/11-string.t line 5.
t/parser/11-string.t ............. ok
Subroutine main::is redefined at t/parser/12-quoted.t line 5.
t/parser/12-quoted.t ............. ok
Subroutine main::is redefined at t/parser/13-disjunct.t line 5.
t/parser/13-disjunct.t ........... ok
Subroutine main::is redefined at t/parser/14-conjunct.t line 5.
t/parser/14-conjunct.t ........... ok
Subroutine main::is redefined at t/parser/15-predicate.t line 5.
t/parser/15-predicate.t .......... ok
Subroutine main::is redefined at t/parser/16-preference.t line 6.
t/parser/16-preference.t ......... ok
Subroutine main::is redefined at t/parser/17-function.t line 5.
t/parser/17-function.t ........... ok
Subroutine main::is redefined at t/parser/18-negative.t line 5.
t/parser/18-negative.t ........... ok
Subroutine main::is redefined at t/parser/19-conjunctiveCond.t line 5.
t/parser/19-conjunctiveCond.t .... ok
t/parser/20-test_data.t .......... ok
t/printer/0-use.t ................ ok
t/printer/1-test_data.t .......... ok
All tests successful.
Files=28, Tests=1816, 75 wallclock secs ( 0.11 usr  0.08 sys + 72.43 cusr  1.75 csys = 74.38 CPU)
Result: PASS

------------------------------
PREREQUISITES
------------------------------

Prerequisite modules loaded:

requires:

    Module                Need   Have    
    --------------------- ------ --------
    Carp                  0      1.32    
    Data::Dumper          0      2.145   
    Exporter::Easy        0      0.16    
    Parse::RecDescent     0      1.967009
    perl                  5.010  5.014004
    strict                0      1.04    
    warnings              0      1.12    

build_requires:

    Module                Need   Have    
    --------------------- ------ --------
    Data::Diver           0      1.0101  
    File::Find            0      1.19    
    File::Spec            0      3.40    
    File::Spec::Functions 0      3.40    
    File::Temp            0      0.2301  
    FindBin               0      1.50    
    Module::Build         0.3601 0.4007  
    Path::Tiny            0      0.030   
    Test::Base            0      0.60    
    Test::Base::Filter    0      0       
    Test::Deep            0      0.110   
    Test::Exception       0      0.32    
    Test::LongString      0      0.15    
    Test::More            0.88   0.98    
    Test::Warn            0      0.24    
    utf8                  0      1.09    

configure_requires:

    Module                Need   Have    
    --------------------- ------ --------
    Module::Build         0.3601 0.4007  


------------------------------
ENVIRONMENT AND OTHER CONTEXT
------------------------------

Environment variables:

    AUTOMATED_TESTING = 1
    COMSPEC = C:\Windows\system32\cmd.exe
    LANG = en_US.UTF-8
    NUMBER_OF_PROCESSORS = 4
    PATH = /usr/local/bin:/usr/bin:/cygdrive/c/Program Files/Common Files/Microsoft Shared/Windows Live:/cygdrive/c/Program Files (x86)/Common Files/Microsoft Shared/Windows Live:/cygdrive/c/Program Files (x86)/AMD APP/bin/x86_64:/cygdrive/c/Program Files (x86)/AMD APP/bin/x86:/cygdrive/c/Windows/system32:/cygdrive/c/Windows:/cygdrive/c/Windows/System32/Wbem:/cygdrive/c/Windows/System32/WindowsPowerShell/v1.0:/cygdrive/c/Program Files (x86)/ATI Technologies/ATI.ACE/Core-Static:/cygdrive/c/Program Files (x86)/Security Innovation/SI TSS/bin:/cygdrive/c/Program Files (x86)/Windows Live/Shared
    PERL5LIB = 
    PERL5OPT = 
    PERL5_CPANPLUS_IS_RUNNING = 9212
    PERL5_CPAN_IS_RUNNING = 9212
    PERL5_CPAN_IS_RUNNING_IN_RECURSION = 8976,9212
    PERL_CR_SMOKER_CURRENT = Soar-Production-0.03
    PERL_EXTUTILS_AUTOINSTALL = --defaultdeps
    PERL_MM_USE_DEFAULT = 1
    PROCESSOR_IDENTIFIER = Intel64 Family 6 Model 58 Stepping 9, GenuineIntel
    SHELL = /bin/bash
    TEMP = /tmp
    TERM = xterm

Perl special variables (and OS-specific diagnostics, for MSWin32):

    $^X = /usr/bin/perl
    $UID/$EUID = 2855161 / 2855161
    $GID = 10513 0 544 545 1005 1003 10513
    $EGID = 10513 0 544 545 1005 1003 10513

Perl module toolchain versions installed:

    Module              Have    
    ------------------- --------
    CPAN                2.00    
    CPAN::Meta          2.132140
    Cwd                 3.40    
    ExtUtils::CBuilder  0.280205
    ExtUtils::Command   1.17    
    ExtUtils::Install   1.56    
    ExtUtils::MakeMaker 6.74    
    ExtUtils::Manifest  1.61    
    ExtUtils::ParseXS   3.21    
    File::Spec          3.40    
    JSON                2.59    
    JSON::PP            2.27202 
    Module::Build       0.4007  
    Module::Signature   n/a     
    Parse::CPAN::Meta   1.4405  
    Test::Harness       3.28    
    Test::More          0.98    
    YAML                0.84    
    YAML::Syck          1.27    
    version             0.9903  


--

Summary of my perl5 (revision 5 version 14 subversion 4) configuration:
   
  Platform:
    osname=cygwin, osvers=1.7.18(0.26353), archname=cygwin-thread-multi
    uname='cygwin_nt-6.1 yaakov04 1.7.18(0.26353) 2013-03-07 19:25 x86_64 cygwin '
    config_args='-d -e -Dprefix=/usr -Dmksymlinks -Dusethreads -Darchname=x86_64-cygwin-threads -Dlibperl=cygperl5_14.dll -Dcc=gcc -Dld=g++'
    hint=recommended, useposix=true, d_sigaction=define
    useithreads=define, usemultiplicity=define
    useperlio=define, d_sfio=undef, uselargefiles=define, usesocks=undef
    use64bitint=define, use64bitall=define, uselongdouble=undef
    usemymalloc=n, bincompat5005=undef
  Compiler:
    cc='gcc', ccflags ='-DPERL_USE_SAFE_PUTENV -U__STRICT_ANSI__ -fno-strict-aliasing -pipe -fstack-protector',
    optimize='-O3',
    cppflags='-DPERL_USE_SAFE_PUTENV -U__STRICT_ANSI__ -fno-strict-aliasing -pipe -fstack-protector'
    ccversion='', gccversion='4.8.0 20130307 (experimental)', gccosandvers=''
    intsize=4, longsize=8, ptrsize=8, doublesize=8, byteorder=12345678
    d_longlong=define, longlongsize=8, d_longdbl=define, longdblsize=16
    ivtype='long', ivsize=8, nvtype='double', nvsize=8, Off_t='off_t', lseeksize=8
    alignbytes=8, prototype=define
  Linker and Libraries:
    ld='g++', ldflags =' -Wl,--enable-auto-import -Wl,--export-all-symbols -Wl,--enable-auto-image-base -fstack-protector'
    libpth=/usr/lib /lib
    libs=-lgdbm -ldb -ldl -lcrypt -lgdbm_compat
    perllibs=-ldl -lcrypt
    libc=/usr/lib/libc.a, so=dll, useshrplib=true, libperl=cygperl5_14.dll
    gnulibc_version=''
  Dynamic Linking:
    dlsrc=dl_dlopen.xs, dlext=dll, d_dlsymun=undef, ccdlflags=' '
    cccdlflags=' ', lddlflags=' --shared  -Wl,--enable-auto-import -Wl,--export-all-symbols -Wl,--enable-auto-image-base -fstack-protector'


Characteristics of this binary (from libperl): 
  Compile-time options: MULTIPLICITY PERL_DONT_CREATE_GVSV
                        PERL_IMPLICIT_CONTEXT PERL_PRESERVE_IVUV
                        PERL_USE_SAFE_PUTENV USE_64_BIT_ALL USE_64_BIT_INT
                        USE_ITHREADS USE_LARGE_FILES USE_PERLIO USE_PERL_ATOF
                        USE_REENTRANT_API
  Locally applied patches:
	Bug#55162 File::Spec::case_tolerant performance
	CYG07 $vendorarch/auto/.rebase
	CYG15 static Win32CORE
	CYG17 cyg-1.7 paths-utf8
	0c612ce82 Fix building static extensions on cygwin, -UUSEIMPORTLIB
	1bac5ecc1 Fix 64-bit threading sv.c: S_anonymise_cv_maybe
	Cygwin::sync_winenv added
  Built under cygwin
  Compiled at Mar 11 2013 18:25:23
  %ENV:
    PERL5LIB=""
    PERL5OPT=""
    PERL5_CPANPLUS_IS_RUNNING="9212"
    PERL5_CPAN_IS_RUNNING="9212"
    PERL5_CPAN_IS_RUNNING_IN_RECURSION="8976,9212"
    PERL_CR_SMOKER_CURRENT="Soar-Production-0.03"
    PERL_EXTUTILS_AUTOINSTALL="--defaultdeps"
    PERL_MM_USE_DEFAULT="1"
  @INC:
    /usr/lib/perl5/site_perl/5.14/x86_64-cygwin-threads
    /usr/lib/perl5/site_perl/5.14
    /usr/lib/perl5/vendor_perl/5.14/x86_64-cygwin-threads
    /usr/lib/perl5/vendor_perl/5.14
    /usr/lib/perl5/5.14/x86_64-cygwin-threads
    /usr/lib/perl5/5.14
    .