SOAP-Lite v1.27 Perl 5 v5.39.9 amd64-netbsd-thread-multi
- Status
- Pass
- From
- Carlos Guevara
- Dist
-
SOAP-Lite v1.27
- Platform
- Perl 5 v5.39.9 amd64-netbsd-thread-multi
- Date
- 2024-03-12 17:20:05
- ID
- c47de964-e094-11ee-b2d3-44c80bcbfe6a
This distribution has been tested as part of the CPAN Testers
project, supporting the Perl programming language. See
http://wiki.cpantesters.org/ for more information or email
questions to cpan-testers-discuss@perl.org
--
Dear Fred Moyer,
This is a computer-generated report for SOAP-Lite-1.27
on perl 5.39.9, created by CPAN-Reporter-1.2019.
Thank you for uploading your work to CPAN. Congratulations!
All tests were successful.
Sections of this report:
* Tester comments
* Program output
* Prerequisites
* Environment and other context
------------------------------
TESTER COMMENTS
------------------------------
Additional comments from tester:
this report is from an automated smoke testing program
and was not reviewed by a human for accuracy
------------------------------
PROGRAM OUTPUT
------------------------------
Output from '/usr/bin/make test':
PERL_DL_NONLAZY=1 "/home/cpan/bin/perl/bin/perl5.39.9" "-MExtUtils::Command::MM" "-MTest::Harness" "-e" "undef *Test::Harness::Switches; test_harness(0, 'blib/lib', 'blib/arch')" t/*.t t/Issues/*.t t/SOAP/*.t t/SOAP/Lite/*.t t/SOAP/Lite/Deserializer/*.t t/SOAP/Schema/*.t t/SOAP/Transport/*.t t/SOAP/Transport/HTTP/*.t
t/01-core.t .................................. ok
t/010-serializer.t ........................... ok
t/012-cloneable.t ............................ ok
t/013-array-deserialization.t ................ ok
t/014_UNIVERSAL_use.t ........................ ok
t/015_UNIVERSAL_can.t ........................ ok
t/02-payload.t ............................... ok
t/03-server.t ................................ ok
t/04-attach-cid-encoded.t .................... ok
t/04-attach.t ................................ ok
t/05-customxml.t ............................. ok
t/06-modules.t ............................... ok
t/08-schema.t ................................ ok
t/11-cgi.t ................................... skipped: 500 Can't connect to localhost:80 (Connection refused)
t/12-cgi_https.t ............................. skipped: 500 Can't connect to localhost:443 (Connection refused)
t/13-mod_perl.t .............................. skipped: 500 Can't connect to localhost:80 (Connection refused)
t/14-cgi_apache.t ............................ skipped: 500 Can't connect to localhost:80 (Connection refused)
t/15-daemon.t ................................ skipped: 500 Can't connect to localhost:80 (Connection refused)
t/17-mod_soap.t .............................. skipped: 500 Can't connect to localhost:80 (Connection refused)
t/19-apachesoap.t ............................ skipped: 500 Can't connect to localhost:8080 (Connection refused)
t/21-public.t ................................ skipped: 500 Can't connect to services.xmethods.net:80 (No address associated with hostname)
t/22-interop_apache.t ........................ skipped: 500 Can't connect to nagoya.apache.org:5049 (No address associated with hostname)
t/23-ppm.t ................................... skipped: ActiveState's ppmserver.pl server seems to be broken - skipping tests
t/24-wsdl.t .................................. skipped: 500 Can't connect to services.xmethods.net:80 (No address associated with hostname)
t/36-leaks.t ................................. skipped: 500 Can't connect to services.soaplite.com:80 (No address associated with hostname)
t/38-packager.t .............................. ok
t/40-loopback.t .............................. ok
t/author-pod-syntax.t ........................ skipped: these tests are for testing by the author
t/Issues/rt107924.t .......................... ok
t/Issues/rt15176.t ........................... ok
t/Issues/rt53375.t ........................... ok
t/Issues/rt70329.t ........................... ok
t/Issues/rt70381.t ........................... skipped: This is a performance test. Set PROFILE_PERFORMANCE env var to a true value to run
t/Issues/rt72836.t ........................... ok
t/Issues/rt74029.t ........................... skipped: not fixed yet
t/Issues/rt74308.t ........................... ok
t/Issues/rt75169.t ........................... ok
t/Issues/rt78588.t ........................... ok
t/Issues/rt88915.t ........................... ok
t/release-kwalitee.t ......................... skipped: these tests are for release candidate testing
t/SOAP/Data.t ................................ ok
t/SOAP/Lite/Deserializer/XMLSchema1999.t ..... ok
t/SOAP/Lite/Deserializer/XMLSchema2001.t ..... ok
t/SOAP/Lite/Deserializer/XMLSchemaSOAP1_1.t .. ok
t/SOAP/Lite/Deserializer/XMLSchemaSOAP1_2.t .. ok
t/SOAP/Lite/Packager.t ....................... ok
t/SOAP/Schema/WSDL.t ......................... ok
t/SOAP/Serializer.t .......................... ok
t/SOAP/Transport/HTTP.t ...................... ok
t/SOAP/Transport/HTTP/CGI.t .................. ok
t/SOAP/Transport/IO.t ........................ ok
t/SOAP/Transport/LOCAL.t ..................... ok
t/SOAP/Transport/LOOPBACK.t .................. ok
t/SOAP/Transport/MAILTO.t .................... ok
t/SOAP/Transport/POP3.t ...................... ok
t/SOAP/Transport/TCP.t ....................... ok
All tests successful.
Files=56, Tests=895, 36 wallclock secs ( 0.15 usr 0.09 sys + 3.91 cusr 1.25 csys = 5.40 CPU)
Result: PASS
------------------------------
PREREQUISITES
------------------------------
Prerequisite modules loaded:
requires:
Module Need Have
-------------------- -------- --------
Class::Inspector 0 1.36
Compress::Zlib 0 2.207
constant 0 1.33
IO::SessionData 1.03 1.03
IO::Socket::SSL 0 2.085
LWP::Protocol::https 0 6.14
LWP::UserAgent 0 6.77
MIME::Base64 0 3.16_01
perl 5.006000 5.039009
Scalar::Util 0 1.63
Task::Weaken 0 1.06
URI 0 5.27
XML::Parser 2.23 2.47
build_requires:
Module Need Have
-------------------- -------- --------
ExtUtils::MakeMaker 0 7.70
IO::File 0 1.55
Test::More 0 1.302198
Test::Warn 0 0.37
XML::Parser::Lite 0.715 0.722
configure_requires:
Module Need Have
-------------------- -------- --------
ExtUtils::MakeMaker 0 7.70
------------------------------
ENVIRONMENT AND OTHER CONTEXT
------------------------------
Environment variables:
AUTOMATED_TESTING = 1
DATE_MANIP_TEST_DM5 = 1
LC_ALL = C
NONINTERACTIVE_TESTING = 1
NO_NETWORK_TESTING = 1
PATH = /home/cpan/bin/perl/bin:/home/cpan/bin:/home/cpan/bin:/bin:/sbin:/usr/bin:/usr/sbin:/usr/X11R7/bin:/usr/pkg/bin:/usr/pkg/sbin:/usr/games:/usr/local/bin:/usr/local/sbin
PERL5LIB =
PERL5OPT =
PERL5_CPANPLUS_IS_RUNNING = 3306
PERL5_CPAN_IS_RUNNING = 3306
PERL_MM_USE_DEFAULT = 1
PERL_USE_UNSAFE_INC = 1
SHELL = /usr/pkg/bin/bash
TERM = screen
TMPDIR = /home/cpan/tmp
Perl special variables (and OS-specific diagnostics, for MSWin32):
$^X = /home/cpan/bin/perl/bin/perl5.39.9
$UID/$EUID = 1001 / 1001
$GID = 100 100
$EGID = 100 100
Perl module toolchain versions installed:
Module Have
------------------- --------
CPAN 2.36
CPAN::Meta 2.150010
Cwd 3.90
ExtUtils::CBuilder 0.280240
ExtUtils::Command 7.70
ExtUtils::Install 2.22
ExtUtils::MakeMaker 7.70
ExtUtils::Manifest 1.75
ExtUtils::ParseXS 3.51
File::Spec 3.90
JSON 4.10
JSON::PP 4.16
Module::Build 0.4234
Module::Signature n/a
Parse::CPAN::Meta 2.150010
Test2 1.302198
Test::Harness 3.48
Test::More 1.302198
YAML 1.31
YAML::Syck 1.34
version 0.9930
--
Summary of my perl5 (revision 5 version 39 subversion 9) configuration:
Commit id: dc0509e13cd6fb3e8870d63b7350025a8ba593f8
Platform:
osname=netbsd
osvers=9.3
archname=amd64-netbsd-thread-multi
uname='netbsd cjg-netbsd9 9.3 netbsd 9.3 (generic) #0: thu aug 4 15:30:37 utc 2022 mkrepro@mkrepro.netbsd.org:usrsrcsysarchamd64compilegeneric amd64 '
config_args='-des -Dprefix=/home/cpan/bin/perl -Dscriptdir=/home/cpan/bin/perl/bin -Dusedevel -Duse64bitall -Duseithreads'
hint=recommended
useposix=true
d_sigaction=define
useithreads=define
usemultiplicity=define
use64bitint=define
use64bitall=define
uselongdouble=undef
usemymalloc=n
default_inc_excludes_dot=define
Compiler:
cc='cc'
ccflags ='-fwrapv -fno-strict-aliasing -pipe -fstack-protector-strong -I/usr/pkg/include -D_FORTIFY_SOURCE=2'
optimize='-O'
cppflags='-fwrapv -fno-strict-aliasing -pipe -fstack-protector-strong -I/usr/pkg/include'
ccversion=''
gccversion='7.5.0'
gccosandvers=''
intsize=4
longsize=8
ptrsize=8
doublesize=8
byteorder=12345678
doublekind=3
d_longlong=define
longlongsize=8
d_longdbl=define
longdblsize=16
longdblkind=3
ivtype='long'
ivsize=8
nvtype='double'
nvsize=8
Off_t='off_t'
lseeksize=8
alignbytes=8
prototype=define
Linker and Libraries:
ld='cc'
ldflags =' -Wl,-rpath,/usr/pkg/lib -Wl,-rpath,/usr/local/lib -fstack-protector-strong -L/usr/pkg/lib'
libpth=/usr/lib /usr/pkg/lib /lib
libs=-lpthread -lm -lcrypt -lutil -lc -lposix
perllibs=-lpthread -lm -lcrypt -lutil -lc -lposix
libc=/lib/libc.so
so=so
useshrplib=false
libperl=libperl.a
gnulibc_version=''
Dynamic Linking:
dlsrc=dl_dlopen.xs
dlext=so
d_dlsymun=undef
ccdlflags='-Wl,-E '
cccdlflags='-DPIC -fPIC '
lddlflags='-shared -L/usr/pkg/lib -fstack-protector-strong'
Characteristics of this binary (from libperl):
Compile-time options:
HAS_LONG_DOUBLE
HAS_STRTOLD
HAS_TIMES
MULTIPLICITY
PERLIO_LAYERS
PERL_COPY_ON_WRITE
PERL_DONT_CREATE_GVSV
PERL_HASH_FUNC_SIPHASH13
PERL_HASH_USE_SBOX32
PERL_MALLOC_WRAP
PERL_OP_PARENT
PERL_PRESERVE_IVUV
PERL_USE_DEVEL
PERL_USE_SAFE_PUTENV
USE_64_BIT_ALL
USE_64_BIT_INT
USE_ITHREADS
USE_LARGE_FILES
USE_LOCALE
USE_LOCALE_COLLATE
USE_LOCALE_CTYPE
USE_LOCALE_NUMERIC
USE_LOCALE_TIME
USE_PERLIO
USE_PERL_ATOF
USE_REENTRANT_API
Built under netbsd
Compiled at Mar 12 2024 05:34:29
%ENV:
PERL5LIB=""
PERL5OPT=""
PERL5_CPANPLUS_IS_RUNNING="3306"
PERL5_CPAN_IS_RUNNING="3306"
PERL_MM_USE_DEFAULT="1"
PERL_USE_UNSAFE_INC="1"
@INC:
/home/cpan/bin/perl/lib/site_perl/5.39.9/amd64-netbsd-thread-multi
/home/cpan/bin/perl/lib/site_perl/5.39.9
/home/cpan/bin/perl/lib/5.39.9/amd64-netbsd-thread-multi
/home/cpan/bin/perl/lib/5.39.9
.