Back
From: metabase:user:30f0bd62-2aae-11df-837a-5e0a49663a4f
Subject: PASS SQL-Maker-1.07 v5.16.1 MirOS BSD
Date: 2012-10-06T11:48:38Z
This distribution has been tested as part of the CPAN Testers
project, supporting the Perl programming language. See
http://wiki.cpantesters.org/ for more information or email
questions to cpan-testers-discuss@perl.org
--
Dear Masahiro Chiba,
This is a computer-generated report for SQL-Maker-1.07
on perl 5.16.1, created by CPAN-Reporter-1.2006.
Thank you for uploading your work to CPAN. Congratulations!
All tests were successful.
Sections of this report:
* Tester comments
* Program output
* Prerequisites
* Environment and other context
------------------------------
TESTER COMMENTS
------------------------------
Additional comments from tester:
this report is from an automated smoke testing program
and was not reviewed by a human for accuracy
------------------------------
PROGRAM OUTPUT
------------------------------
Output from './Build test':
t/00_compile.t ............................ ok
t/01_delete.t ............................. ok
t/01_insert.t ............................. ok
t/01_select.t ............................. ok
t/01_simple.t ............................. ok
t/01_update.t ............................. ok
t/09_new_line.t ........................... ok
t/10_subquery.t ........................... ok
t/11_set.t ................................ ok
t/12_insert_empty.t ....................... ok
t/condition/01_where.t .................... ok
t/condition/02_make_term.t ................ ok
t/condition/03_add_raw.t .................. ok
t/condition/04_compose_empty.t ............ ok
t/plugins/insert_multi/01_insert_multi.t .. ok
t/select/01_statement.t ................... ok
t/select/02_pod_select.t .................. ok
t/select/oracle/01_oracle.t ............... ok
t/sql_type/01_sql_type.t .................. ok
t/sql_type/02_synopsis.t .................. skipped: Test requires module 'DBD::SQLite' but it's not found
All tests successful.
Files=20, Tests=85, 5 wallclock secs ( 0.26 usr 0.10 sys + 1.79 cusr 0.27 csys = 2.42 CPU)
Result: PASS
------------------------------
PREREQUISITES
------------------------------
Prerequisite modules loaded:
requires:
Module Need Have
--------------------- -------- --------
Class::Accessor::Lite 0.05 0.05
DBI 0 1.622
Module::Load 0 0.22
parent 0 0.225
perl 5.008001 5.016001
build_requires:
Module Need Have
--------------------- -------- --------
Test::More 0.98 0.98
Test::Requires 0 0.06
Tie::IxHash 0 1.22
configure_requires:
Module Need Have
--------------------- -------- --------
Module::Build 0.38 0.39_01
------------------------------
ENVIRONMENT AND OTHER CONTEXT
------------------------------
Environment variables:
AUTOMATED_TESTING = 1
LC_CTYPE = en_US.UTF-8
PATH = /home/sts/bin:/home/sts/.etc/bin:/usr/local/bin:/usr/mpkg/bin:/usr/bin:/bin:/usr/X11R6/bin:/usr/sbin:/sbin:/usr/mpkg/sbin:/usr/games
PERL5LIB = /home/sts/cpansmoke/perl-5.16.1/cpan/build/DBI-1.622-bH0COB/blib/arch:/home/sts/cpansmoke/perl-5.16.1/cpan/build/DBI-1.622-bH0COB/blib/lib:/home/sts/cpansmoke/perl-5.16.1/cpan/build/Class-Accessor-Lite-0.05-JqjUPC/blib/arch:/home/sts/cpansmoke/perl-5.16.1/cpan/build/Class-Accessor-Lite-0.05-JqjUPC/blib/lib:/home/sts/cpansmoke/perl-5.16.1/cpan/build/Tie-IxHash-1.22-nstker/blib/arch:/home/sts/cpansmoke/perl-5.16.1/cpan/build/Tie-IxHash-1.22-nstker/blib/lib:/home/sts/cpansmoke/perl-5.16.1/cpan/build/Test-Requires-0.06-Z2pT9d/blib/arch:/home/sts/cpansmoke/perl-5.16.1/cpan/build/Test-Requires-0.06-Z2pT9d/blib/lib
PERL5OPT =
PERL5_CPANPLUS_IS_RUNNING = 18763
PERL5_CPAN_IS_RUNNING = 18763
PERL5_CPAN_IS_RUNNING_IN_RECURSION = 21609,18763
PERL_CR_SMOKER_CURRENT = SQL-Maker-1.07
PERL_EXTUTILS_AUTOINSTALL = --defaultdeps
PERL_MM_USE_DEFAULT = 1
SHELL = /bin/mksh
TERM = screen
TMPDIR = /home/sts/cpansmoke/tmp
Perl special variables (and OS-specific diagnostics, for MSWin32):
$^X = /home/sts/cpansmoke/perl-5.16.1/bin/perl
$UID/$EUID = 3000 / 3000
$GID = 3000 3000 0 9 20
$EGID = 3000 3000 0 9 20
Perl module toolchain versions installed:
Module Have
------------------- --------
CPAN 1.9800
CPAN::Meta 2.120630
Cwd 3.39_02
ExtUtils::CBuilder 0.280206
ExtUtils::Command 1.17
ExtUtils::Install 1.58
ExtUtils::MakeMaker 6.63_02
ExtUtils::Manifest 1.61
ExtUtils::ParseXS 3.16
File::Spec 3.39_02
JSON 2.53
JSON::PP 2.27200
Module::Build 0.39_01
Module::Signature n/a
Parse::CPAN::Meta 1.4402
Test::Harness 3.23
Test::More 0.98
YAML n/a
YAML::Syck n/a
version 0.99
--
Summary of my perl5 (revision 5 version 16 subversion 1) configuration:
Platform:
osname=mirbsd, osvers=10, archname=MirBSD.i386-mirbsd-thread-multi
uname='mirbsd cpansmoke8 10 kv#10uaf-20110818 generic#1330 i386 '
config_args='-des -Dusethreads -Dprefix=/home/sts/cpansmoke/perl-5.16.1'
hint=recommended, useposix=true, d_sigaction=define
useithreads=define, usemultiplicity=define
useperlio=define, d_sfio=undef, uselargefiles=define, usesocks=undef
use64bitint=undef, use64bitall=undef, uselongdouble=undef
usemymalloc=n, bincompat5005=undef
Compiler:
cc='mgcc', ccflags ='-pthread -fhonour-copts -I/usr/mpkg/include -I/usr/local/include',
optimize='-O2',
cppflags='-fhonour-copts -I/usr/mpkg/include -pthread -fhonour-copts -I/usr/mpkg/include -I/usr/local/include'
ccversion='', gccversion='3.4.6 (propolice; gpc; MirOS 0AAB)', gccosandvers='mirbsd10'
intsize=4, longsize=4, ptrsize=4, doublesize=8, byteorder=1234
d_longlong=define, longlongsize=8, d_longdbl=define, longdblsize=12
ivtype='long', ivsize=4, nvtype='double', nvsize=8, Off_t='off_t', lseeksize=8
alignbytes=4, prototype=define
Linker and Libraries:
ld='mgcc', ldflags ='-pthread -Wl,-E -L/usr/mpkg/lib -L/usr/local/lib'
libpth=/usr/mpkg/lib /usr/local/lib /usr/lib
libs=-lm -lutil -lc
perllibs=-lm -lutil -lc
libc=/usr/lib/libc.so.41.9, so=so, useshrplib=false, libperl=libperl.a
gnulibc_version=''
Dynamic Linking:
dlsrc=dl_dlopen.xs, dlext=so, d_dlsymun=undef, ccdlflags=' '
cccdlflags='-DPIC -fPIC ', lddlflags='-shared -fPIC -L/usr/mpkg/lib -L/usr/local/lib'
Characteristics of this binary (from libperl):
Compile-time options: HAS_TIMES MULTIPLICITY PERLIO_LAYERS
PERL_DONT_CREATE_GVSV PERL_IMPLICIT_CONTEXT
PERL_MALLOC_WRAP PERL_PRESERVE_IVUV USE_ITHREADS
USE_LARGE_FILES USE_LOCALE USE_LOCALE_COLLATE
USE_LOCALE_CTYPE USE_LOCALE_NUMERIC USE_PERLIO
USE_PERL_ATOF USE_REENTRANT_API
Built under mirbsd
Compiled at Oct 4 2012 14:44:47
%ENV:
PERL5LIB="/home/sts/cpansmoke/perl-5.16.1/cpan/build/DBI-1.622-bH0COB/blib/arch:/home/sts/cpansmoke/perl-5.16.1/cpan/build/DBI-1.622-bH0COB/blib/lib:/home/sts/cpansmoke/perl-5.16.1/cpan/build/Class-Accessor-Lite-0.05-JqjUPC/blib/arch:/home/sts/cpansmoke/perl-5.16.1/cpan/build/Class-Accessor-Lite-0.05-JqjUPC/blib/lib:/home/sts/cpansmoke/perl-5.16.1/cpan/build/Tie-IxHash-1.22-nstker/blib/arch:/home/sts/cpansmoke/perl-5.16.1/cpan/build/Tie-IxHash-1.22-nstker/blib/lib:/home/sts/cpansmoke/perl-5.16.1/cpan/build/Test-Requires-0.06-Z2pT9d/blib/arch:/home/sts/cpansmoke/perl-5.16.1/cpan/build/Test-Requires-0.06-Z2pT9d/blib/lib"
PERL5OPT=""
PERL5_CPANPLUS_IS_RUNNING="18763"
PERL5_CPAN_IS_RUNNING="18763"
PERL5_CPAN_IS_RUNNING_IN_RECURSION="21609,18763"
PERL_CR_SMOKER_CURRENT="SQL-Maker-1.07"
PERL_EXTUTILS_AUTOINSTALL="--defaultdeps"
PERL_MM_USE_DEFAULT="1"
@INC:
/home/sts/cpansmoke/perl-5.16.1/cpan/build/DBI-1.622-bH0COB/blib/arch
/home/sts/cpansmoke/perl-5.16.1/cpan/build/DBI-1.622-bH0COB/blib/lib
/home/sts/cpansmoke/perl-5.16.1/cpan/build/Class-Accessor-Lite-0.05-JqjUPC/blib/arch
/home/sts/cpansmoke/perl-5.16.1/cpan/build/Class-Accessor-Lite-0.05-JqjUPC/blib/lib
/home/sts/cpansmoke/perl-5.16.1/cpan/build/Tie-IxHash-1.22-nstker/blib/arch
/home/sts/cpansmoke/perl-5.16.1/cpan/build/Tie-IxHash-1.22-nstker/blib/lib
/home/sts/cpansmoke/perl-5.16.1/cpan/build/Test-Requires-0.06-Z2pT9d/blib/arch
/home/sts/cpansmoke/perl-5.16.1/cpan/build/Test-Requires-0.06-Z2pT9d/blib/lib
/home/sts/cpansmoke/perl-5.16.1/lib/site_perl/5.16.1/MirBSD.i386-mirbsd-thread-multi
/home/sts/cpansmoke/perl-5.16.1/lib/site_perl/5.16.1
/home/sts/cpansmoke/perl-5.16.1/lib/5.16.1/MirBSD.i386-mirbsd-thread-multi
/home/sts/cpansmoke/perl-5.16.1/lib/5.16.1
.