Back
From: metabase:user:320bfe00-2aae-11df-837a-5e0a49663a4f
Subject: PASS CGI-Application-Plugin-Authentication-0.20 v5.15.8 GNU/Linux
Date: 2012-03-15T19:19:21Z
This distribution has been tested as part of the CPAN Testers
project, supporting the Perl programming language. See
http://wiki.cpantesters.org/ for more information or email
questions to cpan-testers-discuss@perl.org
--
Dear Nicholas Bamber,
This is a computer-generated report for CGI-Application-Plugin-Authentication-0.20
on perl 5.15.8, created by CPAN-Reporter-1.2005.
Thank you for uploading your work to CPAN. Congratulations!
All tests were successful.
Sections of this report:
* Tester comments
* Program output
* Prerequisites
* Environment and other context
------------------------------
TESTER COMMENTS
------------------------------
Additional comments from tester:
this report is from an automated smoke testing program
and was not reviewed by a human for accuracy
------------------------------
PROGRAM OUTPUT
------------------------------
Output from './Build test':
t/01_basic.t ........................ ok
t/02_config.t ....................... ok
t/03_authenticate.t ................. ok
authen config warning: parameter POST_LOGIN_URL ignored since we already have POST_LOGIN_RUNMODE at t/03_destination.t line 43.
t/03_destination.t .................. ok
t/03_login_box.t .................... ok
t/03_login_box_basic.t .............. ok
t/03_login_box_other.t .............. ok
t/03_missing_color.t ................ ok
t/04_attributes.t ................... ok
t/05_autorunmode.t .................. ok
# The following tests have some small time delays
t/06_timeout.t ...................... ok
t/07_protected_runmodes.t ........... ok
Use of uninitialized value in lc at /tmp/loop_over_bdir-vGVyT8/CGI-Application-Plugin-Authentication-0.20-p3jgg9/blib/lib/CGI/Application/Plugin/Authentication/Driver/Filter/crypt.pm line 18.
Use of uninitialized value in lc at /tmp/loop_over_bdir-vGVyT8/CGI-Application-Plugin-Authentication-0.20-p3jgg9/blib/lib/CGI/Application/Plugin/Authentication/Driver/Filter/crypt.pm line 18.
Use of uninitialized value in lc at /tmp/loop_over_bdir-vGVyT8/CGI-Application-Plugin-Authentication-0.20-p3jgg9/blib/lib/CGI/Application/Plugin/Authentication/Driver/Filter/crypt.pm line 18.
t/40_encoder_crypt.t ................ ok
t/40_encoder_lc.t ................... ok
Use of uninitialized value in lc at /tmp/loop_over_bdir-vGVyT8/CGI-Application-Plugin-Authentication-0.20-p3jgg9/blib/lib/CGI/Application/Plugin/Authentication/Driver/Filter/md5.pm line 28.
Use of uninitialized value in lc at /tmp/loop_over_bdir-vGVyT8/CGI-Application-Plugin-Authentication-0.20-p3jgg9/blib/lib/CGI/Application/Plugin/Authentication/Driver/Filter/md5.pm line 28.
Use of uninitialized value in lc at /tmp/loop_over_bdir-vGVyT8/CGI-Application-Plugin-Authentication-0.20-p3jgg9/blib/lib/CGI/Application/Plugin/Authentication/Driver/Filter/md5.pm line 28.
t/40_encoder_md5.t .................. ok
Use of uninitialized value in lc at /tmp/loop_over_bdir-vGVyT8/CGI-Application-Plugin-Authentication-0.20-p3jgg9/blib/lib/CGI/Application/Plugin/Authentication/Driver/Filter/sha1.pm line 28.
Use of uninitialized value in lc at /tmp/loop_over_bdir-vGVyT8/CGI-Application-Plugin-Authentication-0.20-p3jgg9/blib/lib/CGI/Application/Plugin/Authentication/Driver/Filter/sha1.pm line 28.
Use of uninitialized value in lc at /tmp/loop_over_bdir-vGVyT8/CGI-Application-Plugin-Authentication-0.20-p3jgg9/blib/lib/CGI/Application/Plugin/Authentication/Driver/Filter/sha1.pm line 28.
t/40_encoder_sha1.t ................. ok
t/40_encoder_strip.t ................ ok
t/40_encoder_uc.t ................... ok
Use of uninitialized value in lc at /tmp/loop_over_bdir-vGVyT8/CGI-Application-Plugin-Authentication-0.20-p3jgg9/blib/lib/CGI/Application/Plugin/Authentication/Driver/Filter/md5.pm line 28.
Use of uninitialized value in lc at /tmp/loop_over_bdir-vGVyT8/CGI-Application-Plugin-Authentication-0.20-p3jgg9/blib/lib/CGI/Application/Plugin/Authentication/Driver/Filter/sha1.pm line 28.
t/50_driver_missing_modules.t ....... ok
t/50_driver_undefined.t ............. ok
t/51_driver_dummy.t ................. ok
t/52_driver_generic.t ............... ok
Use of uninitialized value in lc at /tmp/loop_over_bdir-vGVyT8/CGI-Application-Plugin-Authentication-0.20-p3jgg9/blib/lib/CGI/Application/Plugin/Authentication/Driver/Filter/crypt.pm line 18.
Use of uninitialized value in lc at /tmp/loop_over_bdir-vGVyT8/CGI-Application-Plugin-Authentication-0.20-p3jgg9/blib/lib/CGI/Application/Plugin/Authentication/Driver/Filter/crypt.pm line 18.
Use of uninitialized value in lc at /tmp/loop_over_bdir-vGVyT8/CGI-Application-Plugin-Authentication-0.20-p3jgg9/blib/lib/CGI/Application/Plugin/Authentication/Driver/Filter/md5.pm line 28.
Use of uninitialized value in lc at /tmp/loop_over_bdir-vGVyT8/CGI-Application-Plugin-Authentication-0.20-p3jgg9/blib/lib/CGI/Application/Plugin/Authentication/Driver/Filter/crypt.pm line 18.
Use of uninitialized value in lc at /tmp/loop_over_bdir-vGVyT8/CGI-Application-Plugin-Authentication-0.20-p3jgg9/blib/lib/CGI/Application/Plugin/Authentication/Driver/Filter/md5.pm line 28.
Use of uninitialized value in lc at /tmp/loop_over_bdir-vGVyT8/CGI-Application-Plugin-Authentication-0.20-p3jgg9/blib/lib/CGI/Application/Plugin/Authentication/Driver/Filter/md5.pm line 28.
Use of uninitialized value in lc at /tmp/loop_over_bdir-vGVyT8/CGI-Application-Plugin-Authentication-0.20-p3jgg9/blib/lib/CGI/Application/Plugin/Authentication/Driver/Filter/crypt.pm line 18.
Use of uninitialized value in lc at /tmp/loop_over_bdir-vGVyT8/CGI-Application-Plugin-Authentication-0.20-p3jgg9/blib/lib/CGI/Application/Plugin/Authentication/Driver/Filter/crypt.pm line 18.
t/53_driver_dbi.t ................... ok
t/53_driver_dbi_bad.t ............... ok
t/53_driver_dbi_die.t ............... ok
t/53_driver_dbi_syntax.t ............ ok
t/54_driver_htpasswd.t .............. skipped: Apache::Htpasswd >= 1.8 required for this test
t/55_driver_authensimple.t .......... ok
t/55_driver_authensimple_die.t ...... ok
t/55_driver_missing_authensimple.t .. ok
t/60_parsimony.t .................... ok
t/60_store.t ........................ ok
t/60_store_cookie.t ................. ok
t/60_store_session.t ................ ok
t/61_cookie_badargs.t ............... ok
t/61_store_cookie_noexpiry.t ........ ok
t/61_store_cookie_other.t ........... ok
t/70_action_dispatch.t .............. skipped: CGI::Application::Plugin::ActionDispatch required
t/80_devpopup.t ..................... ok
t/98_pod.t .......................... skipped: Author test. Set $ENV{TEST_AUTHOR} to a true value to run.
t/99_pod_coverage.t ................. skipped: Author test. Set $ENV{TEST_AUTHOR} to a true value to run.
t/changes.t ......................... skipped: Author test. Set $ENV{TEST_AUTHOR} to a true value to run.
t/manifest.t ........................ skipped: Author test. Set $ENV{TEST_AUTHOR} to a true value to run.
t/podspell.t ........................ skipped: Author test. Set $ENV{TEST_AUTHOR} to a true value to run.
t/prereq.t .......................... skipped: Author test. Set $ENV{TEST_PREREQ} to a true value to run.
All tests successful.
Files=45, Tests=551, 8 wallclock secs ( 0.17 usr 0.04 sys + 3.23 cusr 0.48 csys = 3.92 CPU)
Result: PASS
------------------------------
PREREQUISITES
------------------------------
Prerequisite modules loaded:
requires:
Module Need Have
--------------------- ----- ----------
Attribute::Handlers 0 0.93
CGI 3.16 3.59
CGI::Application 4 4.50
Class::ISA 0 0.36
Digest::SHA 0 5.71
MIME::Base64 0 3.13
perl 5.006 5.015008
Scalar::Util 0 1.23_04
UNIVERSAL::require 0 0.13
build_requires:
Module Need Have
--------------------- ----- ----------
Readonly 0 1.03
Test::Exception 0 0.31
Test::MockObject 0 1.20110612
Test::More 0.93 0.98
Test::NoWarnings 0 1.04
Test::Regression 0 0.06
Test::Taint 0 1.04
Test::Warn 0.11 0.23_01
Test::Without::Module 0 0.17
configure_requires:
Module Need Have
--------------------- ----- ----------
Module::Build 0.38 0.40
------------------------------
ENVIRONMENT AND OTHER CONTEXT
------------------------------
Environment variables:
AUTOMATED_TESTING = 1
LANG = en_US.UTF-8
LANGUAGE = en_US:en
PATH = /home/sand/bin:/usr/local/bin:/usr/bin:/bin:/usr/bin/X11:/usr/games:/usr/local/perl/bin:/usr/X11/bin:/sbin:/usr/sbin
PERL5LIB =
PERL5OPT =
PERL5_CPANPLUS_IS_RUNNING = 3000
PERL5_CPAN_IS_RUNNING = 3000
PERL_MM_USE_DEFAULT = 1
SHELL = /usr/bin/zsh
TERM = screen
Perl special variables (and OS-specific diagnostics, for MSWin32):
$^X = /home/sand/src/perl/repoperls/installed-perls/perl/v5.15.8/165a/bin/perl
$UID/$EUID = 1005 / 1005
$GID = 1005 123 1005
$EGID = 1005 123 1005
Perl module toolchain versions installed:
Module Have
------------------- --------
CPAN 1.9800
CPAN::Meta 2.120630
Cwd 3.39_02
ExtUtils::CBuilder 0.280205
ExtUtils::Command 1.17
ExtUtils::Install 1.58
ExtUtils::MakeMaker 6.63_02
ExtUtils::Manifest 1.61
ExtUtils::ParseXS 3.16
File::Spec 3.39_02
JSON 2.53
JSON::PP 2.27200
Module::Build 0.40
Module::Signature 0.68
Parse::CPAN::Meta 1.4402
Test::Harness 3.23
Test::More 0.98
YAML 0.80
YAML::Syck 1.20
version 0.96
--
Summary of my perl5 (revision 5 version 15 subversion 8) configuration:
Commit id: 05ccd577e15cc66bbb7414fad5ee3c02f536c7a5
Platform:
osname=linux, osvers=2.6.32-5-amd64, archname=x86_64-linux
uname='linux k83 2.6.32-5-amd64 #1 smp mon jan 16 16:22:28 utc 2012 x86_64 gnulinux '
config_args='-Dprefix=/home/src/perl/repoperls/installed-perls/perl/v5.15.8/165a -Dmyhostname=k83 -Dinstallusrbinperl=n -Uversiononly -Dusedevel -des -Ui_db -Uuseithreads -Uuselongdouble -DDEBUGGING=-g'
hint=recommended, useposix=true, d_sigaction=define
useithreads=undef, usemultiplicity=undef
useperlio=define, d_sfio=undef, uselargefiles=define, usesocks=undef
use64bitint=define, use64bitall=define, uselongdouble=undef
usemymalloc=n, bincompat5005=undef
Compiler:
cc='cc', ccflags ='-fno-strict-aliasing -pipe -fstack-protector -I/usr/local/include -D_LARGEFILE_SOURCE -D_FILE_OFFSET_BITS=64',
optimize='-O2 -g',
cppflags='-fno-strict-aliasing -pipe -fstack-protector -I/usr/local/include'
ccversion='', gccversion='4.4.5', gccosandvers=''
intsize=4, longsize=8, ptrsize=8, doublesize=8, byteorder=12345678
d_longlong=define, longlongsize=8, d_longdbl=define, longdblsize=16
ivtype='long', ivsize=8, nvtype='double', nvsize=8, Off_t='off_t', lseeksize=8
alignbytes=8, prototype=define
Linker and Libraries:
ld='cc', ldflags =' -fstack-protector -L/usr/local/lib'
libpth=/usr/local/lib /lib/../lib /usr/lib/../lib /lib /usr/lib /lib64 /usr/lib64
libs=-lnsl -ldb -ldl -lm -lcrypt -lutil -lc
perllibs=-lnsl -ldl -lm -lcrypt -lutil -lc
libc=/lib/libc-2.11.3.so, so=so, useshrplib=false, libperl=libperl.a
gnulibc_version='2.11.3'
Dynamic Linking:
dlsrc=dl_dlopen.xs, dlext=so, d_dlsymun=undef, ccdlflags='-Wl,-E'
cccdlflags='-fPIC', lddlflags='-shared -O2 -g -L/usr/local/lib -fstack-protector'
Characteristics of this binary (from libperl):
Compile-time options: HAS_TIMES PERLIO_LAYERS PERL_DONT_CREATE_GVSV
PERL_MALLOC_WRAP PERL_PRESERVE_IVUV PERL_USE_DEVEL
USE_64_BIT_ALL USE_64_BIT_INT USE_LARGE_FILES
USE_LOCALE USE_LOCALE_COLLATE USE_LOCALE_CTYPE
USE_LOCALE_NUMERIC USE_PERLIO USE_PERL_ATOF
Built under linux
Compiled at Feb 23 2012 07:54:08
%ENV:
PERL5LIB=""
PERL5OPT=""
PERL5_CPANPLUS_IS_RUNNING="3000"
PERL5_CPAN_IS_RUNNING="3000"
PERL_MM_USE_DEFAULT="1"
@INC:
/home/src/perl/repoperls/installed-perls/perl/v5.15.8/165a/lib/site_perl/5.15.8/x86_64-linux
/home/src/perl/repoperls/installed-perls/perl/v5.15.8/165a/lib/site_perl/5.15.8
/home/src/perl/repoperls/installed-perls/perl/v5.15.8/165a/lib/5.15.8/x86_64-linux
/home/src/perl/repoperls/installed-perls/perl/v5.15.8/165a/lib/5.15.8
.