Pod-Weaver-Section-CollectWithIntro v0.001 Perl 5 v5.12.5 x86_64-linux
- Status
- Pass
- From
- Slaven Rezić (SREZIC)
- Dist
-
Pod-Weaver-Section-CollectWithIntro v0.001
- Platform
- Perl 5 v5.12.5 x86_64-linux
- Date
- 2019-07-28 13:29:47
- ID
- c49eeafc-b13b-11e9-b3fd-6d3d1f24ea8f
This distribution has been tested as part of the CPAN Testers
project, supporting the Perl programming language. See
http://wiki.cpantesters.org/ for more information or email
questions to cpan-testers-discuss@perl.org
--
Dear Chris Weyl,
This is a computer-generated report for Pod-Weaver-Section-CollectWithIntro-0.001
on perl 5.12.5, created by CPAN-Reporter-1.2018.
Thank you for uploading your work to CPAN. Congratulations!
All tests were successful.
Sections of this report:
* Tester comments
* Program output
* Prerequisites
* Environment and other context
------------------------------
TESTER COMMENTS
------------------------------
Additional comments from tester:
none provided
------------------------------
PROGRAM OUTPUT
------------------------------
Output from '/usr/bin/make test':
PERL_DL_NONLAZY=1 "/opt/perl-5.12.5/bin/perl" "-MExtUtils::Command::MM" "-MTest::Harness" "-e" "undef *Test::Harness::Switches; test_harness(0, 'blib/lib', 'blib/arch')" t/*.t
t/00-compile.t .................. ok
#
#
# Generated by Dist::Zilla::Plugin::ReportVersions::Tiny v1.08
# perl: 5.012005 (wanted 5.006) on linux from /opt/perl-5.12.5/bin/perl
#
# ExtUtils::MakeMaker => 7.34 (want 6.30)
# File::Find => 1.15 (want any version)
# File::Temp => 0.2309 (want any version)
# Moose => 2.2011 (want any version)
# Moose::Autobox => 0.16 (want 0.10)
# PPI => 1.269 (want any version)
# Pod::Coverage::TrustPod => 0.100005 (want any version)
# Pod::Elemental => 0.103004 (want any version)
# Pod::Elemental::Element::Pod5::Ordinary => 0.103004 (want any version)
# Pod::Elemental::Selectors => 0.103004 (want any version)
# Pod::Elemental::Transformer::Nester => 0.103004 (want any version)
# Pod::Elemental::Transformer::Pod5 => 0.103004 (want any version)
# Pod::Weaver => 4.015 (want any version)
# Pod::Weaver::Section::Collect => 4.015 (want any version)
# Test::Differences => 0.67 (want any version)
# Test::More => 1.302164 (want 0.88)
# Test::Pod => 1.52 (want 1.41)
# Test::Pod::Coverage => 1.10 (want 1.08)
# aliased => 0.34 (want any version)
# autobox::Core => 1.33 (want any version)
# namespace::autoclean => 0.28 (want any version)
# strict => 1.04 (want any version)
# version => 0.9924 (want 0.9901)
# warnings => 1.09 (want any version)
#
# Thanks for using my code. I hope it works for you.
# If not, please try and include this output in the bug report.
# That will help me reproduce the issue and solve your problem.
#
t/000-report-versions-tiny.t .... ok
t/author-pod-spell.t ............ skipped: these tests are for testing by the author
t/basic.t ....................... ok
t/release-consistent-version.t .. skipped: these tests are for release candidate testing
t/release-eol.t ................. skipped: these tests are for release candidate testing
t/release-has-version.t ......... skipped: these tests are for release candidate testing
t/release-no-smart-comments.t ... skipped: these tests are for release candidate testing
t/release-no-tabs.t ............. skipped: these tests are for release candidate testing
t/release-pod-coverage.t ........ skipped: these tests are for release candidate testing
t/release-pod-syntax.t .......... skipped: these tests are for release candidate testing
t/release-portability.t ......... skipped: these tests are for release candidate testing
All tests successful.
Files=12, Tests=3, 2 wallclock secs ( 0.01 usr 0.09 sys + 1.24 cusr 0.29 csys = 1.63 CPU)
Result: PASS
------------------------------
PREREQUISITES
------------------------------
Prerequisite modules loaded:
requires:
Module Need Have
--------------------------------------- ---- --------
aliased 0 0.34
autobox::Core 0 1.33
Moose 0 2.2011
namespace::autoclean 0 0.28
Pod::Elemental::Element::Pod5::Ordinary 0 0.103004
Pod::Weaver::Section::Collect 0 4.015
build_requires:
Module Need Have
--------------------------------------- ---- --------
File::Find 0 1.15
File::Temp 0 0.2309
Moose::Autobox 0.10 0.16
Pod::Elemental 0 0.103004
Pod::Elemental::Selectors 0 0.103004
Pod::Elemental::Transformer::Nester 0 0.103004
Pod::Elemental::Transformer::Pod5 0 0.103004
Pod::Weaver 0 4.015
PPI 0 1.269
strict 0 1.04
Test::Differences 0 0.67
Test::More 0.88 1.302164
warnings 0 1.09
configure_requires:
Module Need Have
--------------------------------------- ---- --------
ExtUtils::MakeMaker 6.30 7.34
------------------------------
ENVIRONMENT AND OTHER CONTEXT
------------------------------
Environment variables:
LANG = C
PATH = /usr/local/bin:/usr/bin:/bin:/usr/local/sbin:/usr/sbin:/sbin:/home/cpansand/bin/linux-gnu:/home/cpansand/bin/sh:/home/cpansand/bin:/usr/games:/home/cpansand/devel:/home/eserte/src/srezic-misc/scripts
PERL5LIB =
PERL5OPT =
PERL5_CPANPLUS_IS_RUNNING = 10661
PERL5_CPAN_IS_RUNNING = 10661
PERL5_CPAN_IS_RUNNING_IN_RECURSION = 10165,10661
PERLDOC = -MPod::Perldoc::ToTextOverstrike
PERL_BATCH = yes
PERL_CANARY_STABILITY_NOPROMPT = 1
PERL_CPAN_REPORTER_CONFIG = /var/tmp/cpansmoker-1023/2019072813/cpanreporter_000_config.ini
PERL_EXTUTILS_AUTOINSTALL = --defaultdeps
PERL_USE_UNSAFE_INC = 1
SHELL = /usr/bin/zsh
TERM = screen
TMPDIR = /var/tmp/cpansmoker-1023/2019072813
Perl special variables (and OS-specific diagnostics, for MSWin32):
$^X = /opt/perl-5.12.5/bin/perl
$UID/$EUID = 1023 / 1023
$GID = 1023 1023
$EGID = 1023 1023
Perl module toolchain versions installed:
Module Have
------------------- --------
CPAN 2.26
CPAN::Meta 2.150010
Cwd 3.75
ExtUtils::CBuilder 0.280231
ExtUtils::Command 7.34
ExtUtils::Install 2.06
ExtUtils::MakeMaker 7.34
ExtUtils::Manifest 1.70
ExtUtils::ParseXS 3.35
File::Spec 3.75
JSON 4.02
JSON::PP 4.01
Module::Build 0.4224
Module::Signature 0.83
Parse::CPAN::Meta 2.150010
Test::Harness 3.42
Test::More 1.302164
YAML 1.29
YAML::Syck 1.31
version 0.9924
--
Summary of my perl5 (revision 5 version 12 subversion 5) configuration:
Platform:
osname=linux, osvers=4.9.0-8-amd64, archname=x86_64-linux
uname='linux eserte 4.9.0-8-amd64 #1 smp debian 4.9.130-2 (2018-10-27) x86_64 gnulinux '
config_args='-ds -e -Dprefix=/opt/perl-5.12.5 -Dcf_email=srezic@cpan.org'
hint=recommended, useposix=true, d_sigaction=define
useithreads=undef, usemultiplicity=undef
useperlio=define, d_sfio=undef, uselargefiles=define, usesocks=undef
use64bitint=define, use64bitall=define, uselongdouble=undef
usemymalloc=n, bincompat5005=undef
Compiler:
cc='cc', ccflags ='-fno-strict-aliasing -pipe -fstack-protector -I/usr/local/include -D_LARGEFILE_SOURCE -D_FILE_OFFSET_BITS=64',
optimize='-O2',
cppflags='-fno-strict-aliasing -pipe -fstack-protector -I/usr/local/include'
ccversion='', gccversion='6.3.0 20170516', gccosandvers=''
intsize=4, longsize=8, ptrsize=8, doublesize=8, byteorder=12345678
d_longlong=define, longlongsize=8, d_longdbl=define, longdblsize=16
ivtype='long', ivsize=8, nvtype='double', nvsize=8, Off_t='off_t', lseeksize=8
alignbytes=8, prototype=define
Linker and Libraries:
ld='cc', ldflags =' -fstack-protector -L/usr/local/lib'
libpth=/usr/local/lib /lib/x86_64-linux-gnu /lib/../lib /usr/lib/x86_64-linux-gnu /usr/lib/../lib /lib /usr/lib
libs=-lnsl -ldb -ldl -lm -lcrypt -lutil -lc
perllibs=-lnsl -ldl -lm -lcrypt -lutil -lc
libc=libc-2.24.so, so=so, useshrplib=false, libperl=libperl.a
gnulibc_version='2.24'
Dynamic Linking:
dlsrc=dl_dlopen.xs, dlext=so, d_dlsymun=undef, ccdlflags='-Wl,-E'
cccdlflags='-fPIC', lddlflags='-shared -O2 -L/usr/local/lib -fstack-protector'
Characteristics of this binary (from libperl):
Compile-time options: PERL_DONT_CREATE_GVSV PERL_MALLOC_WRAP USE_64_BIT_ALL
USE_64_BIT_INT USE_LARGE_FILES USE_PERLIO
USE_PERL_ATOF
Locally applied patches:
Devel::PatchPerl 1.46
Built under linux
Compiled at Jan 4 2019 20:48:51
%ENV:
PERL5LIB=""
PERL5OPT=""
PERL5_CPANPLUS_IS_RUNNING="10661"
PERL5_CPAN_IS_RUNNING="10661"
PERL5_CPAN_IS_RUNNING_IN_RECURSION="10165,10661"
PERLDOC="-MPod::Perldoc::ToTextOverstrike"
PERL_BATCH="yes"
PERL_CANARY_STABILITY_NOPROMPT="1"
PERL_CPAN_REPORTER_CONFIG="/var/tmp/cpansmoker-1023/2019072813/cpanreporter_000_config.ini"
PERL_EXTUTILS_AUTOINSTALL="--defaultdeps"
PERL_USE_UNSAFE_INC="1"
@INC:
/opt/perl-5.12.5/lib/site_perl/5.12.5/x86_64-linux
/opt/perl-5.12.5/lib/site_perl/5.12.5
/opt/perl-5.12.5/lib/5.12.5/x86_64-linux
/opt/perl-5.12.5/lib/5.12.5
.