MRS-Client v1.0.1 Perl 5 v5.28.2 x86_64-linux
- Status
- Pass
- From
- Oleg Pronin (SYBER)
- Dist
-
MRS-Client v1.0.1
- Platform
- Perl 5 v5.28.2 x86_64-linux
- Date
- 2019-08-10 14:33:06
- ID
- c4b73784-bb7b-11e9-93c9-d0832958ff60
This distribution has been tested as part of the CPAN Testers
project, supporting the Perl programming language. See
http://wiki.cpantesters.org/ for more information or email
questions to cpan-testers-discuss@perl.org
--
Dear Martin Senger,
This is a computer-generated report for MRS-Client-1.0.1
on perl 5.28.2, created by CPAN-Reporter-1.2018.
Thank you for uploading your work to CPAN. Congratulations!
All tests were successful.
Sections of this report:
* Tester comments
* Program output
* Prerequisites
* Environment and other context
------------------------------
TESTER COMMENTS
------------------------------
Additional comments from tester:
this report is from an automated smoke testing program
and was not reviewed by a human for accuracy
------------------------------
PROGRAM OUTPUT
------------------------------
Output from '/usr/bin/make test':
PERL_DL_NONLAZY=1 "/home/syber/perl5/perlbrew/perls/5.28.2/bin/perl" "-MExtUtils::Command::MM" "-MTest::Harness" "-e" "undef *Test::Harness::Switches; test_harness(0, 'blib/lib', 'blib/arch')" t/*.t
Possible precedence issue with control flow operator at lib/MRS/Client/Blast.pm line 269.
Unescaped left brace in regex is deprecated here (and will be fatal in Perl 5.30), passed through in regex; marked by <-- HERE in m/\${ <-- HERE JOBID}/ at lib/MRS/Client/Blast.pm line 409.
Unescaped left brace in regex is deprecated here (and will be fatal in Perl 5.30), passed through in regex; marked by <-- HERE in m/\${ <-- HERE SEQDESC}/ at lib/MRS/Client/Blast.pm line 411.
Unescaped left brace in regex is deprecated here (and will be fatal in Perl 5.30), passed through in regex; marked by <-- HERE in m/\${ <-- HERE SEQDESC}/ at lib/MRS/Client/Blast.pm line 413.
Unescaped left brace in regex is deprecated here (and will be fatal in Perl 5.30), passed through in regex; marked by <-- HERE in m/\${ <-- HERE SEQDESC}/ at lib/MRS/Client/Blast.pm line 415.
Unescaped left brace in regex is deprecated here (and will be fatal in Perl 5.30), passed through in regex; marked by <-- HERE in m/\${ <-- HERE DB}/ at lib/MRS/Client/Blast.pm line 417.
Unescaped left brace in regex is deprecated here (and will be fatal in Perl 5.30), passed through in regex; marked by <-- HERE in m/\${ <-- HERE SEQLEN}/ at lib/MRS/Client/Blast.pm line 418.
Unescaped left brace in regex is deprecated here (and will be fatal in Perl 5.30), passed through in regex; marked by <-- HERE in m/\${ <-- HERE PARMATRIX}/ at lib/MRS/Client/Blast.pm line 419.
Unescaped left brace in regex is deprecated here (and will be fatal in Perl 5.30), passed through in regex; marked by <-- HERE in m/\${ <-- HERE PAREXPECT}/ at lib/MRS/Client/Blast.pm line 420.
Unescaped left brace in regex is deprecated here (and will be fatal in Perl 5.30), passed through in regex; marked by <-- HERE in m/\${ <-- HERE PARGAPOPEN}/ at lib/MRS/Client/Blast.pm line 421.
Unescaped left brace in regex is deprecated here (and will be fatal in Perl 5.30), passed through in regex; marked by <-- HERE in m/\${ <-- HERE PARGAPEXTEND}/ at lib/MRS/Client/Blast.pm line 422.
Unescaped left brace in regex is deprecated here (and will be fatal in Perl 5.30), passed through in regex; marked by <-- HERE in m/\${ <-- HERE PARFILTER}/ at lib/MRS/Client/Blast.pm line 423.
Unescaped left brace in regex is deprecated here (and will be fatal in Perl 5.30), passed through in regex; marked by <-- HERE in m/\${ <-- HERE DBCOUNT}/ at lib/MRS/Client/Blast.pm line 425.
Unescaped left brace in regex is deprecated here (and will be fatal in Perl 5.30), passed through in regex; marked by <-- HERE in m/\${ <-- HERE DBLENGTH}/ at lib/MRS/Client/Blast.pm line 426.
Unescaped left brace in regex is deprecated here (and will be fatal in Perl 5.30), passed through in regex; marked by <-- HERE in m/\${ <-- HERE DBSPACE}/ at lib/MRS/Client/Blast.pm line 427.
Unescaped left brace in regex is deprecated here (and will be fatal in Perl 5.30), passed through in regex; marked by <-- HERE in m/\${ <-- HERE KAPPA}/ at lib/MRS/Client/Blast.pm line 428.
Unescaped left brace in regex is deprecated here (and will be fatal in Perl 5.30), passed through in regex; marked by <-- HERE in m/\${ <-- HERE LAMBDA}/ at lib/MRS/Client/Blast.pm line 429.
Unescaped left brace in regex is deprecated here (and will be fatal in Perl 5.30), passed through in regex; marked by <-- HERE in m/\${ <-- HERE ENTROPY}/ at lib/MRS/Client/Blast.pm line 430.
Unescaped left brace in regex is deprecated here (and will be fatal in Perl 5.30), passed through in regex; marked by <-- HERE in m/\${ <-- HERE HITNR}/ at lib/MRS/Client/Blast.pm line 439.
Unescaped left brace in regex is deprecated here (and will be fatal in Perl 5.30), passed through in regex; marked by <-- HERE in m/\${ <-- HERE HITID}/ at lib/MRS/Client/Blast.pm line 440.
Unescaped left brace in regex is deprecated here (and will be fatal in Perl 5.30), passed through in regex; marked by <-- HERE in m/\${ <-- HERE HITSEQID}/ at lib/MRS/Client/Blast.pm line 442.
Unescaped left brace in regex is deprecated here (and will be fatal in Perl 5.30), passed through in regex; marked by <-- HERE in m/\${ <-- HERE HITSEQID}/ at lib/MRS/Client/Blast.pm line 444.
Unescaped left brace in regex is deprecated here (and will be fatal in Perl 5.30), passed through in regex; marked by <-- HERE in m/\${ <-- HERE HITSUBLEN}/ at lib/MRS/Client/Blast.pm line 447.
Unescaped left brace in regex is deprecated here (and will be fatal in Perl 5.30), passed through in regex; marked by <-- HERE in m/\${ <-- HERE HSPNR}/ at lib/MRS/Client/Blast.pm line 456.
Unescaped left brace in regex is deprecated here (and will be fatal in Perl 5.30), passed through in regex; marked by <-- HERE in m/\${ <-- HERE HSPBITSCORE}/ at lib/MRS/Client/Blast.pm line 457.
Unescaped left brace in regex is deprecated here (and will be fatal in Perl 5.30), passed through in regex; marked by <-- HERE in m/\${ <-- HERE HSPSCORE}/ at lib/MRS/Client/Blast.pm line 458.
Unescaped left brace in regex is deprecated here (and will be fatal in Perl 5.30), passed through in regex; marked by <-- HERE in m/\${ <-- HERE HSPEXPECT}/ at lib/MRS/Client/Blast.pm line 459.
Unescaped left brace in regex is deprecated here (and will be fatal in Perl 5.30), passed through in regex; marked by <-- HERE in m/\${ <-- HERE HSPIDENTITY}/ at lib/MRS/Client/Blast.pm line 460.
Unescaped left brace in regex is deprecated here (and will be fatal in Perl 5.30), passed through in regex; marked by <-- HERE in m/\${ <-- HERE HSPPOSITIVE}/ at lib/MRS/Client/Blast.pm line 461.
Unescaped left brace in regex is deprecated here (and will be fatal in Perl 5.30), passed through in regex; marked by <-- HERE in m/\${ <-- HERE HSPMIDLINE}/ at lib/MRS/Client/Blast.pm line 462.
Unescaped left brace in regex is deprecated here (and will be fatal in Perl 5.30), passed through in regex; marked by <-- HERE in m/\${ <-- HERE HSPQFROM}/ at lib/MRS/Client/Blast.pm line 484.
Unescaped left brace in regex is deprecated here (and will be fatal in Perl 5.30), passed through in regex; marked by <-- HERE in m/\${ <-- HERE HSPQTO}/ at lib/MRS/Client/Blast.pm line 485.
Unescaped left brace in regex is deprecated here (and will be fatal in Perl 5.30), passed through in regex; marked by <-- HERE in m/\${ <-- HERE HSPHFROM}/ at lib/MRS/Client/Blast.pm line 486.
Unescaped left brace in regex is deprecated here (and will be fatal in Perl 5.30), passed through in regex; marked by <-- HERE in m/\${ <-- HERE HSPHTO}/ at lib/MRS/Client/Blast.pm line 487.
Unescaped left brace in regex is deprecated here (and will be fatal in Perl 5.30), passed through in regex; marked by <-- HERE in m/\${ <-- HERE HSPALIGNLEN}/ at lib/MRS/Client/Blast.pm line 488.
Unescaped left brace in regex is deprecated here (and will be fatal in Perl 5.30), passed through in regex; marked by <-- HERE in m/\${ <-- HERE HSPQALIGN}/ at lib/MRS/Client/Blast.pm line 489.
Unescaped left brace in regex is deprecated here (and will be fatal in Perl 5.30), passed through in regex; marked by <-- HERE in m/\${ <-- HERE HSPSUBALIGN}/ at lib/MRS/Client/Blast.pm line 490.
Unescaped left brace in regex is deprecated here (and will be fatal in Perl 5.30), passed through in regex; marked by <-- HERE in m/\${ <-- HERE LOCATION}/ at lib/MRS/Client.pm line 221.
Unescaped left brace in regex is deprecated here (and will be fatal in Perl 5.30), passed through in regex; marked by <-- HERE in m/\${ <-- HERE SERVICE}/ at lib/MRS/Client.pm line 222.
Possible precedence issue with control flow operator at lib/MRS/Client/Blast.pm line 269.
Unescaped left brace in regex is deprecated here (and will be fatal in Perl 5.30), passed through in regex; marked by <-- HERE in m/\${ <-- HERE JOBID}/ at lib/MRS/Client/Blast.pm line 409.
Unescaped left brace in regex is deprecated here (and will be fatal in Perl 5.30), passed through in regex; marked by <-- HERE in m/\${ <-- HERE SEQDESC}/ at lib/MRS/Client/Blast.pm line 411.
Unescaped left brace in regex is deprecated here (and will be fatal in Perl 5.30), passed through in regex; marked by <-- HERE in m/\${ <-- HERE SEQDESC}/ at lib/MRS/Client/Blast.pm line 413.
Unescaped left brace in regex is deprecated here (and will be fatal in Perl 5.30), passed through in regex; marked by <-- HERE in m/\${ <-- HERE SEQDESC}/ at lib/MRS/Client/Blast.pm line 415.
Unescaped left brace in regex is deprecated here (and will be fatal in Perl 5.30), passed through in regex; marked by <-- HERE in m/\${ <-- HERE DB}/ at lib/MRS/Client/Blast.pm line 417.
Unescaped left brace in regex is deprecated here (and will be fatal in Perl 5.30), passed through in regex; marked by <-- HERE in m/\${ <-- HERE SEQLEN}/ at lib/MRS/Client/Blast.pm line 418.
Unescaped left brace in regex is deprecated here (and will be fatal in Perl 5.30), passed through in regex; marked by <-- HERE in m/\${ <-- HERE PARMATRIX}/ at lib/MRS/Client/Blast.pm line 419.
Unescaped left brace in regex is deprecated here (and will be fatal in Perl 5.30), passed through in regex; marked by <-- HERE in m/\${ <-- HERE PAREXPECT}/ at lib/MRS/Client/Blast.pm line 420.
Unescaped left brace in regex is deprecated here (and will be fatal in Perl 5.30), passed through in regex; marked by <-- HERE in m/\${ <-- HERE PARGAPOPEN}/ at lib/MRS/Client/Blast.pm line 421.
Unescaped left brace in regex is deprecated here (and will be fatal in Perl 5.30), passed through in regex; marked by <-- HERE in m/\${ <-- HERE PARGAPEXTEND}/ at lib/MRS/Client/Blast.pm line 422.
Unescaped left brace in regex is deprecated here (and will be fatal in Perl 5.30), passed through in regex; marked by <-- HERE in m/\${ <-- HERE PARFILTER}/ at lib/MRS/Client/Blast.pm line 423.
Unescaped left brace in regex is deprecated here (and will be fatal in Perl 5.30), passed through in regex; marked by <-- HERE in m/\${ <-- HERE DBCOUNT}/ at lib/MRS/Client/Blast.pm line 425.
Unescaped left brace in regex is deprecated here (and will be fatal in Perl 5.30), passed through in regex; marked by <-- HERE in m/\${ <-- HERE DBLENGTH}/ at lib/MRS/Client/Blast.pm line 426.
Unescaped left brace in regex is deprecated here (and will be fatal in Perl 5.30), passed through in regex; marked by <-- HERE in m/\${ <-- HERE DBSPACE}/ at lib/MRS/Client/Blast.pm line 427.
Unescaped left brace in regex is deprecated here (and will be fatal in Perl 5.30), passed through in regex; marked by <-- HERE in m/\${ <-- HERE KAPPA}/ at lib/MRS/Client/Blast.pm line 428.
Unescaped left brace in regex is deprecated here (and will be fatal in Perl 5.30), passed through in regex; marked by <-- HERE in m/\${ <-- HERE LAMBDA}/ at lib/MRS/Client/Blast.pm line 429.
Unescaped left brace in regex is deprecated here (and will be fatal in Perl 5.30), passed through in regex; marked by <-- HERE in m/\${ <-- HERE ENTROPY}/ at lib/MRS/Client/Blast.pm line 430.
Unescaped left brace in regex is deprecated here (and will be fatal in Perl 5.30), passed through in regex; marked by <-- HERE in m/\${ <-- HERE HITNR}/ at lib/MRS/Client/Blast.pm line 439.
Unescaped left brace in regex is deprecated here (and will be fatal in Perl 5.30), passed through in regex; marked by <-- HERE in m/\${ <-- HERE HITID}/ at lib/MRS/Client/Blast.pm line 440.
Unescaped left brace in regex is deprecated here (and will be fatal in Perl 5.30), passed through in regex; marked by <-- HERE in m/\${ <-- HERE HITSEQID}/ at lib/MRS/Client/Blast.pm line 442.
Unescaped left brace in regex is deprecated here (and will be fatal in Perl 5.30), passed through in regex; marked by <-- HERE in m/\${ <-- HERE HITSEQID}/ at lib/MRS/Client/Blast.pm line 444.
Unescaped left brace in regex is deprecated here (and will be fatal in Perl 5.30), passed through in regex; marked by <-- HERE in m/\${ <-- HERE HITSUBLEN}/ at lib/MRS/Client/Blast.pm line 447.
Unescaped left brace in regex is deprecated here (and will be fatal in Perl 5.30), passed through in regex; marked by <-- HERE in m/\${ <-- HERE HSPNR}/ at lib/MRS/Client/Blast.pm line 456.
Unescaped left brace in regex is deprecated here (and will be fatal in Perl 5.30), passed through in regex; marked by <-- HERE in m/\${ <-- HERE HSPBITSCORE}/ at lib/MRS/Client/Blast.pm line 457.
Unescaped left brace in regex is deprecated here (and will be fatal in Perl 5.30), passed through in regex; marked by <-- HERE in m/\${ <-- HERE HSPSCORE}/ at lib/MRS/Client/Blast.pm line 458.
Unescaped left brace in regex is deprecated here (and will be fatal in Perl 5.30), passed through in regex; marked by <-- HERE in m/\${ <-- HERE HSPEXPECT}/ at lib/MRS/Client/Blast.pm line 459.
Unescaped left brace in regex is deprecated here (and will be fatal in Perl 5.30), passed through in regex; marked by <-- HERE in m/\${ <-- HERE HSPIDENTITY}/ at lib/MRS/Client/Blast.pm line 460.
Unescaped left brace in regex is deprecated here (and will be fatal in Perl 5.30), passed through in regex; marked by <-- HERE in m/\${ <-- HERE HSPPOSITIVE}/ at lib/MRS/Client/Blast.pm line 461.
Unescaped left brace in regex is deprecated here (and will be fatal in Perl 5.30), passed through in regex; marked by <-- HERE in m/\${ <-- HERE HSPMIDLINE}/ at lib/MRS/Client/Blast.pm line 462.
Unescaped left brace in regex is deprecated here (and will be fatal in Perl 5.30), passed through in regex; marked by <-- HERE in m/\${ <-- HERE HSPQFROM}/ at lib/MRS/Client/Blast.pm line 484.
Unescaped left brace in regex is deprecated here (and will be fatal in Perl 5.30), passed through in regex; marked by <-- HERE in m/\${ <-- HERE HSPQTO}/ at lib/MRS/Client/Blast.pm line 485.
Unescaped left brace in regex is deprecated here (and will be fatal in Perl 5.30), passed through in regex; marked by <-- HERE in m/\${ <-- HERE HSPHFROM}/ at lib/MRS/Client/Blast.pm line 486.
Unescaped left brace in regex is deprecated here (and will be fatal in Perl 5.30), passed through in regex; marked by <-- HERE in m/\${ <-- HERE HSPHTO}/ at lib/MRS/Client/Blast.pm line 487.
Unescaped left brace in regex is deprecated here (and will be fatal in Perl 5.30), passed through in regex; marked by <-- HERE in m/\${ <-- HERE HSPALIGNLEN}/ at lib/MRS/Client/Blast.pm line 488.
Unescaped left brace in regex is deprecated here (and will be fatal in Perl 5.30), passed through in regex; marked by <-- HERE in m/\${ <-- HERE HSPQALIGN}/ at lib/MRS/Client/Blast.pm line 489.
Unescaped left brace in regex is deprecated here (and will be fatal in Perl 5.30), passed through in regex; marked by <-- HERE in m/\${ <-- HERE HSPSUBALIGN}/ at lib/MRS/Client/Blast.pm line 490.
t/00-compile.t .......... ok
Possible precedence issue with control flow operator at /home/syber/.local/share/.cpan/build/MRS-Client-1.0.1-0/blib/lib/MRS/Client/Blast.pm line 269.
Unescaped left brace in regex is deprecated here (and will be fatal in Perl 5.30), passed through in regex; marked by <-- HERE in m/\${ <-- HERE JOBID}/ at /home/syber/.local/share/.cpan/build/MRS-Client-1.0.1-0/blib/lib/MRS/Client/Blast.pm line 409.
Unescaped left brace in regex is deprecated here (and will be fatal in Perl 5.30), passed through in regex; marked by <-- HERE in m/\${ <-- HERE SEQDESC}/ at /home/syber/.local/share/.cpan/build/MRS-Client-1.0.1-0/blib/lib/MRS/Client/Blast.pm line 411.
Unescaped left brace in regex is deprecated here (and will be fatal in Perl 5.30), passed through in regex; marked by <-- HERE in m/\${ <-- HERE SEQDESC}/ at /home/syber/.local/share/.cpan/build/MRS-Client-1.0.1-0/blib/lib/MRS/Client/Blast.pm line 413.
Unescaped left brace in regex is deprecated here (and will be fatal in Perl 5.30), passed through in regex; marked by <-- HERE in m/\${ <-- HERE SEQDESC}/ at /home/syber/.local/share/.cpan/build/MRS-Client-1.0.1-0/blib/lib/MRS/Client/Blast.pm line 415.
Unescaped left brace in regex is deprecated here (and will be fatal in Perl 5.30), passed through in regex; marked by <-- HERE in m/\${ <-- HERE DB}/ at /home/syber/.local/share/.cpan/build/MRS-Client-1.0.1-0/blib/lib/MRS/Client/Blast.pm line 417.
Unescaped left brace in regex is deprecated here (and will be fatal in Perl 5.30), passed through in regex; marked by <-- HERE in m/\${ <-- HERE SEQLEN}/ at /home/syber/.local/share/.cpan/build/MRS-Client-1.0.1-0/blib/lib/MRS/Client/Blast.pm line 418.
Unescaped left brace in regex is deprecated here (and will be fatal in Perl 5.30), passed through in regex; marked by <-- HERE in m/\${ <-- HERE PARMATRIX}/ at /home/syber/.local/share/.cpan/build/MRS-Client-1.0.1-0/blib/lib/MRS/Client/Blast.pm line 419.
Unescaped left brace in regex is deprecated here (and will be fatal in Perl 5.30), passed through in regex; marked by <-- HERE in m/\${ <-- HERE PAREXPECT}/ at /home/syber/.local/share/.cpan/build/MRS-Client-1.0.1-0/blib/lib/MRS/Client/Blast.pm line 420.
Unescaped left brace in regex is deprecated here (and will be fatal in Perl 5.30), passed through in regex; marked by <-- HERE in m/\${ <-- HERE PARGAPOPEN}/ at /home/syber/.local/share/.cpan/build/MRS-Client-1.0.1-0/blib/lib/MRS/Client/Blast.pm line 421.
Unescaped left brace in regex is deprecated here (and will be fatal in Perl 5.30), passed through in regex; marked by <-- HERE in m/\${ <-- HERE PARGAPEXTEND}/ at /home/syber/.local/share/.cpan/build/MRS-Client-1.0.1-0/blib/lib/MRS/Client/Blast.pm line 422.
Unescaped left brace in regex is deprecated here (and will be fatal in Perl 5.30), passed through in regex; marked by <-- HERE in m/\${ <-- HERE PARFILTER}/ at /home/syber/.local/share/.cpan/build/MRS-Client-1.0.1-0/blib/lib/MRS/Client/Blast.pm line 423.
Unescaped left brace in regex is deprecated here (and will be fatal in Perl 5.30), passed through in regex; marked by <-- HERE in m/\${ <-- HERE DBCOUNT}/ at /home/syber/.local/share/.cpan/build/MRS-Client-1.0.1-0/blib/lib/MRS/Client/Blast.pm line 425.
Unescaped left brace in regex is deprecated here (and will be fatal in Perl 5.30), passed through in regex; marked by <-- HERE in m/\${ <-- HERE DBLENGTH}/ at /home/syber/.local/share/.cpan/build/MRS-Client-1.0.1-0/blib/lib/MRS/Client/Blast.pm line 426.
Unescaped left brace in regex is deprecated here (and will be fatal in Perl 5.30), passed through in regex; marked by <-- HERE in m/\${ <-- HERE DBSPACE}/ at /home/syber/.local/share/.cpan/build/MRS-Client-1.0.1-0/blib/lib/MRS/Client/Blast.pm line 427.
Unescaped left brace in regex is deprecated here (and will be fatal in Perl 5.30), passed through in regex; marked by <-- HERE in m/\${ <-- HERE KAPPA}/ at /home/syber/.local/share/.cpan/build/MRS-Client-1.0.1-0/blib/lib/MRS/Client/Blast.pm line 428.
Unescaped left brace in regex is deprecated here (and will be fatal in Perl 5.30), passed through in regex; marked by <-- HERE in m/\${ <-- HERE LAMBDA}/ at /home/syber/.local/share/.cpan/build/MRS-Client-1.0.1-0/blib/lib/MRS/Client/Blast.pm line 429.
Unescaped left brace in regex is deprecated here (and will be fatal in Perl 5.30), passed through in regex; marked by <-- HERE in m/\${ <-- HERE ENTROPY}/ at /home/syber/.local/share/.cpan/build/MRS-Client-1.0.1-0/blib/lib/MRS/Client/Blast.pm line 430.
Unescaped left brace in regex is deprecated here (and will be fatal in Perl 5.30), passed through in regex; marked by <-- HERE in m/\${ <-- HERE HITNR}/ at /home/syber/.local/share/.cpan/build/MRS-Client-1.0.1-0/blib/lib/MRS/Client/Blast.pm line 439.
Unescaped left brace in regex is deprecated here (and will be fatal in Perl 5.30), passed through in regex; marked by <-- HERE in m/\${ <-- HERE HITID}/ at /home/syber/.local/share/.cpan/build/MRS-Client-1.0.1-0/blib/lib/MRS/Client/Blast.pm line 440.
Unescaped left brace in regex is deprecated here (and will be fatal in Perl 5.30), passed through in regex; marked by <-- HERE in m/\${ <-- HERE HITSEQID}/ at /home/syber/.local/share/.cpan/build/MRS-Client-1.0.1-0/blib/lib/MRS/Client/Blast.pm line 442.
Unescaped left brace in regex is deprecated here (and will be fatal in Perl 5.30), passed through in regex; marked by <-- HERE in m/\${ <-- HERE HITSEQID}/ at /home/syber/.local/share/.cpan/build/MRS-Client-1.0.1-0/blib/lib/MRS/Client/Blast.pm line 444.
Unescaped left brace in regex is deprecated here (and will be fatal in Perl 5.30), passed through in regex; marked by <-- HERE in m/\${ <-- HERE HITSUBLEN}/ at /home/syber/.local/share/.cpan/build/MRS-Client-1.0.1-0/blib/lib/MRS/Client/Blast.pm line 447.
Unescaped left brace in regex is deprecated here (and will be fatal in Perl 5.30), passed through in regex; marked by <-- HERE in m/\${ <-- HERE HSPNR}/ at /home/syber/.local/share/.cpan/build/MRS-Client-1.0.1-0/blib/lib/MRS/Client/Blast.pm line 456.
Unescaped left brace in regex is deprecated here (and will be fatal in Perl 5.30), passed through in regex; marked by <-- HERE in m/\${ <-- HERE HSPBITSCORE}/ at /home/syber/.local/share/.cpan/build/MRS-Client-1.0.1-0/blib/lib/MRS/Client/Blast.pm line 457.
Unescaped left brace in regex is deprecated here (and will be fatal in Perl 5.30), passed through in regex; marked by <-- HERE in m/\${ <-- HERE HSPSCORE}/ at /home/syber/.local/share/.cpan/build/MRS-Client-1.0.1-0/blib/lib/MRS/Client/Blast.pm line 458.
Unescaped left brace in regex is deprecated here (and will be fatal in Perl 5.30), passed through in regex; marked by <-- HERE in m/\${ <-- HERE HSPEXPECT}/ at /home/syber/.local/share/.cpan/build/MRS-Client-1.0.1-0/blib/lib/MRS/Client/Blast.pm line 459.
Unescaped left brace in regex is deprecated here (and will be fatal in Perl 5.30), passed through in regex; marked by <-- HERE in m/\${ <-- HERE HSPIDENTITY}/ at /home/syber/.local/share/.cpan/build/MRS-Client-1.0.1-0/blib/lib/MRS/Client/Blast.pm line 460.
Unescaped left brace in regex is deprecated here (and will be fatal in Perl 5.30), passed through in regex; marked by <-- HERE in m/\${ <-- HERE HSPPOSITIVE}/ at /home/syber/.local/share/.cpan/build/MRS-Client-1.0.1-0/blib/lib/MRS/Client/Blast.pm line 461.
Unescaped left brace in regex is deprecated here (and will be fatal in Perl 5.30), passed through in regex; marked by <-- HERE in m/\${ <-- HERE HSPMIDLINE}/ at /home/syber/.local/share/.cpan/build/MRS-Client-1.0.1-0/blib/lib/MRS/Client/Blast.pm line 462.
Unescaped left brace in regex is deprecated here (and will be fatal in Perl 5.30), passed through in regex; marked by <-- HERE in m/\${ <-- HERE HSPQFROM}/ at /home/syber/.local/share/.cpan/build/MRS-Client-1.0.1-0/blib/lib/MRS/Client/Blast.pm line 484.
Unescaped left brace in regex is deprecated here (and will be fatal in Perl 5.30), passed through in regex; marked by <-- HERE in m/\${ <-- HERE HSPQTO}/ at /home/syber/.local/share/.cpan/build/MRS-Client-1.0.1-0/blib/lib/MRS/Client/Blast.pm line 485.
Unescaped left brace in regex is deprecated here (and will be fatal in Perl 5.30), passed through in regex; marked by <-- HERE in m/\${ <-- HERE HSPHFROM}/ at /home/syber/.local/share/.cpan/build/MRS-Client-1.0.1-0/blib/lib/MRS/Client/Blast.pm line 486.
Unescaped left brace in regex is deprecated here (and will be fatal in Perl 5.30), passed through in regex; marked by <-- HERE in m/\${ <-- HERE HSPHTO}/ at /home/syber/.local/share/.cpan/build/MRS-Client-1.0.1-0/blib/lib/MRS/Client/Blast.pm line 487.
Unescaped left brace in regex is deprecated here (and will be fatal in Perl 5.30), passed through in regex; marked by <-- HERE in m/\${ <-- HERE HSPALIGNLEN}/ at /home/syber/.local/share/.cpan/build/MRS-Client-1.0.1-0/blib/lib/MRS/Client/Blast.pm line 488.
Unescaped left brace in regex is deprecated here (and will be fatal in Perl 5.30), passed through in regex; marked by <-- HERE in m/\${ <-- HERE HSPQALIGN}/ at /home/syber/.local/share/.cpan/build/MRS-Client-1.0.1-0/blib/lib/MRS/Client/Blast.pm line 489.
Unescaped left brace in regex is deprecated here (and will be fatal in Perl 5.30), passed through in regex; marked by <-- HERE in m/\${ <-- HERE HSPSUBALIGN}/ at /home/syber/.local/share/.cpan/build/MRS-Client-1.0.1-0/blib/lib/MRS/Client/Blast.pm line 490.
Unescaped left brace in regex is deprecated here (and will be fatal in Perl 5.30), passed through in regex; marked by <-- HERE in m/\${ <-- HERE LOCATION}/ at /home/syber/.local/share/.cpan/build/MRS-Client-1.0.1-0/blib/lib/MRS/Client.pm line 221.
Unescaped left brace in regex is deprecated here (and will be fatal in Perl 5.30), passed through in regex; marked by <-- HERE in m/\${ <-- HERE SERVICE}/ at /home/syber/.local/share/.cpan/build/MRS-Client-1.0.1-0/blib/lib/MRS/Client.pm line 222.
# Testing MRS::Client 1.0.1, Perl v5.28.2, /home/syber/perl5/perlbrew/perls/5.28.2/bin/perl
t/00-load.t ............. ok
Possible precedence issue with control flow operator at /home/syber/.local/share/.cpan/build/MRS-Client-1.0.1-0/blib/lib/MRS/Client/Blast.pm line 269.
Unescaped left brace in regex is deprecated here (and will be fatal in Perl 5.30), passed through in regex; marked by <-- HERE in m/\${ <-- HERE JOBID}/ at /home/syber/.local/share/.cpan/build/MRS-Client-1.0.1-0/blib/lib/MRS/Client/Blast.pm line 409.
Unescaped left brace in regex is deprecated here (and will be fatal in Perl 5.30), passed through in regex; marked by <-- HERE in m/\${ <-- HERE SEQDESC}/ at /home/syber/.local/share/.cpan/build/MRS-Client-1.0.1-0/blib/lib/MRS/Client/Blast.pm line 411.
Unescaped left brace in regex is deprecated here (and will be fatal in Perl 5.30), passed through in regex; marked by <-- HERE in m/\${ <-- HERE SEQDESC}/ at /home/syber/.local/share/.cpan/build/MRS-Client-1.0.1-0/blib/lib/MRS/Client/Blast.pm line 413.
Unescaped left brace in regex is deprecated here (and will be fatal in Perl 5.30), passed through in regex; marked by <-- HERE in m/\${ <-- HERE SEQDESC}/ at /home/syber/.local/share/.cpan/build/MRS-Client-1.0.1-0/blib/lib/MRS/Client/Blast.pm line 415.
Unescaped left brace in regex is deprecated here (and will be fatal in Perl 5.30), passed through in regex; marked by <-- HERE in m/\${ <-- HERE DB}/ at /home/syber/.local/share/.cpan/build/MRS-Client-1.0.1-0/blib/lib/MRS/Client/Blast.pm line 417.
Unescaped left brace in regex is deprecated here (and will be fatal in Perl 5.30), passed through in regex; marked by <-- HERE in m/\${ <-- HERE SEQLEN}/ at /home/syber/.local/share/.cpan/build/MRS-Client-1.0.1-0/blib/lib/MRS/Client/Blast.pm line 418.
Unescaped left brace in regex is deprecated here (and will be fatal in Perl 5.30), passed through in regex; marked by <-- HERE in m/\${ <-- HERE PARMATRIX}/ at /home/syber/.local/share/.cpan/build/MRS-Client-1.0.1-0/blib/lib/MRS/Client/Blast.pm line 419.
Unescaped left brace in regex is deprecated here (and will be fatal in Perl 5.30), passed through in regex; marked by <-- HERE in m/\${ <-- HERE PAREXPECT}/ at /home/syber/.local/share/.cpan/build/MRS-Client-1.0.1-0/blib/lib/MRS/Client/Blast.pm line 420.
Unescaped left brace in regex is deprecated here (and will be fatal in Perl 5.30), passed through in regex; marked by <-- HERE in m/\${ <-- HERE PARGAPOPEN}/ at /home/syber/.local/share/.cpan/build/MRS-Client-1.0.1-0/blib/lib/MRS/Client/Blast.pm line 421.
Unescaped left brace in regex is deprecated here (and will be fatal in Perl 5.30), passed through in regex; marked by <-- HERE in m/\${ <-- HERE PARGAPEXTEND}/ at /home/syber/.local/share/.cpan/build/MRS-Client-1.0.1-0/blib/lib/MRS/Client/Blast.pm line 422.
Unescaped left brace in regex is deprecated here (and will be fatal in Perl 5.30), passed through in regex; marked by <-- HERE in m/\${ <-- HERE PARFILTER}/ at /home/syber/.local/share/.cpan/build/MRS-Client-1.0.1-0/blib/lib/MRS/Client/Blast.pm line 423.
Unescaped left brace in regex is deprecated here (and will be fatal in Perl 5.30), passed through in regex; marked by <-- HERE in m/\${ <-- HERE DBCOUNT}/ at /home/syber/.local/share/.cpan/build/MRS-Client-1.0.1-0/blib/lib/MRS/Client/Blast.pm line 425.
Unescaped left brace in regex is deprecated here (and will be fatal in Perl 5.30), passed through in regex; marked by <-- HERE in m/\${ <-- HERE DBLENGTH}/ at /home/syber/.local/share/.cpan/build/MRS-Client-1.0.1-0/blib/lib/MRS/Client/Blast.pm line 426.
Unescaped left brace in regex is deprecated here (and will be fatal in Perl 5.30), passed through in regex; marked by <-- HERE in m/\${ <-- HERE DBSPACE}/ at /home/syber/.local/share/.cpan/build/MRS-Client-1.0.1-0/blib/lib/MRS/Client/Blast.pm line 427.
Unescaped left brace in regex is deprecated here (and will be fatal in Perl 5.30), passed through in regex; marked by <-- HERE in m/\${ <-- HERE KAPPA}/ at /home/syber/.local/share/.cpan/build/MRS-Client-1.0.1-0/blib/lib/MRS/Client/Blast.pm line 428.
Unescaped left brace in regex is deprecated here (and will be fatal in Perl 5.30), passed through in regex; marked by <-- HERE in m/\${ <-- HERE LAMBDA}/ at /home/syber/.local/share/.cpan/build/MRS-Client-1.0.1-0/blib/lib/MRS/Client/Blast.pm line 429.
Unescaped left brace in regex is deprecated here (and will be fatal in Perl 5.30), passed through in regex; marked by <-- HERE in m/\${ <-- HERE ENTROPY}/ at /home/syber/.local/share/.cpan/build/MRS-Client-1.0.1-0/blib/lib/MRS/Client/Blast.pm line 430.
Unescaped left brace in regex is deprecated here (and will be fatal in Perl 5.30), passed through in regex; marked by <-- HERE in m/\${ <-- HERE HITNR}/ at /home/syber/.local/share/.cpan/build/MRS-Client-1.0.1-0/blib/lib/MRS/Client/Blast.pm line 439.
Unescaped left brace in regex is deprecated here (and will be fatal in Perl 5.30), passed through in regex; marked by <-- HERE in m/\${ <-- HERE HITID}/ at /home/syber/.local/share/.cpan/build/MRS-Client-1.0.1-0/blib/lib/MRS/Client/Blast.pm line 440.
Unescaped left brace in regex is deprecated here (and will be fatal in Perl 5.30), passed through in regex; marked by <-- HERE in m/\${ <-- HERE HITSEQID}/ at /home/syber/.local/share/.cpan/build/MRS-Client-1.0.1-0/blib/lib/MRS/Client/Blast.pm line 442.
Unescaped left brace in regex is deprecated here (and will be fatal in Perl 5.30), passed through in regex; marked by <-- HERE in m/\${ <-- HERE HITSEQID}/ at /home/syber/.local/share/.cpan/build/MRS-Client-1.0.1-0/blib/lib/MRS/Client/Blast.pm line 444.
Unescaped left brace in regex is deprecated here (and will be fatal in Perl 5.30), passed through in regex; marked by <-- HERE in m/\${ <-- HERE HITSUBLEN}/ at /home/syber/.local/share/.cpan/build/MRS-Client-1.0.1-0/blib/lib/MRS/Client/Blast.pm line 447.
Unescaped left brace in regex is deprecated here (and will be fatal in Perl 5.30), passed through in regex; marked by <-- HERE in m/\${ <-- HERE HSPNR}/ at /home/syber/.local/share/.cpan/build/MRS-Client-1.0.1-0/blib/lib/MRS/Client/Blast.pm line 456.
Unescaped left brace in regex is deprecated here (and will be fatal in Perl 5.30), passed through in regex; marked by <-- HERE in m/\${ <-- HERE HSPBITSCORE}/ at /home/syber/.local/share/.cpan/build/MRS-Client-1.0.1-0/blib/lib/MRS/Client/Blast.pm line 457.
Unescaped left brace in regex is deprecated here (and will be fatal in Perl 5.30), passed through in regex; marked by <-- HERE in m/\${ <-- HERE HSPSCORE}/ at /home/syber/.local/share/.cpan/build/MRS-Client-1.0.1-0/blib/lib/MRS/Client/Blast.pm line 458.
Unescaped left brace in regex is deprecated here (and will be fatal in Perl 5.30), passed through in regex; marked by <-- HERE in m/\${ <-- HERE HSPEXPECT}/ at /home/syber/.local/share/.cpan/build/MRS-Client-1.0.1-0/blib/lib/MRS/Client/Blast.pm line 459.
Unescaped left brace in regex is deprecated here (and will be fatal in Perl 5.30), passed through in regex; marked by <-- HERE in m/\${ <-- HERE HSPIDENTITY}/ at /home/syber/.local/share/.cpan/build/MRS-Client-1.0.1-0/blib/lib/MRS/Client/Blast.pm line 460.
Unescaped left brace in regex is deprecated here (and will be fatal in Perl 5.30), passed through in regex; marked by <-- HERE in m/\${ <-- HERE HSPPOSITIVE}/ at /home/syber/.local/share/.cpan/build/MRS-Client-1.0.1-0/blib/lib/MRS/Client/Blast.pm line 461.
Unescaped left brace in regex is deprecated here (and will be fatal in Perl 5.30), passed through in regex; marked by <-- HERE in m/\${ <-- HERE HSPMIDLINE}/ at /home/syber/.local/share/.cpan/build/MRS-Client-1.0.1-0/blib/lib/MRS/Client/Blast.pm line 462.
Unescaped left brace in regex is deprecated here (and will be fatal in Perl 5.30), passed through in regex; marked by <-- HERE in m/\${ <-- HERE HSPQFROM}/ at /home/syber/.local/share/.cpan/build/MRS-Client-1.0.1-0/blib/lib/MRS/Client/Blast.pm line 484.
Unescaped left brace in regex is deprecated here (and will be fatal in Perl 5.30), passed through in regex; marked by <-- HERE in m/\${ <-- HERE HSPQTO}/ at /home/syber/.local/share/.cpan/build/MRS-Client-1.0.1-0/blib/lib/MRS/Client/Blast.pm line 485.
Unescaped left brace in regex is deprecated here (and will be fatal in Perl 5.30), passed through in regex; marked by <-- HERE in m/\${ <-- HERE HSPHFROM}/ at /home/syber/.local/share/.cpan/build/MRS-Client-1.0.1-0/blib/lib/MRS/Client/Blast.pm line 486.
Unescaped left brace in regex is deprecated here (and will be fatal in Perl 5.30), passed through in regex; marked by <-- HERE in m/\${ <-- HERE HSPHTO}/ at /home/syber/.local/share/.cpan/build/MRS-Client-1.0.1-0/blib/lib/MRS/Client/Blast.pm line 487.
Unescaped left brace in regex is deprecated here (and will be fatal in Perl 5.30), passed through in regex; marked by <-- HERE in m/\${ <-- HERE HSPALIGNLEN}/ at /home/syber/.local/share/.cpan/build/MRS-Client-1.0.1-0/blib/lib/MRS/Client/Blast.pm line 488.
Unescaped left brace in regex is deprecated here (and will be fatal in Perl 5.30), passed through in regex; marked by <-- HERE in m/\${ <-- HERE HSPQALIGN}/ at /home/syber/.local/share/.cpan/build/MRS-Client-1.0.1-0/blib/lib/MRS/Client/Blast.pm line 489.
Unescaped left brace in regex is deprecated here (and will be fatal in Perl 5.30), passed through in regex; marked by <-- HERE in m/\${ <-- HERE HSPSUBALIGN}/ at /home/syber/.local/share/.cpan/build/MRS-Client-1.0.1-0/blib/lib/MRS/Client/Blast.pm line 490.
Unescaped left brace in regex is deprecated here (and will be fatal in Perl 5.30), passed through in regex; marked by <-- HERE in m/\${ <-- HERE LOCATION}/ at /home/syber/.local/share/.cpan/build/MRS-Client-1.0.1-0/blib/lib/MRS/Client.pm line 221.
Unescaped left brace in regex is deprecated here (and will be fatal in Perl 5.30), passed through in regex; marked by <-- HERE in m/\${ <-- HERE SERVICE}/ at /home/syber/.local/share/.cpan/build/MRS-Client-1.0.1-0/blib/lib/MRS/Client.pm line 222.
# Data manipulation
t/01-data.t ............. ok
Possible precedence issue with control flow operator at /home/syber/.local/share/.cpan/build/MRS-Client-1.0.1-0/blib/lib/MRS/Client/Blast.pm line 269.
Unescaped left brace in regex is deprecated here (and will be fatal in Perl 5.30), passed through in regex; marked by <-- HERE in m/\${ <-- HERE JOBID}/ at /home/syber/.local/share/.cpan/build/MRS-Client-1.0.1-0/blib/lib/MRS/Client/Blast.pm line 409.
Unescaped left brace in regex is deprecated here (and will be fatal in Perl 5.30), passed through in regex; marked by <-- HERE in m/\${ <-- HERE SEQDESC}/ at /home/syber/.local/share/.cpan/build/MRS-Client-1.0.1-0/blib/lib/MRS/Client/Blast.pm line 411.
Unescaped left brace in regex is deprecated here (and will be fatal in Perl 5.30), passed through in regex; marked by <-- HERE in m/\${ <-- HERE SEQDESC}/ at /home/syber/.local/share/.cpan/build/MRS-Client-1.0.1-0/blib/lib/MRS/Client/Blast.pm line 413.
Unescaped left brace in regex is deprecated here (and will be fatal in Perl 5.30), passed through in regex; marked by <-- HERE in m/\${ <-- HERE SEQDESC}/ at /home/syber/.local/share/.cpan/build/MRS-Client-1.0.1-0/blib/lib/MRS/Client/Blast.pm line 415.
Unescaped left brace in regex is deprecated here (and will be fatal in Perl 5.30), passed through in regex; marked by <-- HERE in m/\${ <-- HERE DB}/ at /home/syber/.local/share/.cpan/build/MRS-Client-1.0.1-0/blib/lib/MRS/Client/Blast.pm line 417.
Unescaped left brace in regex is deprecated here (and will be fatal in Perl 5.30), passed through in regex; marked by <-- HERE in m/\${ <-- HERE SEQLEN}/ at /home/syber/.local/share/.cpan/build/MRS-Client-1.0.1-0/blib/lib/MRS/Client/Blast.pm line 418.
Unescaped left brace in regex is deprecated here (and will be fatal in Perl 5.30), passed through in regex; marked by <-- HERE in m/\${ <-- HERE PARMATRIX}/ at /home/syber/.local/share/.cpan/build/MRS-Client-1.0.1-0/blib/lib/MRS/Client/Blast.pm line 419.
Unescaped left brace in regex is deprecated here (and will be fatal in Perl 5.30), passed through in regex; marked by <-- HERE in m/\${ <-- HERE PAREXPECT}/ at /home/syber/.local/share/.cpan/build/MRS-Client-1.0.1-0/blib/lib/MRS/Client/Blast.pm line 420.
Unescaped left brace in regex is deprecated here (and will be fatal in Perl 5.30), passed through in regex; marked by <-- HERE in m/\${ <-- HERE PARGAPOPEN}/ at /home/syber/.local/share/.cpan/build/MRS-Client-1.0.1-0/blib/lib/MRS/Client/Blast.pm line 421.
Unescaped left brace in regex is deprecated here (and will be fatal in Perl 5.30), passed through in regex; marked by <-- HERE in m/\${ <-- HERE PARGAPEXTEND}/ at /home/syber/.local/share/.cpan/build/MRS-Client-1.0.1-0/blib/lib/MRS/Client/Blast.pm line 422.
Unescaped left brace in regex is deprecated here (and will be fatal in Perl 5.30), passed through in regex; marked by <-- HERE in m/\${ <-- HERE PARFILTER}/ at /home/syber/.local/share/.cpan/build/MRS-Client-1.0.1-0/blib/lib/MRS/Client/Blast.pm line 423.
Unescaped left brace in regex is deprecated here (and will be fatal in Perl 5.30), passed through in regex; marked by <-- HERE in m/\${ <-- HERE DBCOUNT}/ at /home/syber/.local/share/.cpan/build/MRS-Client-1.0.1-0/blib/lib/MRS/Client/Blast.pm line 425.
Unescaped left brace in regex is deprecated here (and will be fatal in Perl 5.30), passed through in regex; marked by <-- HERE in m/\${ <-- HERE DBLENGTH}/ at /home/syber/.local/share/.cpan/build/MRS-Client-1.0.1-0/blib/lib/MRS/Client/Blast.pm line 426.
Unescaped left brace in regex is deprecated here (and will be fatal in Perl 5.30), passed through in regex; marked by <-- HERE in m/\${ <-- HERE DBSPACE}/ at /home/syber/.local/share/.cpan/build/MRS-Client-1.0.1-0/blib/lib/MRS/Client/Blast.pm line 427.
Unescaped left brace in regex is deprecated here (and will be fatal in Perl 5.30), passed through in regex; marked by <-- HERE in m/\${ <-- HERE KAPPA}/ at /home/syber/.local/share/.cpan/build/MRS-Client-1.0.1-0/blib/lib/MRS/Client/Blast.pm line 428.
Unescaped left brace in regex is deprecated here (and will be fatal in Perl 5.30), passed through in regex; marked by <-- HERE in m/\${ <-- HERE LAMBDA}/ at /home/syber/.local/share/.cpan/build/MRS-Client-1.0.1-0/blib/lib/MRS/Client/Blast.pm line 429.
Unescaped left brace in regex is deprecated here (and will be fatal in Perl 5.30), passed through in regex; marked by <-- HERE in m/\${ <-- HERE ENTROPY}/ at /home/syber/.local/share/.cpan/build/MRS-Client-1.0.1-0/blib/lib/MRS/Client/Blast.pm line 430.
Unescaped left brace in regex is deprecated here (and will be fatal in Perl 5.30), passed through in regex; marked by <-- HERE in m/\${ <-- HERE HITNR}/ at /home/syber/.local/share/.cpan/build/MRS-Client-1.0.1-0/blib/lib/MRS/Client/Blast.pm line 439.
Unescaped left brace in regex is deprecated here (and will be fatal in Perl 5.30), passed through in regex; marked by <-- HERE in m/\${ <-- HERE HITID}/ at /home/syber/.local/share/.cpan/build/MRS-Client-1.0.1-0/blib/lib/MRS/Client/Blast.pm line 440.
Unescaped left brace in regex is deprecated here (and will be fatal in Perl 5.30), passed through in regex; marked by <-- HERE in m/\${ <-- HERE HITSEQID}/ at /home/syber/.local/share/.cpan/build/MRS-Client-1.0.1-0/blib/lib/MRS/Client/Blast.pm line 442.
Unescaped left brace in regex is deprecated here (and will be fatal in Perl 5.30), passed through in regex; marked by <-- HERE in m/\${ <-- HERE HITSEQID}/ at /home/syber/.local/share/.cpan/build/MRS-Client-1.0.1-0/blib/lib/MRS/Client/Blast.pm line 444.
Unescaped left brace in regex is deprecated here (and will be fatal in Perl 5.30), passed through in regex; marked by <-- HERE in m/\${ <-- HERE HITSUBLEN}/ at /home/syber/.local/share/.cpan/build/MRS-Client-1.0.1-0/blib/lib/MRS/Client/Blast.pm line 447.
Unescaped left brace in regex is deprecated here (and will be fatal in Perl 5.30), passed through in regex; marked by <-- HERE in m/\${ <-- HERE HSPNR}/ at /home/syber/.local/share/.cpan/build/MRS-Client-1.0.1-0/blib/lib/MRS/Client/Blast.pm line 456.
Unescaped left brace in regex is deprecated here (and will be fatal in Perl 5.30), passed through in regex; marked by <-- HERE in m/\${ <-- HERE HSPBITSCORE}/ at /home/syber/.local/share/.cpan/build/MRS-Client-1.0.1-0/blib/lib/MRS/Client/Blast.pm line 457.
Unescaped left brace in regex is deprecated here (and will be fatal in Perl 5.30), passed through in regex; marked by <-- HERE in m/\${ <-- HERE HSPSCORE}/ at /home/syber/.local/share/.cpan/build/MRS-Client-1.0.1-0/blib/lib/MRS/Client/Blast.pm line 458.
Unescaped left brace in regex is deprecated here (and will be fatal in Perl 5.30), passed through in regex; marked by <-- HERE in m/\${ <-- HERE HSPEXPECT}/ at /home/syber/.local/share/.cpan/build/MRS-Client-1.0.1-0/blib/lib/MRS/Client/Blast.pm line 459.
Unescaped left brace in regex is deprecated here (and will be fatal in Perl 5.30), passed through in regex; marked by <-- HERE in m/\${ <-- HERE HSPIDENTITY}/ at /home/syber/.local/share/.cpan/build/MRS-Client-1.0.1-0/blib/lib/MRS/Client/Blast.pm line 460.
Unescaped left brace in regex is deprecated here (and will be fatal in Perl 5.30), passed through in regex; marked by <-- HERE in m/\${ <-- HERE HSPPOSITIVE}/ at /home/syber/.local/share/.cpan/build/MRS-Client-1.0.1-0/blib/lib/MRS/Client/Blast.pm line 461.
Unescaped left brace in regex is deprecated here (and will be fatal in Perl 5.30), passed through in regex; marked by <-- HERE in m/\${ <-- HERE HSPMIDLINE}/ at /home/syber/.local/share/.cpan/build/MRS-Client-1.0.1-0/blib/lib/MRS/Client/Blast.pm line 462.
Unescaped left brace in regex is deprecated here (and will be fatal in Perl 5.30), passed through in regex; marked by <-- HERE in m/\${ <-- HERE HSPQFROM}/ at /home/syber/.local/share/.cpan/build/MRS-Client-1.0.1-0/blib/lib/MRS/Client/Blast.pm line 484.
Unescaped left brace in regex is deprecated here (and will be fatal in Perl 5.30), passed through in regex; marked by <-- HERE in m/\${ <-- HERE HSPQTO}/ at /home/syber/.local/share/.cpan/build/MRS-Client-1.0.1-0/blib/lib/MRS/Client/Blast.pm line 485.
Unescaped left brace in regex is deprecated here (and will be fatal in Perl 5.30), passed through in regex; marked by <-- HERE in m/\${ <-- HERE HSPHFROM}/ at /home/syber/.local/share/.cpan/build/MRS-Client-1.0.1-0/blib/lib/MRS/Client/Blast.pm line 486.
Unescaped left brace in regex is deprecated here (and will be fatal in Perl 5.30), passed through in regex; marked by <-- HERE in m/\${ <-- HERE HSPHTO}/ at /home/syber/.local/share/.cpan/build/MRS-Client-1.0.1-0/blib/lib/MRS/Client/Blast.pm line 487.
Unescaped left brace in regex is deprecated here (and will be fatal in Perl 5.30), passed through in regex; marked by <-- HERE in m/\${ <-- HERE HSPALIGNLEN}/ at /home/syber/.local/share/.cpan/build/MRS-Client-1.0.1-0/blib/lib/MRS/Client/Blast.pm line 488.
Unescaped left brace in regex is deprecated here (and will be fatal in Perl 5.30), passed through in regex; marked by <-- HERE in m/\${ <-- HERE HSPQALIGN}/ at /home/syber/.local/share/.cpan/build/MRS-Client-1.0.1-0/blib/lib/MRS/Client/Blast.pm line 489.
Unescaped left brace in regex is deprecated here (and will be fatal in Perl 5.30), passed through in regex; marked by <-- HERE in m/\${ <-- HERE HSPSUBALIGN}/ at /home/syber/.local/share/.cpan/build/MRS-Client-1.0.1-0/blib/lib/MRS/Client/Blast.pm line 490.
Unescaped left brace in regex is deprecated here (and will be fatal in Perl 5.30), passed through in regex; marked by <-- HERE in m/\${ <-- HERE LOCATION}/ at /home/syber/.local/share/.cpan/build/MRS-Client-1.0.1-0/blib/lib/MRS/Client.pm line 221.
Unescaped left brace in regex is deprecated here (and will be fatal in Perl 5.30), passed through in regex; marked by <-- HERE in m/\${ <-- HERE SERVICE}/ at /home/syber/.local/share/.cpan/build/MRS-Client-1.0.1-0/blib/lib/MRS/Client.pm line 222.
# Setting host and endpoints
t/02-endpoint.t ......... ok
t/03-network.t .......... skipped: these tests are for testing by the author (when AUTHOR_TESTING=1)
Possible precedence issue with control flow operator at /home/syber/.local/share/.cpan/build/MRS-Client-1.0.1-0/blib/lib/MRS/Client/Blast.pm line 269.
Unescaped left brace in regex is deprecated here (and will be fatal in Perl 5.30), passed through in regex; marked by <-- HERE in m/\${ <-- HERE JOBID}/ at /home/syber/.local/share/.cpan/build/MRS-Client-1.0.1-0/blib/lib/MRS/Client/Blast.pm line 409.
Unescaped left brace in regex is deprecated here (and will be fatal in Perl 5.30), passed through in regex; marked by <-- HERE in m/\${ <-- HERE SEQDESC}/ at /home/syber/.local/share/.cpan/build/MRS-Client-1.0.1-0/blib/lib/MRS/Client/Blast.pm line 411.
Unescaped left brace in regex is deprecated here (and will be fatal in Perl 5.30), passed through in regex; marked by <-- HERE in m/\${ <-- HERE SEQDESC}/ at /home/syber/.local/share/.cpan/build/MRS-Client-1.0.1-0/blib/lib/MRS/Client/Blast.pm line 413.
Unescaped left brace in regex is deprecated here (and will be fatal in Perl 5.30), passed through in regex; marked by <-- HERE in m/\${ <-- HERE SEQDESC}/ at /home/syber/.local/share/.cpan/build/MRS-Client-1.0.1-0/blib/lib/MRS/Client/Blast.pm line 415.
Unescaped left brace in regex is deprecated here (and will be fatal in Perl 5.30), passed through in regex; marked by <-- HERE in m/\${ <-- HERE DB}/ at /home/syber/.local/share/.cpan/build/MRS-Client-1.0.1-0/blib/lib/MRS/Client/Blast.pm line 417.
Unescaped left brace in regex is deprecated here (and will be fatal in Perl 5.30), passed through in regex; marked by <-- HERE in m/\${ <-- HERE SEQLEN}/ at /home/syber/.local/share/.cpan/build/MRS-Client-1.0.1-0/blib/lib/MRS/Client/Blast.pm line 418.
Unescaped left brace in regex is deprecated here (and will be fatal in Perl 5.30), passed through in regex; marked by <-- HERE in m/\${ <-- HERE PARMATRIX}/ at /home/syber/.local/share/.cpan/build/MRS-Client-1.0.1-0/blib/lib/MRS/Client/Blast.pm line 419.
Unescaped left brace in regex is deprecated here (and will be fatal in Perl 5.30), passed through in regex; marked by <-- HERE in m/\${ <-- HERE PAREXPECT}/ at /home/syber/.local/share/.cpan/build/MRS-Client-1.0.1-0/blib/lib/MRS/Client/Blast.pm line 420.
Unescaped left brace in regex is deprecated here (and will be fatal in Perl 5.30), passed through in regex; marked by <-- HERE in m/\${ <-- HERE PARGAPOPEN}/ at /home/syber/.local/share/.cpan/build/MRS-Client-1.0.1-0/blib/lib/MRS/Client/Blast.pm line 421.
Unescaped left brace in regex is deprecated here (and will be fatal in Perl 5.30), passed through in regex; marked by <-- HERE in m/\${ <-- HERE PARGAPEXTEND}/ at /home/syber/.local/share/.cpan/build/MRS-Client-1.0.1-0/blib/lib/MRS/Client/Blast.pm line 422.
Unescaped left brace in regex is deprecated here (and will be fatal in Perl 5.30), passed through in regex; marked by <-- HERE in m/\${ <-- HERE PARFILTER}/ at /home/syber/.local/share/.cpan/build/MRS-Client-1.0.1-0/blib/lib/MRS/Client/Blast.pm line 423.
Unescaped left brace in regex is deprecated here (and will be fatal in Perl 5.30), passed through in regex; marked by <-- HERE in m/\${ <-- HERE DBCOUNT}/ at /home/syber/.local/share/.cpan/build/MRS-Client-1.0.1-0/blib/lib/MRS/Client/Blast.pm line 425.
Unescaped left brace in regex is deprecated here (and will be fatal in Perl 5.30), passed through in regex; marked by <-- HERE in m/\${ <-- HERE DBLENGTH}/ at /home/syber/.local/share/.cpan/build/MRS-Client-1.0.1-0/blib/lib/MRS/Client/Blast.pm line 426.
Unescaped left brace in regex is deprecated here (and will be fatal in Perl 5.30), passed through in regex; marked by <-- HERE in m/\${ <-- HERE DBSPACE}/ at /home/syber/.local/share/.cpan/build/MRS-Client-1.0.1-0/blib/lib/MRS/Client/Blast.pm line 427.
Unescaped left brace in regex is deprecated here (and will be fatal in Perl 5.30), passed through in regex; marked by <-- HERE in m/\${ <-- HERE KAPPA}/ at /home/syber/.local/share/.cpan/build/MRS-Client-1.0.1-0/blib/lib/MRS/Client/Blast.pm line 428.
Unescaped left brace in regex is deprecated here (and will be fatal in Perl 5.30), passed through in regex; marked by <-- HERE in m/\${ <-- HERE LAMBDA}/ at /home/syber/.local/share/.cpan/build/MRS-Client-1.0.1-0/blib/lib/MRS/Client/Blast.pm line 429.
Unescaped left brace in regex is deprecated here (and will be fatal in Perl 5.30), passed through in regex; marked by <-- HERE in m/\${ <-- HERE ENTROPY}/ at /home/syber/.local/share/.cpan/build/MRS-Client-1.0.1-0/blib/lib/MRS/Client/Blast.pm line 430.
Unescaped left brace in regex is deprecated here (and will be fatal in Perl 5.30), passed through in regex; marked by <-- HERE in m/\${ <-- HERE HITNR}/ at /home/syber/.local/share/.cpan/build/MRS-Client-1.0.1-0/blib/lib/MRS/Client/Blast.pm line 439.
Unescaped left brace in regex is deprecated here (and will be fatal in Perl 5.30), passed through in regex; marked by <-- HERE in m/\${ <-- HERE HITID}/ at /home/syber/.local/share/.cpan/build/MRS-Client-1.0.1-0/blib/lib/MRS/Client/Blast.pm line 440.
Unescaped left brace in regex is deprecated here (and will be fatal in Perl 5.30), passed through in regex; marked by <-- HERE in m/\${ <-- HERE HITSEQID}/ at /home/syber/.local/share/.cpan/build/MRS-Client-1.0.1-0/blib/lib/MRS/Client/Blast.pm line 442.
Unescaped left brace in regex is deprecated here (and will be fatal in Perl 5.30), passed through in regex; marked by <-- HERE in m/\${ <-- HERE HITSEQID}/ at /home/syber/.local/share/.cpan/build/MRS-Client-1.0.1-0/blib/lib/MRS/Client/Blast.pm line 444.
Unescaped left brace in regex is deprecated here (and will be fatal in Perl 5.30), passed through in regex; marked by <-- HERE in m/\${ <-- HERE HITSUBLEN}/ at /home/syber/.local/share/.cpan/build/MRS-Client-1.0.1-0/blib/lib/MRS/Client/Blast.pm line 447.
Unescaped left brace in regex is deprecated here (and will be fatal in Perl 5.30), passed through in regex; marked by <-- HERE in m/\${ <-- HERE HSPNR}/ at /home/syber/.local/share/.cpan/build/MRS-Client-1.0.1-0/blib/lib/MRS/Client/Blast.pm line 456.
Unescaped left brace in regex is deprecated here (and will be fatal in Perl 5.30), passed through in regex; marked by <-- HERE in m/\${ <-- HERE HSPBITSCORE}/ at /home/syber/.local/share/.cpan/build/MRS-Client-1.0.1-0/blib/lib/MRS/Client/Blast.pm line 457.
Unescaped left brace in regex is deprecated here (and will be fatal in Perl 5.30), passed through in regex; marked by <-- HERE in m/\${ <-- HERE HSPSCORE}/ at /home/syber/.local/share/.cpan/build/MRS-Client-1.0.1-0/blib/lib/MRS/Client/Blast.pm line 458.
Unescaped left brace in regex is deprecated here (and will be fatal in Perl 5.30), passed through in regex; marked by <-- HERE in m/\${ <-- HERE HSPEXPECT}/ at /home/syber/.local/share/.cpan/build/MRS-Client-1.0.1-0/blib/lib/MRS/Client/Blast.pm line 459.
Unescaped left brace in regex is deprecated here (and will be fatal in Perl 5.30), passed through in regex; marked by <-- HERE in m/\${ <-- HERE HSPIDENTITY}/ at /home/syber/.local/share/.cpan/build/MRS-Client-1.0.1-0/blib/lib/MRS/Client/Blast.pm line 460.
Unescaped left brace in regex is deprecated here (and will be fatal in Perl 5.30), passed through in regex; marked by <-- HERE in m/\${ <-- HERE HSPPOSITIVE}/ at /home/syber/.local/share/.cpan/build/MRS-Client-1.0.1-0/blib/lib/MRS/Client/Blast.pm line 461.
Unescaped left brace in regex is deprecated here (and will be fatal in Perl 5.30), passed through in regex; marked by <-- HERE in m/\${ <-- HERE HSPMIDLINE}/ at /home/syber/.local/share/.cpan/build/MRS-Client-1.0.1-0/blib/lib/MRS/Client/Blast.pm line 462.
Unescaped left brace in regex is deprecated here (and will be fatal in Perl 5.30), passed through in regex; marked by <-- HERE in m/\${ <-- HERE HSPQFROM}/ at /home/syber/.local/share/.cpan/build/MRS-Client-1.0.1-0/blib/lib/MRS/Client/Blast.pm line 484.
Unescaped left brace in regex is deprecated here (and will be fatal in Perl 5.30), passed through in regex; marked by <-- HERE in m/\${ <-- HERE HSPQTO}/ at /home/syber/.local/share/.cpan/build/MRS-Client-1.0.1-0/blib/lib/MRS/Client/Blast.pm line 485.
Unescaped left brace in regex is deprecated here (and will be fatal in Perl 5.30), passed through in regex; marked by <-- HERE in m/\${ <-- HERE HSPHFROM}/ at /home/syber/.local/share/.cpan/build/MRS-Client-1.0.1-0/blib/lib/MRS/Client/Blast.pm line 486.
Unescaped left brace in regex is deprecated here (and will be fatal in Perl 5.30), passed through in regex; marked by <-- HERE in m/\${ <-- HERE HSPHTO}/ at /home/syber/.local/share/.cpan/build/MRS-Client-1.0.1-0/blib/lib/MRS/Client/Blast.pm line 487.
Unescaped left brace in regex is deprecated here (and will be fatal in Perl 5.30), passed through in regex; marked by <-- HERE in m/\${ <-- HERE HSPALIGNLEN}/ at /home/syber/.local/share/.cpan/build/MRS-Client-1.0.1-0/blib/lib/MRS/Client/Blast.pm line 488.
Unescaped left brace in regex is deprecated here (and will be fatal in Perl 5.30), passed through in regex; marked by <-- HERE in m/\${ <-- HERE HSPQALIGN}/ at /home/syber/.local/share/.cpan/build/MRS-Client-1.0.1-0/blib/lib/MRS/Client/Blast.pm line 489.
Unescaped left brace in regex is deprecated here (and will be fatal in Perl 5.30), passed through in regex; marked by <-- HERE in m/\${ <-- HERE HSPSUBALIGN}/ at /home/syber/.local/share/.cpan/build/MRS-Client-1.0.1-0/blib/lib/MRS/Client/Blast.pm line 490.
Unescaped left brace in regex is deprecated here (and will be fatal in Perl 5.30), passed through in regex; marked by <-- HERE in m/\${ <-- HERE LOCATION}/ at /home/syber/.local/share/.cpan/build/MRS-Client-1.0.1-0/blib/lib/MRS/Client.pm line 221.
Unescaped left brace in regex is deprecated here (and will be fatal in Perl 5.30), passed through in regex; marked by <-- HERE in m/\${ <-- HERE SERVICE}/ at /home/syber/.local/share/.cpan/build/MRS-Client-1.0.1-0/blib/lib/MRS/Client.pm line 222.
# Manipulation of hyperlinks
t/04-links.t ............ ok
t/author-critic.t ....... skipped: these tests are for testing by the author
t/author-pod-spell.t .... skipped: these tests are for testing by the author
t/release-eol.t ......... skipped: these tests are for release candidate testing
t/release-no-tabs.t ..... skipped: these tests are for release candidate testing
t/release-pod-syntax.t .. skipped: these tests are for release candidate testing
All tests successful.
Files=11, Tests=113, 2 wallclock secs ( 0.04 usr 0.01 sys + 1.73 cusr 0.20 csys = 1.98 CPU)
Result: PASS
------------------------------
PREREQUISITES
------------------------------
Prerequisite modules loaded:
requires:
Module Need Have
--------------------------------- ---- --------
base 0 2.27
Carp 0 1.50
constant 0 1.33
Data::Dumper 0 2.173
File::Basename 0 2.85
FindBin 0 1.51
Getopt::Std 0 1.12
Math::BigInt 0 1.999816
overload 0 1.30
strict 0 1.11
vars 0 1.04
warnings 0 1.42
XML::Compile::SOAP11 2.26 3.24
XML::Compile::Transport::SOAPHTTP 0 3.24
XML::Compile::WSDL11 0 3.07
build_requires:
Module Need Have
--------------------------------- ---- --------
File::Find 0 1.34
File::Spec 0 3.75
File::Temp 0 0.2309
Test::More 0 1.302164
configure_requires:
Module Need Have
--------------------------------- ---- --------
ExtUtils::MakeMaker 6.30 7.37_03
------------------------------
ENVIRONMENT AND OTHER CONTEXT
------------------------------
Environment variables:
AUTOMATED_TESTING = 1
LC_COLLATE = ru_RU.utf8
LC_CTYPE = ru_RU.utf8
PATH = /home/syber/perl5/perlbrew/bin:/home/syber/perl5/perlbrew/perls/5.28.2/bin:/usr/local/bin:/usr/bin:/bin:/usr/local/games:/usr/games
PERL5LIB =
PERL5OPT =
PERL5_CPANPLUS_IS_RUNNING = 10864
PERL5_CPAN_IS_RUNNING = 10864
PERL5_CPAN_IS_RUNNING_IN_RECURSION = 32268,10864
PERLBREW_HOME = /home/syber/.perlbrew
PERLBREW_MANPATH = /home/syber/perl5/perlbrew/perls/5.28.2/man
PERLBREW_PATH = /home/syber/perl5/perlbrew/bin:/home/syber/perl5/perlbrew/perls/5.28.2/bin
PERLBREW_PERL = 5.28.2
PERLBREW_ROOT = /home/syber/perl5/perlbrew
PERLBREW_SHELLRC_VERSION = 0.86
PERLBREW_VERSION = 0.86
PERL_CR_SMOKER_CURRENT = MRS-Client-1.0.1
PERL_EXTUTILS_AUTOINSTALL = --defaultdeps
PERL_MM_USE_DEFAULT = 1
PERL_USE_UNSAFE_INC = 1
SHELL = /bin/bash
TERM = screen
Perl special variables (and OS-specific diagnostics, for MSWin32):
$^X = /home/syber/perl5/perlbrew/perls/5.28.2/bin/perl
$UID/$EUID = 1003 / 1003
$GID = 1003 11 1003
$EGID = 1003 11 1003
Perl module toolchain versions installed:
Module Have
------------------- ---------
CPAN 2.27
CPAN::Meta 2.150010
Cwd 3.75
ExtUtils::CBuilder 0.280231
ExtUtils::Command 7.37_03
ExtUtils::Install 2.14
ExtUtils::MakeMaker 7.37_03
ExtUtils::Manifest 1.72
ExtUtils::ParseXS 3.39
File::Spec 3.75
JSON 4.02
JSON::PP 4.04
Module::Build 0.42_30
Module::Signature 0.83
Parse::CPAN::Meta 2.150010
Test::Harness 3.42
Test::More 1.302164
YAML 1.29
YAML::Syck 1.31
version 0.9924_02
--
Summary of my perl5 (revision 5 version 28 subversion 2) configuration:
Platform:
osname=linux
osvers=4.9.0-8-amd64
archname=x86_64-linux
uname='linux dexter.crazypanda.ru 4.9.0-8-amd64 #1 smp debian 4.9.110-3+deb9u6 (2018-10-08) x86_64 gnulinux '
config_args='-de -Dprefix=/home/syber/perl5/perlbrew/perls/5.28.2 -Aeval:scriptdir=/home/syber/perl5/perlbrew/perls/5.28.2/bin'
hint=recommended
useposix=true
d_sigaction=define
useithreads=undef
usemultiplicity=undef
use64bitint=define
use64bitall=define
uselongdouble=undef
usemymalloc=n
default_inc_excludes_dot=define
bincompat5005=undef
Compiler:
cc='cc'
ccflags ='-fwrapv -fno-strict-aliasing -pipe -fstack-protector-strong -I/usr/local/include -D_LARGEFILE_SOURCE -D_FILE_OFFSET_BITS=64 -D_FORTIFY_SOURCE=2'
optimize='-O2'
cppflags='-fwrapv -fno-strict-aliasing -pipe -fstack-protector-strong -I/usr/local/include'
ccversion=''
gccversion='6.3.0 20170516'
gccosandvers=''
intsize=4
longsize=8
ptrsize=8
doublesize=8
byteorder=12345678
doublekind=3
d_longlong=define
longlongsize=8
d_longdbl=define
longdblsize=16
longdblkind=3
ivtype='long'
ivsize=8
nvtype='double'
nvsize=8
Off_t='off_t'
lseeksize=8
alignbytes=8
prototype=define
Linker and Libraries:
ld='cc'
ldflags =' -fstack-protector-strong -L/usr/local/lib'
libpth=/usr/local/lib /usr/lib/gcc/x86_64-linux-gnu/6/include-fixed /usr/include/x86_64-linux-gnu /usr/lib /lib/x86_64-linux-gnu /lib/../lib /usr/lib/x86_64-linux-gnu /usr/lib/../lib /lib
libs=-lpthread -lnsl -ldl -lm -lcrypt -lutil -lc
perllibs=-lpthread -lnsl -ldl -lm -lcrypt -lutil -lc
libc=libc-2.24.so
so=so
useshrplib=false
libperl=libperl.a
gnulibc_version='2.24'
Dynamic Linking:
dlsrc=dl_dlopen.xs
dlext=so
d_dlsymun=undef
ccdlflags='-Wl,-E'
cccdlflags='-fPIC'
lddlflags='-shared -O2 -L/usr/local/lib -fstack-protector-strong'
Characteristics of this binary (from libperl):
Compile-time options:
HAS_TIMES
PERLIO_LAYERS
PERL_COPY_ON_WRITE
PERL_DONT_CREATE_GVSV
PERL_MALLOC_WRAP
PERL_OP_PARENT
PERL_PRESERVE_IVUV
USE_64_BIT_ALL
USE_64_BIT_INT
USE_LARGE_FILES
USE_LOCALE
USE_LOCALE_COLLATE
USE_LOCALE_CTYPE
USE_LOCALE_NUMERIC
USE_LOCALE_TIME
USE_PERLIO
USE_PERL_ATOF
Locally applied patches:
Devel::PatchPerl 1.64
Built under linux
Compiled at Aug 5 2019 13:32:33
%ENV:
PERL5LIB=""
PERL5OPT=""
PERL5_CPANPLUS_IS_RUNNING="10864"
PERL5_CPAN_IS_RUNNING="10864"
PERL5_CPAN_IS_RUNNING_IN_RECURSION="32268,10864"
PERLBREW_HOME="/home/syber/.perlbrew"
PERLBREW_MANPATH="/home/syber/perl5/perlbrew/perls/5.28.2/man"
PERLBREW_PATH="/home/syber/perl5/perlbrew/bin:/home/syber/perl5/perlbrew/perls/5.28.2/bin"
PERLBREW_PERL="5.28.2"
PERLBREW_ROOT="/home/syber/perl5/perlbrew"
PERLBREW_SHELLRC_VERSION="0.86"
PERLBREW_VERSION="0.86"
PERL_CR_SMOKER_CURRENT="MRS-Client-1.0.1"
PERL_EXTUTILS_AUTOINSTALL="--defaultdeps"
PERL_MM_USE_DEFAULT="1"
PERL_USE_UNSAFE_INC="1"
@INC:
/home/syber/perl5/perlbrew/perls/5.28.2/lib/site_perl/5.28.2/x86_64-linux
/home/syber/perl5/perlbrew/perls/5.28.2/lib/site_perl/5.28.2
/home/syber/perl5/perlbrew/perls/5.28.2/lib/5.28.2/x86_64-linux
/home/syber/perl5/perlbrew/perls/5.28.2/lib/5.28.2
.