Report for Input-Validator-0.001005

Back
From: metabase:user:30f4dfbe-2aae-11df-837a-5e0a49663a4f
Subject: PASS Input-Validator-0.001005 v5.8.9 GNU/Linux
Date: 2016-08-10T14:50:24Z

This distribution has been tested as part of the CPAN Testers
project, supporting the Perl programming language.  See
http://wiki.cpantesters.org/ for more information or email
questions to cpan-testers-discuss@perl.org


--
Dear Viacheslav Tykhanovskyi,

This is a computer-generated report for Input-Validator-0.001005
on perl 5.8.9, created by CPAN-Reporter-1.2018.

Thank you for uploading your work to CPAN.  Congratulations!
All tests were successful.

Sections of this report:

    * Tester comments
    * Program output
    * Prerequisites
    * Environment and other context

------------------------------
TESTER COMMENTS
------------------------------

Additional comments from tester:

this report is from an automated smoke testing program
and was not reviewed by a human for accuracy

------------------------------
PROGRAM OUTPUT
------------------------------

Output from '/usr/bin/make test':

PERL_DL_NONLAZY=1 "/home/njh/perl5/perlbrew/perls/perl-5.8.9/bin/perl" "-MExtUtils::Command::MM" "-MTest::Harness" "-e" "undef *Test::Harness::Switches; test_harness(0, 'blib/lib', 'blib/arch')" t/*.t t/*/*.t
t/constraint.t ........... ok
t/constraint/callback.t .. ok
t/constraint/equal.t ..... ok
t/constraint-builder.t ... ok
t/constraint/date.t ...... ok
t/constraint/email.t ..... ok
t/constraint/ip.t ........ ok
t/condition.t ............ ok
t/constraint/in.t ........ ok
t/constraint/length.t .... ok
t/constraint/regexp.t .... ok
t/constraint/subset.t .... ok
t/constraint/time.t ...... ok
t/constraint/unique.t .... ok
t/group.t ................ ok
t/field.t ................ ok
t/inflate.t .............. ok
t/validator-bulk.t ....... ok
t/validator-explicit.t ... ok
t/validator-condition.t .. ok
t/validator-group.t ...... ok
t/validator.t ............ ok
All tests successful.
Files=22, Tests=247,  0 wallclock secs ( 0.07 usr  0.02 sys +  0.63 cusr  0.13 csys =  0.85 CPU)
Result: PASS

------------------------------
PREREQUISITES
------------------------------

Prerequisite modules loaded:

requires:

    Module              Need     Have    
    ------------------- -------- --------
    Class::Load         0        0.23    
    perl                5.008007 5.008009
    String::CamelCase   0        0.02    

build_requires:

    Module              Need     Have    
    ------------------- -------- --------
    ExtUtils::MakeMaker 0        7.22    


------------------------------
ENVIRONMENT AND OTHER CONTEXT
------------------------------

Environment variables:

    AUTOMATED_TESTING = 1
    HARNESS_OPTIONS = j8
    LANG = en_GB.UTF-8
    LANGUAGE = en_GB:en
    PATH = /home/njh/perl5/perlbrew/bin:/home/njh/perl5/perlbrew/perls/perl-5.8.9/bin:/home/njh/perl5/perlbrew/bin:/usr/bin:/bin
    PERL5LIB = /home/njh/.cpan/build/Class-Load-0.23-m4uVII/blib/arch:/home/njh/.cpan/build/Class-Load-0.23-m4uVII/blib/lib:/home/njh/.cpan/build/Data-OptList-0.110-HgRAGv/blib/arch:/home/njh/.cpan/build/Data-OptList-0.110-HgRAGv/blib/lib:/home/njh/.cpan/build/Sub-Install-0.928-Sdrn26/blib/arch:/home/njh/.cpan/build/Sub-Install-0.928-Sdrn26/blib/lib:/home/njh/.cpan/build/Params-Util-1.07-24RyOm/blib/arch:/home/njh/.cpan/build/Params-Util-1.07-24RyOm/blib/lib:/home/njh/.cpan/build/Package-Stash-0.37-ffPLJ7/blib/arch:/home/njh/.cpan/build/Package-Stash-0.37-ffPLJ7/blib/lib:/home/njh/.cpan/build/Package-Stash-XS-0.28-_uwGJe/blib/arch:/home/njh/.cpan/build/Package-Stash-XS-0.28-_uwGJe/blib/lib:/home/njh/.cpan/build/Dist-CheckConflicts-0.11-BuokED/blib/arch:/home/njh/.cpan/build/Dist-CheckConflicts-0.11-BuokED/blib/lib:/home/njh/.cpan/build/Module-Implementation-0.09-Clt1bK/blib/arch:/home/njh/.cpan/build/Module-Implementation-0.09-Clt1bK/blib/lib:/home/njh/.cpan/build/Test-Fatal-0.014-YDW8sN/blib/arch:/home/njh/.cpan/build/Test-Fatal-0.014-YDW8sN/blib/lib:/home/njh/.cpan/build/String-CamelCase-0.02-HKUWB3/blib/arch:/home/njh/.cpan/build/String-CamelCase-0.02-HKUWB3/blib/lib:/home/njh/.cpan/build/Time-Piece-1.31-i3ykn7/blib/arch:/home/njh/.cpan/build/Time-Piece-1.31-i3ykn7/blib/lib
    PERL5OPT = 
    PERL5_CPANPLUS_IS_RUNNING = 15726
    PERL5_CPAN_IS_RUNNING = 15726
    PERLBREW_BASHRC_VERSION = 0.73
    PERLBREW_HOME = /home/njh/.perlbrew
    PERLBREW_LIB = 
    PERLBREW_MANPATH = /home/njh/perl5/perlbrew/perls/perl-5.8.9/man
    PERLBREW_PATH = /home/njh/perl5/perlbrew/bin:/home/njh/perl5/perlbrew/perls/perl-5.8.9/bin
    PERLBREW_PERL = perl-5.8.9
    PERLBREW_ROOT = /home/njh/perl5/perlbrew
    PERLBREW_VERSION = 0.73
    PERL_LOCAL_LIB_ROOT = 
    SHELL = /bin/sh

Perl special variables (and OS-specific diagnostics, for MSWin32):

    $^X = /home/njh/perl5/perlbrew/perls/perl-5.8.9/bin/perl
    $UID/$EUID = 1000 / 1000
    $GID = 1000 4 24 25 29 30 44 46 108 112 1000
    $EGID = 1000 4 24 25 29 30 44 46 108 112 1000

Perl module toolchain versions installed:

    Module              Have    
    ------------------- --------
    CPAN                1.9800  
    CPAN::Meta          2.150005
    Cwd                 3.47    
    ExtUtils::CBuilder  0.280220
    ExtUtils::Command   7.22    
    ExtUtils::Install   1.54    
    ExtUtils::MakeMaker 7.22    
    ExtUtils::Manifest  1.70    
    ExtUtils::ParseXS   3.30    
    File::Spec          3.47    
    JSON                2.90    
    JSON::PP            2.27400 
    Module::Build       0.4210  
    Module::Signature   n/a     
    Parse::CPAN::Meta   1.4422  
    Test::Harness       3.36    
    Test::More          1.001009
    YAML                1.18    
    YAML::Syck          1.29    
    version             0.9909  


--

Summary of my perl5 (revision 5 version 8 subversion 9) configuration:
  Platform:
    osname=linux, osvers=3.16-3-amd64, archname=x86_64-linux-thread-multi
    uname='linux nigelhorne.force9.co.uk 3.16-3-amd64 #1 smp debian 3.16.5-1 (2014-10-10) x86_64 gnulinux '
    config_args='-de -Dprefix=/home/njh/perl5/perlbrew/perls/perl-5.8.9 -Duseithreads -Dusemultiplicity -Dusedevel -Accflags=-O2 -W -Wformat=2 -Wswitch -Wshadow -Wwrite-strings -Wuninitialized -Wall -pipe -mtune=native -march=native -fomit-frame-pointer -msse2 -msse -mmmx -mfpmath=sse -pedantic -D_FORTIFY_SOURCE=2 -Wpointer-arith -Wstrict-prototypes -fstack-protector -Wstack-protector -Wextra -Wbad-function-cast -Wcast-align -Wcast-qual -Wdisabled-optimization -Wendif-labels -Wfloat-equal -Wformat-nonliteral -Winline -Wmissing-declarations -Wmissing-prototypes -Wnested-externs -Wpointer-arith -Wundef -Wformat-security -ftree-vectorize -fdiagnostics-color=auto -Aeval:scriptdir=/home/njh/perl5/perlbrew/perls/perl-5.8.9/bin'
    hint=recommended, useposix=true, d_sigaction=define
    usethreads=define use5005threads=undef useithreads=define usemultiplicity=define
    useperlio=define d_sfio=undef uselargefiles=define usesocks=undef
    use64bitint=define use64bitall=define uselongdouble=undef
    usemymalloc=n, bincompat5005=undef
  Compiler:
    cc='cc', ccflags ='-D_REENTRANT -D_GNU_SOURCE -O2 -W -Wformat=2 -Wswitch -Wshadow -Wwrite-strings -Wuninitialized -Wall -pipe -mtune=native -march=native -fomit-frame-pointer -msse2 -msse -mmmx -mfpmath=sse -pedantic -D_FORTIFY_SOURCE=2 -Wpointer-arith -Wstrict-prototypes -fstack-protector -Wstack-protector -Wextra -Wbad-function-cast -Wcast-align -Wcast-qual -Wdisabled-optimization -Wendif-labels -Wfloat-equal -Wformat-nonliteral -Winline -Wmissing-declarations -Wmissing-prototypes -Wnested-externs -Wpointer-arith -Wundef -Wformat-security -ftree-vectorize -fdiagnostics-color=auto -fno-strict-aliasing -I/usr/local/include -D_LARGEFILE_SOURCE -D_FILE_OFFSET_BITS=64',
    optimize='-O2',
    cppflags='-D_REENTRANT -D_GNU_SOURCE -O2 -W -Wformat=2 -Wswitch -Wshadow -Wwrite-strings -Wuninitialized -Wall -pipe -mtune=native -march=native -fomit-frame-pointer -msse2 -msse -mmmx -mfpmath=sse -pedantic -D_FORTIFY_SOURCE=2 -Wpointer-arith -Wstrict-prototypes -fstack-protector -Wstack-protector -Wextra -Wbad-function-cast -Wcast-align -Wcast-qual -Wdisabled-optimization -Wendif-labels -Wfloat-equal -Wformat-nonliteral -Winline -Wmissing-declarations -Wmissing-prototypes -Wnested-externs -Wpointer-arith -Wundef -Wformat-security -ftree-vectorize -fdiagnostics-color=auto -fno-strict-aliasing -I/usr/local/include'
    ccversion='', gccversion='4.9.2', gccosandvers=''
    intsize=4, longsize=8, ptrsize=8, doublesize=8, byteorder=12345678
    d_longlong=define, longlongsize=8, d_longdbl=define, longdblsize=16
    ivtype='long', ivsize=8, nvtype='double', nvsize=8, Off_t='off_t', lseeksize=8
    alignbytes=8, prototype=define
  Linker and Libraries:
    ld='cc', ldflags =' -L/usr/local/lib'
    libpth=/usr/local/lib /lib/x86_64-linux-gnu /lib/../lib /usr/lib/x86_64-linux-gnu /usr/lib/../lib /lib /usr/lib
    libs=-lnsl -lgdbm -ldb -ldl -lm -lcrypt -lutil -lpthread -lc -lgdbm_compat
    perllibs=-lnsl -ldl -lm -lcrypt -lutil -lpthread -lc -lgdbm_compat
    libc=libc-2.19.so, so=so, useshrplib=false, libperl=libperl.a
    gnulibc_version='2.19'
  Dynamic Linking:
    dlsrc=dl_dlopen.xs, dlext=so, d_dlsymun=undef, ccdlflags='-Wl,-E'
    cccdlflags='-fPIC', lddlflags='-shared -O2 -L/usr/local/lib'


Characteristics of this binary (from libperl): 
  Compile-time options: MULTIPLICITY PERL_IMPLICIT_CONTEXT PERL_MALLOC_WRAP
                        USE_64_BIT_ALL USE_64_BIT_INT USE_FAST_STDIO
                        USE_ITHREADS USE_LARGE_FILES USE_PERLIO
                        USE_REENTRANT_API
  Built under linux
  Compiled at Nov 20 2014 16:36:02
  %ENV:
    PERL5LIB="/home/njh/.cpan/build/Class-Load-0.23-m4uVII/blib/arch:/home/njh/.cpan/build/Class-Load-0.23-m4uVII/blib/lib:/home/njh/.cpan/build/Data-OptList-0.110-HgRAGv/blib/arch:/home/njh/.cpan/build/Data-OptList-0.110-HgRAGv/blib/lib:/home/njh/.cpan/build/Sub-Install-0.928-Sdrn26/blib/arch:/home/njh/.cpan/build/Sub-Install-0.928-Sdrn26/blib/lib:/home/njh/.cpan/build/Params-Util-1.07-24RyOm/blib/arch:/home/njh/.cpan/build/Params-Util-1.07-24RyOm/blib/lib:/home/njh/.cpan/build/Package-Stash-0.37-ffPLJ7/blib/arch:/home/njh/.cpan/build/Package-Stash-0.37-ffPLJ7/blib/lib:/home/njh/.cpan/build/Package-Stash-XS-0.28-_uwGJe/blib/arch:/home/njh/.cpan/build/Package-Stash-XS-0.28-_uwGJe/blib/lib:/home/njh/.cpan/build/Dist-CheckConflicts-0.11-BuokED/blib/arch:/home/njh/.cpan/build/Dist-CheckConflicts-0.11-BuokED/blib/lib:/home/njh/.cpan/build/Module-Implementation-0.09-Clt1bK/blib/arch:/home/njh/.cpan/build/Module-Implementation-0.09-Clt1bK/blib/lib:/home/njh/.cpan/build/Test-Fatal-0.014-YDW8sN/blib/arch:/home/njh/.cpan/build/Test-Fatal-0.014-YDW8sN/blib/lib:/home/njh/.cpan/build/String-CamelCase-0.02-HKUWB3/blib/arch:/home/njh/.cpan/build/String-CamelCase-0.02-HKUWB3/blib/lib:/home/njh/.cpan/build/Time-Piece-1.31-i3ykn7/blib/arch:/home/njh/.cpan/build/Time-Piece-1.31-i3ykn7/blib/lib"
    PERL5OPT=""
    PERL5_CPANPLUS_IS_RUNNING="15726"
    PERL5_CPAN_IS_RUNNING="15726"
    PERLBREW_BASHRC_VERSION="0.73"
    PERLBREW_HOME="/home/njh/.perlbrew"
    PERLBREW_LIB=""
    PERLBREW_MANPATH="/home/njh/perl5/perlbrew/perls/perl-5.8.9/man"
    PERLBREW_PATH="/home/njh/perl5/perlbrew/bin:/home/njh/perl5/perlbrew/perls/perl-5.8.9/bin"
    PERLBREW_PERL="perl-5.8.9"
    PERLBREW_ROOT="/home/njh/perl5/perlbrew"
    PERLBREW_VERSION="0.73"
    PERL_LOCAL_LIB_ROOT=""
  @INC:
    /home/njh/.cpan/build/Class-Load-0.23-m4uVII/blib/arch
    /home/njh/.cpan/build/Class-Load-0.23-m4uVII/blib/lib
    /home/njh/.cpan/build/Data-OptList-0.110-HgRAGv/blib/arch
    /home/njh/.cpan/build/Data-OptList-0.110-HgRAGv/blib/lib
    /home/njh/.cpan/build/Sub-Install-0.928-Sdrn26/blib/arch
    /home/njh/.cpan/build/Sub-Install-0.928-Sdrn26/blib/lib
    /home/njh/.cpan/build/Params-Util-1.07-24RyOm/blib/arch
    /home/njh/.cpan/build/Params-Util-1.07-24RyOm/blib/lib
    /home/njh/.cpan/build/Package-Stash-0.37-ffPLJ7/blib/arch
    /home/njh/.cpan/build/Package-Stash-0.37-ffPLJ7/blib/lib
    /home/njh/.cpan/build/Package-Stash-XS-0.28-_uwGJe/blib/arch
    /home/njh/.cpan/build/Package-Stash-XS-0.28-_uwGJe/blib/lib
    /home/njh/.cpan/build/Dist-CheckConflicts-0.11-BuokED/blib/arch
    /home/njh/.cpan/build/Dist-CheckConflicts-0.11-BuokED/blib/lib
    /home/njh/.cpan/build/Module-Implementation-0.09-Clt1bK/blib/arch
    /home/njh/.cpan/build/Module-Implementation-0.09-Clt1bK/blib/lib
    /home/njh/.cpan/build/Test-Fatal-0.014-YDW8sN/blib/arch
    /home/njh/.cpan/build/Test-Fatal-0.014-YDW8sN/blib/lib
    /home/njh/.cpan/build/String-CamelCase-0.02-HKUWB3/blib/arch
    /home/njh/.cpan/build/String-CamelCase-0.02-HKUWB3/blib/lib
    /home/njh/.cpan/build/Time-Piece-1.31-i3ykn7/blib/arch
    /home/njh/.cpan/build/Time-Piece-1.31-i3ykn7/blib/lib
    /home/njh/perl5/perlbrew/perls/perl-5.8.9/lib/5.8.9/x86_64-linux-thread-multi
    /home/njh/perl5/perlbrew/perls/perl-5.8.9/lib/5.8.9
    /home/njh/perl5/perlbrew/perls/perl-5.8.9/lib/site_perl/5.8.9/x86_64-linux-thread-multi
    /home/njh/perl5/perlbrew/perls/perl-5.8.9/lib/site_perl/5.8.9
    .