Web-Query v0.39 Perl 5 v5.26.2 x86_64-linux

Status
Pass
From
Andreas J. König (ANDK)
Dist
Web-Query v0.39
Platform
Perl 5 v5.26.2 x86_64-linux
Date
2018-08-22 04:13:48
ID
c4c3e338-a5c1-11e8-b67b-fd261c5890fb
This distribution has been tested as part of the CPAN Testers
project, supporting the Perl programming language.  See
http://wiki.cpantesters.org/ for more information or email
questions to cpan-testers-discuss@perl.org


--
Dear Yanick Champoux,

This is a computer-generated report for Web-Query-0.39
on perl 5.26.2, created by CPAN-Reporter-1.2018.

Thank you for uploading your work to CPAN.  Congratulations!
All tests were successful.

Sections of this report:

    * Tester comments
    * Program output
    * Prerequisites
    * Environment and other context

------------------------------
TESTER COMMENTS
------------------------------

Additional comments from tester:

this report is from an automated smoke testing program
and was not reviewed by a human for accuracy

------------------------------
PROGRAM OUTPUT
------------------------------

Output from '/usr/bin/make test':

PERL_DL_NONLAZY=1 "/home/sand/src/perl/repoperls/installed-perls/host/k93stretch/v5.26.2/50aa/bin/perl" "-MExtUtils::Command::MM" "-MTest::Harness" "-e" "undef *Test::Harness::Switches; test_harness(0, 'blib/lib', 'blib/arch')" t/*.t
t/00-compile.t ...................... ok
# 
# Versions for all modules listed in MYMETA.json (including optional ones):
# 
# === Configure Requires ===
# 
#     Module              Want Have
#     ------------------- ---- ----
#     ExtUtils::MakeMaker  any 7.34
# 
# === Build Requires ===
# 
#     Module              Want Have
#     ------------------- ---- ----
#     ExtUtils::MakeMaker  any 7.34
# 
# === Test Requires ===
# 
#     Module              Want     Have
#     ------------------- ---- --------
#     Cwd                  any     3.74
#     ExtUtils::MakeMaker  any     7.34
#     File::Spec           any     3.74
#     FindBin              any     1.51
#     IO::Handle           any     1.36
#     IPC::Open3           any     1.20
#     Test::Exception      any     0.43
#     Test::More           any 1.302136
#     lib                  any     0.64
#     utf8                 any     1.19
# 
# === Test Recommends ===
# 
#     Module         Want     Have
#     ---------- -------- --------
#     CPAN::Meta 2.120900 2.150010
# 
# === Runtime Requires ===
# 
#     Module                    Want    Have
#     ------------------------- ---- -------
#     Exporter                   any    5.72
#     HTML::Entities             any    3.69
#     HTML::Selector::XPath     0.20    0.23
#     HTML::TreeBuilder::LibXML  any    0.26
#     HTML::TreeBuilder::XPath   any    0.14
#     LWP::UserAgent             any    6.34
#     List::Util                1.44 1.46_02
#     Scalar::Util               any 1.46_02
#     parent                     any   0.236
#     strict                     any    1.11
#     warnings                   any    1.37
# 
t/00-report-prereqs.t ............... ok
t/00_compile.t ...................... ok
# testing Web::Query
# testing Web::Query::LibXML
t/01_src.t .......................... ok
# testing Web::Query
# testing Web::Query::LibXML
t/02_op.t ........................... ok
# testing Web::Query
# testing Web::Query::LibXML
t/03_traverse.t ..................... ok
# testing Web::Query
# testing Web::Query::LibXML
t/04_element.t ...................... ok
# testing Web::Query
# testing Web::Query::LibXML
t/05_html5.t ........................ ok
t/06_new_from_url_error_handling.t .. ok
# testing Web::Query
# testing Web::Query::LibXML
t/07_remove.t ....................... ok
t/08_indent.t ....................... ok
# testing Web::Query
# testing Web::Query::LibXML
t/09_as_html.t ...................... ok
t/10_subclass.t ..................... ok
# testing Web::Query
# testing Web::Query::LibXML
t/11_get_eq.t ....................... ok
# testing Web::Query
# testing Web::Query::LibXML
t/add.t ............................. ok
# testing Web::Query
# testing Web::Query::LibXML
t/after.t ........................... ok
# testing Web::Query
# testing Web::Query::LibXML
t/append.t .......................... ok
# testing Web::Query
# testing Web::Query::LibXML
t/attr.t ............................ ok
t/bad-url-with-options.t ............ ok
# testing Web::Query
# testing Web::Query::LibXML
t/before.t .......................... ok
t/bug-text-contents.t ............... ok
t/class.t ........................... ok
# testing Web::Query
# testing Web::Query::LibXML
t/clone.t ........................... ok
# testing Web::Query
# testing Web::Query::LibXML
t/contents.t ........................ ok
t/destroy.t ......................... ok
# testing Web::Query
# testing Web::Query::LibXML
t/detach.t .......................... ok
t/filter.t .......................... ok
# testing Web::Query
# testing Web::Query::LibXML
t/find.t ............................ ok
# testing Web::Query
# testing Web::Query::LibXML
t/has_class.t ....................... ok
# testing Web::Query
# testing Web::Query::LibXML
t/insert_after.t .................... ok
# testing Web::Query
# testing Web::Query::LibXML
t/insert_before.t ................... ok
t/match_and_not.t ................... ok
t/new.t ............................. ok
# testing Web::Query
# testing Web::Query::LibXML
t/next.t ............................ ok
# testing Web::Query
# testing Web::Query::LibXML
t/next_until.t ...................... ok
t/no_space_compacting.t ............. ok
t/node-types.t ...................... ok
# testing Web::Query
# testing Web::Query::LibXML
t/prepend.t ......................... ok
# testing Web::Query
# testing Web::Query::LibXML
t/prev.t ............................ ok
t/processing-instructions.t ......... ok
t/remove.t .......................... ok
# testing Web::Query
# testing Web::Query::LibXML
t/remove_class.t .................... ok
t/replace_with.t .................... ok
t/special-attributes.t .............. ok
t/split.t ........................... ok
# testing Web::Query
# testing Web::Query::LibXML
t/store_comments.t .................. ok
t/tagname.t ......................... ok
t/xpath.t ........................... ok
All tests successful.
Files=48, Tests=208, 10 wallclock secs ( 0.13 usr  0.22 sys +  6.22 cusr  1.83 csys =  8.40 CPU)
Result: PASS

------------------------------
PREREQUISITES
------------------------------

Prerequisite modules loaded:

requires:

    Module                    Need     Have    
    ------------------------- -------- --------
    Exporter                  0        5.72    
    HTML::Entities            0        3.69    
    HTML::Selector::XPath     0.20     0.23    
    HTML::TreeBuilder::LibXML 0        0.26    
    HTML::TreeBuilder::XPath  0        0.14    
    List::Util                1.44     1.46_02 
    LWP::UserAgent            0        6.34    
    parent                    0        0.236   
    perl                      5.008005 5.026002
    Scalar::Util              0        1.46_02 
    strict                    0        1.11    
    warnings                  0        1.37    

build_requires:

    Module                    Need     Have    
    ------------------------- -------- --------
    Cwd                       0        3.74    
    ExtUtils::MakeMaker       0        7.34    
    File::Spec                0        3.74    
    FindBin                   0        1.51    
    IO::Handle                0        1.36    
    IPC::Open3                0        1.20    
    lib                       0        0.64    
    Test::Exception           0        0.43    
    Test::More                0        1.302136
    utf8                      0        1.19    

configure_requires:

    Module                    Need     Have    
    ------------------------- -------- --------
    ExtUtils::MakeMaker       0        7.34    


------------------------------
ENVIRONMENT AND OTHER CONTEXT
------------------------------

Environment variables:

    AUTOMATED_TESTING = 1
    LANG = C
    PATH = /home/sand/bin:/usr/local/bin:/usr/bin:/bin:/usr/games:/usr/local/perl/bin:/usr/X11/bin:/sbin:/usr/sbin
    PERL5LIB = /tmp/loop_over_bdir-27162-5Q29Qu/HTML-TreeBuilder-LibXML-0.26-0/blib/arch:/tmp/loop_over_bdir-27162-5Q29Qu/HTML-TreeBuilder-LibXML-0.26-0/blib/lib:/tmp/loop_over_bdir-27162-5Q29Qu/XML-LibXML-2.0132-0/blib/arch:/tmp/loop_over_bdir-27162-5Q29Qu/XML-LibXML-2.0132-0/blib/lib:/tmp/loop_over_bdir-27162-5Q29Qu/XML-SAX-1.00-0/blib/arch:/tmp/loop_over_bdir-27162-5Q29Qu/XML-SAX-1.00-0/blib/lib:/tmp/loop_over_bdir-27162-5Q29Qu/XML-SAX-Base-1.09-0/blib/arch:/tmp/loop_over_bdir-27162-5Q29Qu/XML-SAX-Base-1.09-0/blib/lib:/tmp/loop_over_bdir-27162-5Q29Qu/XML-NamespaceSupport-1.12-0/blib/arch:/tmp/loop_over_bdir-27162-5Q29Qu/XML-NamespaceSupport-1.12-0/blib/lib:/tmp/loop_over_bdir-27162-5Q29Qu/HTML-TreeBuilder-XPath-0.14-0/blib/arch:/tmp/loop_over_bdir-27162-5Q29Qu/HTML-TreeBuilder-XPath-0.14-0/blib/lib:/tmp/loop_over_bdir-27162-5Q29Qu/XML-XPathEngine-0.14-0/blib/arch:/tmp/loop_over_bdir-27162-5Q29Qu/XML-XPathEngine-0.14-0/blib/lib:/tmp/loop_over_bdir-27162-5Q29Qu/HTML-Tree-5.07-0/blib/arch:/tmp/loop_over_bdir-27162-5Q29Qu/HTML-Tree-5.07-0/blib/lib:/tmp/loop_over_bdir-27162-5Q29Qu/Module-Build-Tiny-0.039-0/blib/arch:/tmp/loop_over_bdir-27162-5Q29Qu/Module-Build-Tiny-0.039-0/blib/lib:/tmp/loop_over_bdir-27162-5Q29Qu/ExtUtils-InstallPaths-0.012-0/blib/arch:/tmp/loop_over_bdir-27162-5Q29Qu/ExtUtils-InstallPaths-0.012-0/blib/lib:/tmp/loop_over_bdir-27162-5Q29Qu/ExtUtils-Helpers-0.026-0/blib/arch:/tmp/loop_over_bdir-27162-5Q29Qu/ExtUtils-Helpers-0.026-0/blib/lib:/tmp/loop_over_bdir-27162-5Q29Qu/ExtUtils-Config-0.008-0/blib/arch:/tmp/loop_over_bdir-27162-5Q29Qu/ExtUtils-Config-0.008-0/blib/lib:/tmp/loop_over_bdir-27162-5Q29Qu/HTML-Selector-XPath-0.23-0/blib/arch:/tmp/loop_over_bdir-27162-5Q29Qu/HTML-Selector-XPath-0.23-0/blib/lib
    PERL5OPT = 
    PERL5_CPANPLUS_IS_RUNNING = 30561
    PERL5_CPAN_IS_RUNNING = 30561
    PERL_CANARY_STABILITY_NOPROMPT = 1
    PERL_MM_USE_DEFAULT = 1
    PERL_USE_UNSAFE_INC = 1
    SHELL = /usr/bin/zsh
    TERM = screen

Perl special variables (and OS-specific diagnostics, for MSWin32):

    $^X = /home/sand/src/perl/repoperls/installed-perls/host/k93stretch/v5.26.2/50aa/bin/perl
    $UID/$EUID = 1005 / 1005
    $GID = 1005 1005
    $EGID = 1005 1005

Perl module toolchain versions installed:

    Module              Have      
    ------------------- ----------
    CPAN                2.20      
    CPAN::Meta          2.150010  
    Cwd                 3.74      
    ExtUtils::CBuilder  0.280230  
    ExtUtils::Command   7.34      
    ExtUtils::Install   2.06      
    ExtUtils::MakeMaker 7.34      
    ExtUtils::Manifest  1.70      
    ExtUtils::ParseXS   3.34      
    File::Spec          3.74      
    JSON                2.97001   
    JSON::PP            2.27400_02
    Module::Build       0.4224    
    Module::Signature   0.81      
    Parse::CPAN::Meta   2.150010  
    Test::Harness       3.42      
    Test::More          1.302136  
    YAML                1.26      
    YAML::Syck          1.30      
    version             0.9917    


--

Summary of my perl5 (revision 5 version 26 subversion 2) configuration:
  Commit id: c5b1997939178730653db9e80f90cd53d722fe8d
  Platform:
    osname=linux
    osvers=4.9.0-6-amd64
    archname=x86_64-linux
    uname='linux k93stretch 4.9.0-6-amd64 #1 smp debian 4.9.88-1+deb9u1 (2018-05-07) x86_64 gnulinux '
    config_args='-Dprefix=/home/sand/src/perl/repoperls/installed-perls/host/k93stretch/v5.26.2/50aa -Dmyhostname=k93stretch -Dinstallusrbinperl=n -Uversiononly -Dusedevel -des -Ui_db -Dlibswanted=cl pthread socket inet nsl gdbm dbm malloc dl ld sun m crypt sec util c cposix posix ucb BSD gdbm_compat -Uuseithreads -Uuselongdouble -DEBUGGING=-g'
    hint=recommended
    useposix=true
    d_sigaction=define
    useithreads=undef
    usemultiplicity=undef
    use64bitint=define
    use64bitall=define
    uselongdouble=undef
    usemymalloc=n
    default_inc_excludes_dot=define
    bincompat5005=undef
  Compiler:
    cc='cc'
    ccflags ='-fwrapv -fno-strict-aliasing -pipe -fstack-protector-strong -I/usr/local/include -D_LARGEFILE_SOURCE -D_FILE_OFFSET_BITS=64 -D_FORTIFY_SOURCE=2'
    optimize='-O2 -g'
    cppflags='-fwrapv -fno-strict-aliasing -pipe -fstack-protector-strong -I/usr/local/include'
    ccversion=''
    gccversion='6.3.0 20170516'
    gccosandvers=''
    intsize=4
    longsize=8
    ptrsize=8
    doublesize=8
    byteorder=12345678
    doublekind=3
    d_longlong=define
    longlongsize=8
    d_longdbl=define
    longdblsize=16
    longdblkind=3
    ivtype='long'
    ivsize=8
    nvtype='double'
    nvsize=8
    Off_t='off_t'
    lseeksize=8
    alignbytes=8
    prototype=define
  Linker and Libraries:
    ld='cc'
    ldflags =' -fstack-protector-strong -L/usr/local/lib'
    libpth=/usr/local/lib /usr/lib/gcc/x86_64-linux-gnu/6/include-fixed /usr/include/x86_64-linux-gnu /usr/lib /lib/x86_64-linux-gnu /lib/../lib /usr/lib/x86_64-linux-gnu /usr/lib/../lib /lib
    libs=-lpthread -lnsl -ldl -lm -lcrypt -lutil -lc
    perllibs=-lpthread -lnsl -ldl -lm -lcrypt -lutil -lc
    libc=libc-2.24.so
    so=so
    useshrplib=false
    libperl=libperl.a
    gnulibc_version='2.24'
  Dynamic Linking:
    dlsrc=dl_dlopen.xs
    dlext=so
    d_dlsymun=undef
    ccdlflags='-Wl,-E'
    cccdlflags='-fPIC'
    lddlflags='-shared -O2 -g -L/usr/local/lib -fstack-protector-strong'


Characteristics of this binary (from libperl): 
  Compile-time options:
    HAS_TIMES
    PERLIO_LAYERS
    PERL_COPY_ON_WRITE
    PERL_DONT_CREATE_GVSV
    PERL_MALLOC_WRAP
    PERL_OP_PARENT
    PERL_PRESERVE_IVUV
    PERL_USE_DEVEL
    USE_64_BIT_ALL
    USE_64_BIT_INT
    USE_LARGE_FILES
    USE_LOCALE
    USE_LOCALE_COLLATE
    USE_LOCALE_CTYPE
    USE_LOCALE_NUMERIC
    USE_LOCALE_TIME
    USE_PERLIO
    USE_PERL_ATOF
  Built under linux
  Compiled at Jun 23 2018 20:24:11
  %ENV:
    PERL5LIB="/tmp/loop_over_bdir-27162-5Q29Qu/HTML-TreeBuilder-LibXML-0.26-0/blib/arch:/tmp/loop_over_bdir-27162-5Q29Qu/HTML-TreeBuilder-LibXML-0.26-0/blib/lib:/tmp/loop_over_bdir-27162-5Q29Qu/XML-LibXML-2.0132-0/blib/arch:/tmp/loop_over_bdir-27162-5Q29Qu/XML-LibXML-2.0132-0/blib/lib:/tmp/loop_over_bdir-27162-5Q29Qu/XML-SAX-1.00-0/blib/arch:/tmp/loop_over_bdir-27162-5Q29Qu/XML-SAX-1.00-0/blib/lib:/tmp/loop_over_bdir-27162-5Q29Qu/XML-SAX-Base-1.09-0/blib/arch:/tmp/loop_over_bdir-27162-5Q29Qu/XML-SAX-Base-1.09-0/blib/lib:/tmp/loop_over_bdir-27162-5Q29Qu/XML-NamespaceSupport-1.12-0/blib/arch:/tmp/loop_over_bdir-27162-5Q29Qu/XML-NamespaceSupport-1.12-0/blib/lib:/tmp/loop_over_bdir-27162-5Q29Qu/HTML-TreeBuilder-XPath-0.14-0/blib/arch:/tmp/loop_over_bdir-27162-5Q29Qu/HTML-TreeBuilder-XPath-0.14-0/blib/lib:/tmp/loop_over_bdir-27162-5Q29Qu/XML-XPathEngine-0.14-0/blib/arch:/tmp/loop_over_bdir-27162-5Q29Qu/XML-XPathEngine-0.14-0/blib/lib:/tmp/loop_over_bdir-27162-5Q29Qu/HTML-Tree-5.07-0/blib/arch:/tmp/loop_over_bdir-27162-5Q29Qu/HTML-Tree-5.07-0/blib/lib:/tmp/loop_over_bdir-27162-5Q29Qu/Module-Build-Tiny-0.039-0/blib/arch:/tmp/loop_over_bdir-27162-5Q29Qu/Module-Build-Tiny-0.039-0/blib/lib:/tmp/loop_over_bdir-27162-5Q29Qu/ExtUtils-InstallPaths-0.012-0/blib/arch:/tmp/loop_over_bdir-27162-5Q29Qu/ExtUtils-InstallPaths-0.012-0/blib/lib:/tmp/loop_over_bdir-27162-5Q29Qu/ExtUtils-Helpers-0.026-0/blib/arch:/tmp/loop_over_bdir-27162-5Q29Qu/ExtUtils-Helpers-0.026-0/blib/lib:/tmp/loop_over_bdir-27162-5Q29Qu/ExtUtils-Config-0.008-0/blib/arch:/tmp/loop_over_bdir-27162-5Q29Qu/ExtUtils-Config-0.008-0/blib/lib:/tmp/loop_over_bdir-27162-5Q29Qu/HTML-Selector-XPath-0.23-0/blib/arch:/tmp/loop_over_bdir-27162-5Q29Qu/HTML-Selector-XPath-0.23-0/blib/lib"
    PERL5OPT=""
    PERL5_CPANPLUS_IS_RUNNING="30561"
    PERL5_CPAN_IS_RUNNING="30561"
    PERL_CANARY_STABILITY_NOPROMPT="1"
    PERL_MM_USE_DEFAULT="1"
    PERL_USE_UNSAFE_INC="1"
  @INC:
    /tmp/loop_over_bdir-27162-5Q29Qu/HTML-TreeBuilder-LibXML-0.26-0/blib/arch
    /tmp/loop_over_bdir-27162-5Q29Qu/HTML-TreeBuilder-LibXML-0.26-0/blib/lib
    /tmp/loop_over_bdir-27162-5Q29Qu/XML-LibXML-2.0132-0/blib/arch
    /tmp/loop_over_bdir-27162-5Q29Qu/XML-LibXML-2.0132-0/blib/lib
    /tmp/loop_over_bdir-27162-5Q29Qu/XML-SAX-1.00-0/blib/arch
    /tmp/loop_over_bdir-27162-5Q29Qu/XML-SAX-1.00-0/blib/lib
    /tmp/loop_over_bdir-27162-5Q29Qu/XML-SAX-Base-1.09-0/blib/arch
    /tmp/loop_over_bdir-27162-5Q29Qu/XML-SAX-Base-1.09-0/blib/lib
    /tmp/loop_over_bdir-27162-5Q29Qu/XML-NamespaceSupport-1.12-0/blib/arch
    /tmp/loop_over_bdir-27162-5Q29Qu/XML-NamespaceSupport-1.12-0/blib/lib
    /tmp/loop_over_bdir-27162-5Q29Qu/HTML-TreeBuilder-XPath-0.14-0/blib/arch
    /tmp/loop_over_bdir-27162-5Q29Qu/HTML-TreeBuilder-XPath-0.14-0/blib/lib
    /tmp/loop_over_bdir-27162-5Q29Qu/XML-XPathEngine-0.14-0/blib/arch
    /tmp/loop_over_bdir-27162-5Q29Qu/XML-XPathEngine-0.14-0/blib/lib
    /tmp/loop_over_bdir-27162-5Q29Qu/HTML-Tree-5.07-0/blib/arch
    /tmp/loop_over_bdir-27162-5Q29Qu/HTML-Tree-5.07-0/blib/lib
    /tmp/loop_over_bdir-27162-5Q29Qu/Module-Build-Tiny-0.039-0/blib/arch
    /tmp/loop_over_bdir-27162-5Q29Qu/Module-Build-Tiny-0.039-0/blib/lib
    /tmp/loop_over_bdir-27162-5Q29Qu/ExtUtils-InstallPaths-0.012-0/blib/arch
    /tmp/loop_over_bdir-27162-5Q29Qu/ExtUtils-InstallPaths-0.012-0/blib/lib
    /tmp/loop_over_bdir-27162-5Q29Qu/ExtUtils-Helpers-0.026-0/blib/arch
    /tmp/loop_over_bdir-27162-5Q29Qu/ExtUtils-Helpers-0.026-0/blib/lib
    /tmp/loop_over_bdir-27162-5Q29Qu/ExtUtils-Config-0.008-0/blib/arch
    /tmp/loop_over_bdir-27162-5Q29Qu/ExtUtils-Config-0.008-0/blib/lib
    /tmp/loop_over_bdir-27162-5Q29Qu/HTML-Selector-XPath-0.23-0/blib/arch
    /tmp/loop_over_bdir-27162-5Q29Qu/HTML-Selector-XPath-0.23-0/blib/lib
    /home/sand/src/perl/repoperls/installed-perls/host/k93stretch/v5.26.2/50aa/lib/site_perl/5.26.2/x86_64-linux
    /home/sand/src/perl/repoperls/installed-perls/host/k93stretch/v5.26.2/50aa/lib/site_perl/5.26.2
    /home/sand/src/perl/repoperls/installed-perls/host/k93stretch/v5.26.2/50aa/lib/5.26.2/x86_64-linux
    /home/sand/src/perl/repoperls/installed-perls/host/k93stretch/v5.26.2/50aa/lib/5.26.2
    .