Report for Catalyst-View-Excel-Template-Plus-0.03

Back
From: metabase:user:320bfe00-2aae-11df-837a-5e0a49663a4f
Subject: PASS Catalyst-View-Excel-Template-Plus-0.03 v5.19.9 GNU/Linux
Date: 2014-01-22T04:22:13Z

This distribution has been tested as part of the CPAN Testers
project, supporting the Perl programming language.  See
http://wiki.cpantesters.org/ for more information or email
questions to cpan-testers-discuss@perl.org


--
Dear Robert Bohne,

This is a computer-generated report for Catalyst-View-Excel-Template-Plus-0.03
on perl 5.19.9, created by CPAN-Reporter-1.2010.

Thank you for uploading your work to CPAN.  Congratulations!
All tests were successful.

Sections of this report:

    * Tester comments
    * Program output
    * Prerequisites
    * Environment and other context

------------------------------
TESTER COMMENTS
------------------------------

Additional comments from tester:

this report is from an automated smoke testing program
and was not reviewed by a human for accuracy

------------------------------
PROGRAM OUTPUT
------------------------------

Output from './Build test':

Module::Build will be removed from the Perl core distribution in the next major release. Please install it from CPAN. It is being used at ./Build, line 40.
no_plan takes no arguments at t/000_load.t line 6.
t/000_load.t ...... ok
Class::MOP::load_class is deprecated at /home/sand/src/perl/repoperls/installed-perls/perl/v5.19.8-10-g568d025/9980/lib/site_perl/5.19.9/x86_64-linux-thread-multi/Class/MOP.pm line 73.
	Class::MOP::load_class("Excel::Template::Plus::TT") called at /home/sand/src/perl/repoperls/installed-perls/perl/v5.19.8-10-g568d025/9980/lib/site_perl/5.19.9/Excel/Template/Plus.pm line 14
	eval {...} called at /home/sand/src/perl/repoperls/installed-perls/perl/v5.19.8-10-g568d025/9980/lib/site_perl/5.19.9/Excel/Template/Plus.pm line 14
	Excel::Template::Plus::new("Excel::Template::Plus", "params", HASH(0x3539770), "engine", "TT", "config", HASH(0x317d970), "template", "test_one.xml.tmpl", ...) called at /tmp/loop_over_bdir-7692-AuEs38/Catalyst-View-Excel-Template-Plus-0.03-dF6Lkj/blib/lib/Catalyst/View/Excel/Template/Plus.pm line 73
	Catalyst::View::Excel::Template::Plus::create_template_object(TestApp::View::Excel=HASH(0x2efb160), TestApp=HASH(0x3a8b348), "engine", "TT", "template", "test_one.xml.tmpl", "config", HASH(0x317d970), "params", ...) called at /tmp/loop_over_bdir-7692-AuEs38/Catalyst-View-Excel-Template-Plus-0.03-dF6Lkj/blib/lib/Catalyst/View/Excel/Template/Plus.pm line 58
	Catalyst::View::Excel::Template::Plus::process(TestApp::View::Excel=HASH(0x2efb160), TestApp=HASH(0x3a8b348)) called at /home/sand/src/perl/repoperls/installed-perls/perl/v5.19.8-10-g568d025/9980/lib/site_perl/5.19.9/Catalyst/Action.pm line 65
	Catalyst::Action::execute(Catalyst::Action=HASH(0x3b17160), TestApp::View::Excel=HASH(0x2efb160), TestApp=HASH(0x3a8b348)) called at /home/sand/src/perl/repoperls/installed-perls/perl/v5.19.8-10-g568d025/9980/lib/site_perl/5.19.9/Catalyst.pm line 1727
	eval {...} called at /home/sand/src/perl/repoperls/installed-perls/perl/v5.19.8-10-g568d025/9980/lib/site_perl/5.19.9/Catalyst.pm line 1727
	Catalyst::execute(TestApp=HASH(0x3a8b348), "TestApp::View::Excel", Catalyst::Action=HASH(0x3b17160)) called at /home/sand/src/perl/repoperls/installed-perls/perl/v5.19.8-10-g568d025/9980/lib/site_perl/5.19.9/Catalyst/Action.pm line 60
	Catalyst::Action::dispatch(Catalyst::Action=HASH(0x3b17160), TestApp=HASH(0x3a8b348)) called at /home/sand/src/perl/repoperls/installed-perls/perl/v5.19.8-10-g568d025/9980/lib/site_perl/5.19.9/Catalyst/Dispatcher.pm line 258
	Catalyst::Dispatcher::_do_forward(Catalyst::Dispatcher=HASH(0x32201f0), "forward", TestApp=HASH(0x3a8b348), "TestApp::View::Excel") called at /home/sand/src/perl/repoperls/installed-perls/perl/v5.19.8-10-g568d025/9980/lib/site_perl/5.19.9/Catalyst/Dispatcher.pm line 238
	Catalyst::Dispatcher::forward(Catalyst::Dispatcher=HASH(0x32201f0), TestApp=HASH(0x3a8b348), "TestApp::View::Excel") called at /home/sand/src/perl/repoperls/installed-perls/perl/v5.19.8-10-g568d025/9980/lib/site_perl/5.19.9/Catalyst.pm line 391
	Catalyst::forward(TestApp=HASH(0x3a8b348), "TestApp::View::Excel") called at /tmp/loop_over_bdir-7692-AuEs38/Catalyst-View-Excel-Template-Plus-0.03-dF6Lkj/t/lib/TestApp/Controller/Root.pm line 14
	TestApp::Controller::Root::test_one(TestApp::Controller::Root=HASH(0x253ff80), TestApp=HASH(0x3a8b348)) called at /home/sand/src/perl/repoperls/installed-perls/perl/v5.19.8-10-g568d025/9980/lib/site_perl/5.19.9/Catalyst/Action.pm line 65
	Catalyst::Action::execute(Catalyst::Action=HASH(0x358b420), TestApp::Controller::Root=HASH(0x253ff80), TestApp=HASH(0x3a8b348)) called at /home/sand/src/perl/repoperls/installed-perls/perl/v5.19.8-10-g568d025/9980/lib/site_perl/5.19.9/Catalyst.pm line 1727
	eval {...} called at /home/sand/src/perl/repoperls/installed-perls/perl/v5.19.8-10-g568d025/9980/lib/site_perl/5.19.9/Catalyst.pm line 1727
	Catalyst::execute(TestApp=HASH(0x3a8b348), "TestApp::Controller::Root", Catalyst::Action=HASH(0x358b420)) called at /home/sand/src/perl/repoperls/installed-perls/perl/v5.19.8-10-g568d025/9980/lib/site_perl/5.19.9/Catalyst/Action.pm line 60
	Catalyst::Action::dispatch(Catalyst::Action=HASH(0x358b420), TestApp=HASH(0x3a8b348)) called at /home/sand/src/perl/repoperls/installed-perls/perl/v5.19.8-10-g568d025/9980/lib/site_perl/5.19.9/Catalyst/Controller.pm line 161
	Catalyst::Controller::_ACTION(TestApp::Controller::Root=HASH(0x253ff80), TestApp=HASH(0x3a8b348)) called at /home/sand/src/perl/repoperls/installed-perls/perl/v5.19.8-10-g568d025/9980/lib/site_perl/5.19.9/Catalyst/Action.pm line 65
	Catalyst::Action::execute(Catalyst::Action=HASH(0x357d9b8), TestApp::Controller::Root=HASH(0x253ff80), TestApp=HASH(0x3a8b348)) called at /home/sand/src/perl/repoperls/installed-perls/perl/v5.19.8-10-g568d025/9980/lib/site_perl/5.19.9/Catalyst.pm line 1727
	eval {...} called at /home/sand/src/perl/repoperls/installed-perls/perl/v5.19.8-10-g568d025/9980/lib/site_perl/5.19.9/Catalyst.pm line 1727
	Catalyst::execute(TestApp=HASH(0x3a8b348), "TestApp::Controller::Root", Catalyst::Action=HASH(0x357d9b8)) called at /home/sand/src/perl/repoperls/installed-perls/perl/v5.19.8-10-g568d025/9980/lib/site_perl/5.19.9/Catalyst/Action.pm line 60
	Catalyst::Action::dispatch(Catalyst::Action=HASH(0x357d9b8), TestApp=HASH(0x3a8b348)) called at /home/sand/src/perl/repoperls/installed-perls/perl/v5.19.8-10-g568d025/9980/lib/site_perl/5.19.9/Catalyst/Dispatcher.pm line 258
	Catalyst::Dispatcher::_do_forward(Catalyst::Dispatcher=HASH(0x32201f0), "forward", TestApp=HASH(0x3a8b348), "_ACTION") called at /home/sand/src/perl/repoperls/installed-perls/perl/v5.19.8-10-g568d025/9980/lib/site_perl/5.19.9/Catalyst/Dispatcher.pm line 238
	Catalyst::Dispatcher::forward(Catalyst::Dispatcher=HASH(0x32201f0), TestApp=HASH(0x3a8b348), "_ACTION") called at /home/sand/src/perl/repoperls/installed-perls/perl/v5.19.8-10-g568d025/9980/lib/site_perl/5.19.9/Catalyst.pm line 391
	Catalyst::forward(TestApp=HASH(0x3a8b348), "_ACTION") called at /home/sand/src/perl/repoperls/installed-perls/perl/v5.19.8-10-g568d025/9980/lib/site_perl/5.19.9/Catalyst/Controller.pm line 135
	Catalyst::Controller::_DISPATCH(TestApp::Controller::Root=HASH(0x253ff80), TestApp=HASH(0x3a8b348)) called at /home/sand/src/perl/repoperls/installed-perls/perl/v5.19.8-10-g568d025/9980/lib/site_perl/5.19.9/Catalyst/Action.pm line 65
	Catalyst::Action::execute(Catalyst::Action=HASH(0x358ae08), TestApp::Controller::Root=HASH(0x253ff80), TestApp=HASH(0x3a8b348)) called at /home/sand/src/perl/repoperls/installed-perls/perl/v5.19.8-10-g568d025/9980/lib/site_perl/5.19.9/Catalyst.pm line 1727
	eval {...} called at /home/sand/src/perl/repoperls/installed-perls/perl/v5.19.8-10-g568d025/9980/lib/site_perl/5.19.9/Catalyst.pm line 1727
	Catalyst::execute(TestApp=HASH(0x3a8b348), "TestApp::Controller::Root", Catalyst::Action=HASH(0x358ae08)) called at /home/sand/src/perl/repoperls/installed-perls/perl/v5.19.8-10-g568d025/9980/lib/site_perl/5.19.9/Catalyst/Action.pm line 60
	Catalyst::Action::dispatch(Catalyst::Action=HASH(0x358ae08), TestApp=HASH(0x3a8b348)) called at /home/sand/src/perl/repoperls/installed-perls/perl/v5.19.8-10-g568d025/9980/lib/site_perl/5.19.9/Catalyst/Dispatcher.pm line 258
	Catalyst::Dispatcher::_do_forward(Catalyst::Dispatcher=HASH(0x32201f0), "forward", TestApp=HASH(0x3a8b348), "/root/_DISPATCH") called at /home/sand/src/perl/repoperls/installed-perls/perl/v5.19.8-10-g568d025/9980/lib/site_perl/5.19.9/Catalyst/Dispatcher.pm line 238
	Catalyst::Dispatcher::forward(Catalyst::Dispatcher=HASH(0x32201f0), TestApp=HASH(0x3a8b348), "/root/_DISPATCH") called at /home/sand/src/perl/repoperls/installed-perls/perl/v5.19.8-10-g568d025/9980/lib/site_perl/5.19.9/Catalyst.pm line 391
	Catalyst::forward(TestApp=HASH(0x3a8b348), "/root/_DISPATCH") called at /home/sand/src/perl/repoperls/installed-perls/perl/v5.19.8-10-g568d025/9980/lib/site_perl/5.19.9/Catalyst/Dispatcher.pm line 107
	Catalyst::Dispatcher::dispatch(Catalyst::Dispatcher=HASH(0x32201f0), TestApp=HASH(0x3a8b348)) called at /home/sand/src/perl/repoperls/installed-perls/perl/v5.19.8-10-g568d025/9980/lib/site_perl/5.19.9/Catalyst.pm line 1673
	Catalyst::dispatch(TestApp=HASH(0x3a8b348)) called at /home/sand/src/perl/repoperls/installed-perls/perl/v5.19.8-10-g568d025/9980/lib/site_perl/5.19.9/Catalyst.pm line 2032
	Catalyst::try {...} () called at /home/sand/src/perl/repoperls/installed-perls/perl/v5.19.8-10-g568d025/9980/lib/site_perl/5.19.9/Try/Tiny.pm line 83
	eval {...} called at /home/sand/src/perl/repoperls/installed-perls/perl/v5.19.8-10-g568d025/9980/lib/site_perl/5.19.9/Try/Tiny.pm line 74
	Try::Tiny::try(CODE(0x3a8ad30), Try::Tiny::Catch=REF(0x3b048d0)) called at /home/sand/src/perl/repoperls/installed-perls/perl/v5.19.8-10-g568d025/9980/lib/site_perl/5.19.9/Catalyst.pm line 2038
	Catalyst::handle_request("TestApp", "env", HASH(0x3a8a5f8), "response_cb", CODE(0x3a8ac28)) called at /home/sand/src/perl/repoperls/installed-perls/perl/v5.19.8-10-g568d025/9980/lib/site_perl/5.19.9/Catalyst/Engine.pm line 712
	Catalyst::Engine::__ANON__(CODE(0x3a8ac28)) called at /home/sand/src/perl/repoperls/installed-perls/perl/v5.19.8-10-g568d025/9980/lib/site_perl/5.19.9/HTTP/Message/PSGI.pm line 100
	HTTP::Message::PSGI::res_from_psgi(CODE(0x3a8ab08)) called at /home/sand/src/perl/repoperls/installed-perls/perl/v5.19.8-10-g568d025/9980/lib/site_perl/5.19.9/HTTP/Message/PSGI.pm line 155
	HTTP::Response::from_psgi("HTTP::Response", CODE(0x3a8ab08)) called at /home/sand/src/perl/repoperls/installed-perls/perl/v5.19.8-10-g568d025/9980/lib/site_perl/5.19.9/Plack/Test/MockHTTP.pm line 24
	Plack::Test::MockHTTP::try {...} () called at /home/sand/src/perl/repoperls/installed-perls/perl/v5.19.8-10-g568d025/9980/lib/site_perl/5.19.9/Try/Tiny.pm line 81
	eval {...} called at /home/sand/src/perl/repoperls/installed-perls/perl/v5.19.8-10-g568d025/9980/lib/site_perl/5.19.9/Try/Tiny.pm line 74
	Try::Tiny::try(CODE(0xd8ac48), Try::Tiny::Catch=REF(0x3553f20)) called at /home/sand/src/perl/repoperls/installed-perls/perl/v5.19.8-10-g568d025/9980/lib/site_perl/5.19.9/Plack/Test/MockHTTP.pm line 27
	Plack::Test::MockHTTP::request(Plack::Test::MockHTTP=HASH(0xd95a28), HTTP::Request=HASH(0xd93870)) called at /home/sand/src/perl/repoperls/installed-perls/perl/v5.19.8-10-g568d025/9980/lib/site_perl/5.19.9/Plack/Test.pm line 38
	Plack::Test::__ANON__(HTTP::Request=HASH(0xd93870)) called at /home/sand/src/perl/repoperls/installed-perls/perl/v5.19.8-10-g568d025/9980/lib/site_perl/5.19.9/Catalyst/Test.pm line 281
	Catalyst::Test::__ANON__(CODE(0xd958a8)) called at /home/sand/src/perl/repoperls/installed-perls/perl/v5.19.8-10-g568d025/9980/lib/site_perl/5.19.9/Plack/Test.pm line 38
	Plack::Test::test_psgi("app", CODE(0x3a64e30), "mangle_response", CODE(0x2528af8), "app", CODE(0x3a7d638), "client", CODE(0x3a7de00)) called at /home/sand/src/perl/repoperls/installed-perls/perl/v5.19.8-10-g568d025/9980/lib/site_perl/5.19.9/Catalyst/Test.pm line 284
	Catalyst::Test::_request(HASH(0xd8ab58), "http://localhost/test_one") called at /home/sand/src/perl/repoperls/installed-perls/perl/v5.19.8-10-g568d025/9980/lib/site_perl/5.19.9/Catalyst/Test.pm line 327
	Catalyst::Test::_local_request("TestApp", "http://localhost/test_one") called at /home/sand/src/perl/repoperls/installed-perls/perl/v5.19.8-10-g568d025/9980/lib/site_perl/5.19.9/Catalyst/Test.pm line 32
	Catalyst::Test::__ANON__("http://localhost/test_one") called at t/001_basic.t line 20
Class::MOP::load_class is deprecated at /home/sand/src/perl/repoperls/installed-perls/perl/v5.19.8-10-g568d025/9980/lib/site_perl/5.19.9/x86_64-linux-thread-multi/Class/MOP.pm line 73.
	Class::MOP::load_class("Template") called at /home/sand/src/perl/repoperls/installed-perls/perl/v5.19.8-10-g568d025/9980/lib/site_perl/5.19.9/Excel/Template/Plus/TT.pm line 45
	Excel::Template::Plus::TT::__ANON__(Excel::Template::Plus::TT=HASH(0x3b17c88)) called at accessor Excel::Template::Plus::TT::_template_object (defined at /home/sand/src/perl/repoperls/installed-perls/perl/v5.19.8-10-g568d025/9980/lib/site_perl/5.19.9/Excel/Template/Plus/TT.pm line 50) line 9
	Excel::Template::Plus::TT::_template_object(Excel::Template::Plus::TT=HASH(0x3b17c88)) called at /home/sand/src/perl/repoperls/installed-perls/perl/v5.19.8-10-g568d025/9980/lib/site_perl/5.19.9/Excel/Template/Plus/TT.pm line 80
	Excel::Template::Plus::TT::_prepare_excel_template(Excel::Template::Plus::TT=HASH(0x3b17c88)) called at /home/sand/src/perl/repoperls/installed-perls/perl/v5.19.8-10-g568d025/9980/lib/site_perl/5.19.9/Excel/Template/Plus/TT.pm line 70
	Excel::Template::Plus::TT::__ANON__(Excel::Template::Plus::TT=HASH(0x3b17c88)) called at reader Excel::Template::Plus::TT::_excel_template (defined at /home/sand/src/perl/repoperls/installed-perls/perl/v5.19.8-10-g568d025/9980/lib/site_perl/5.19.9/Excel/Template/Plus/TT.pm line 72) line 6
	Excel::Template::Plus::TT::_excel_template(Excel::Template::Plus::TT=HASH(0x3b17c88)) called at /home/sand/src/perl/repoperls/installed-perls/perl/v5.19.8-10-g568d025/9980/lib/site_perl/5.19.9/x86_64-linux-thread-multi/Moose/Meta/Method/Delegation.pm line 96
	Excel::Template::Plus::TT::output(Excel::Template::Plus::TT=HASH(0x3b17c88)) called at /tmp/loop_over_bdir-7692-AuEs38/Catalyst-View-Excel-Template-Plus-0.03-dF6Lkj/blib/lib/Catalyst/View/Excel/Template/Plus.pm line 68
	Catalyst::View::Excel::Template::Plus::process(TestApp::View::Excel=HASH(0x2efb160), TestApp=HASH(0x3a8b348)) called at /home/sand/src/perl/repoperls/installed-perls/perl/v5.19.8-10-g568d025/9980/lib/site_perl/5.19.9/Catalyst/Action.pm line 65
	Catalyst::Action::execute(Catalyst::Action=HASH(0x3b17160), TestApp::View::Excel=HASH(0x2efb160), TestApp=HASH(0x3a8b348)) called at /home/sand/src/perl/repoperls/installed-perls/perl/v5.19.8-10-g568d025/9980/lib/site_perl/5.19.9/Catalyst.pm line 1727
	eval {...} called at /home/sand/src/perl/repoperls/installed-perls/perl/v5.19.8-10-g568d025/9980/lib/site_perl/5.19.9/Catalyst.pm line 1727
	Catalyst::execute(TestApp=HASH(0x3a8b348), "TestApp::View::Excel", Catalyst::Action=HASH(0x3b17160)) called at /home/sand/src/perl/repoperls/installed-perls/perl/v5.19.8-10-g568d025/9980/lib/site_perl/5.19.9/Catalyst/Action.pm line 60
	Catalyst::Action::dispatch(Catalyst::Action=HASH(0x3b17160), TestApp=HASH(0x3a8b348)) called at /home/sand/src/perl/repoperls/installed-perls/perl/v5.19.8-10-g568d025/9980/lib/site_perl/5.19.9/Catalyst/Dispatcher.pm line 258
	Catalyst::Dispatcher::_do_forward(Catalyst::Dispatcher=HASH(0x32201f0), "forward", TestApp=HASH(0x3a8b348), "TestApp::View::Excel") called at /home/sand/src/perl/repoperls/installed-perls/perl/v5.19.8-10-g568d025/9980/lib/site_perl/5.19.9/Catalyst/Dispatcher.pm line 238
	Catalyst::Dispatcher::forward(Catalyst::Dispatcher=HASH(0x32201f0), TestApp=HASH(0x3a8b348), "TestApp::View::Excel") called at /home/sand/src/perl/repoperls/installed-perls/perl/v5.19.8-10-g568d025/9980/lib/site_perl/5.19.9/Catalyst.pm line 391
	Catalyst::forward(TestApp=HASH(0x3a8b348), "TestApp::View::Excel") called at /tmp/loop_over_bdir-7692-AuEs38/Catalyst-View-Excel-Template-Plus-0.03-dF6Lkj/t/lib/TestApp/Controller/Root.pm line 14
	TestApp::Controller::Root::test_one(TestApp::Controller::Root=HASH(0x253ff80), TestApp=HASH(0x3a8b348)) called at /home/sand/src/perl/repoperls/installed-perls/perl/v5.19.8-10-g568d025/9980/lib/site_perl/5.19.9/Catalyst/Action.pm line 65
	Catalyst::Action::execute(Catalyst::Action=HASH(0x358b420), TestApp::Controller::Root=HASH(0x253ff80), TestApp=HASH(0x3a8b348)) called at /home/sand/src/perl/repoperls/installed-perls/perl/v5.19.8-10-g568d025/9980/lib/site_perl/5.19.9/Catalyst.pm line 1727
	eval {...} called at /home/sand/src/perl/repoperls/installed-perls/perl/v5.19.8-10-g568d025/9980/lib/site_perl/5.19.9/Catalyst.pm line 1727
	Catalyst::execute(TestApp=HASH(0x3a8b348), "TestApp::Controller::Root", Catalyst::Action=HASH(0x358b420)) called at /home/sand/src/perl/repoperls/installed-perls/perl/v5.19.8-10-g568d025/9980/lib/site_perl/5.19.9/Catalyst/Action.pm line 60
	Catalyst::Action::dispatch(Catalyst::Action=HASH(0x358b420), TestApp=HASH(0x3a8b348)) called at /home/sand/src/perl/repoperls/installed-perls/perl/v5.19.8-10-g568d025/9980/lib/site_perl/5.19.9/Catalyst/Controller.pm line 161
	Catalyst::Controller::_ACTION(TestApp::Controller::Root=HASH(0x253ff80), TestApp=HASH(0x3a8b348)) called at /home/sand/src/perl/repoperls/installed-perls/perl/v5.19.8-10-g568d025/9980/lib/site_perl/5.19.9/Catalyst/Action.pm line 65
	Catalyst::Action::execute(Catalyst::Action=HASH(0x357d9b8), TestApp::Controller::Root=HASH(0x253ff80), TestApp=HASH(0x3a8b348)) called at /home/sand/src/perl/repoperls/installed-perls/perl/v5.19.8-10-g568d025/9980/lib/site_perl/5.19.9/Catalyst.pm line 1727
	eval {...} called at /home/sand/src/perl/repoperls/installed-perls/perl/v5.19.8-10-g568d025/9980/lib/site_perl/5.19.9/Catalyst.pm line 1727
	Catalyst::execute(TestApp=HASH(0x3a8b348), "TestApp::Controller::Root", Catalyst::Action=HASH(0x357d9b8)) called at /home/sand/src/perl/repoperls/installed-perls/perl/v5.19.8-10-g568d025/9980/lib/site_perl/5.19.9/Catalyst/Action.pm line 60
	Catalyst::Action::dispatch(Catalyst::Action=HASH(0x357d9b8), TestApp=HASH(0x3a8b348)) called at /home/sand/src/perl/repoperls/installed-perls/perl/v5.19.8-10-g568d025/9980/lib/site_perl/5.19.9/Catalyst/Dispatcher.pm line 258
	Catalyst::Dispatcher::_do_forward(Catalyst::Dispatcher=HASH(0x32201f0), "forward", TestApp=HASH(0x3a8b348), "_ACTION") called at /home/sand/src/perl/repoperls/installed-perls/perl/v5.19.8-10-g568d025/9980/lib/site_perl/5.19.9/Catalyst/Dispatcher.pm line 238
	Catalyst::Dispatcher::forward(Catalyst::Dispatcher=HASH(0x32201f0), TestApp=HASH(0x3a8b348), "_ACTION") called at /home/sand/src/perl/repoperls/installed-perls/perl/v5.19.8-10-g568d025/9980/lib/site_perl/5.19.9/Catalyst.pm line 391
	Catalyst::forward(TestApp=HASH(0x3a8b348), "_ACTION") called at /home/sand/src/perl/repoperls/installed-perls/perl/v5.19.8-10-g568d025/9980/lib/site_perl/5.19.9/Catalyst/Controller.pm line 135
	Catalyst::Controller::_DISPATCH(TestApp::Controller::Root=HASH(0x253ff80), TestApp=HASH(0x3a8b348)) called at /home/sand/src/perl/repoperls/installed-perls/perl/v5.19.8-10-g568d025/9980/lib/site_perl/5.19.9/Catalyst/Action.pm line 65
	Catalyst::Action::execute(Catalyst::Action=HASH(0x358ae08), TestApp::Controller::Root=HASH(0x253ff80), TestApp=HASH(0x3a8b348)) called at /home/sand/src/perl/repoperls/installed-perls/perl/v5.19.8-10-g568d025/9980/lib/site_perl/5.19.9/Catalyst.pm line 1727
	eval {...} called at /home/sand/src/perl/repoperls/installed-perls/perl/v5.19.8-10-g568d025/9980/lib/site_perl/5.19.9/Catalyst.pm line 1727
	Catalyst::execute(TestApp=HASH(0x3a8b348), "TestApp::Controller::Root", Catalyst::Action=HASH(0x358ae08)) called at /home/sand/src/perl/repoperls/installed-perls/perl/v5.19.8-10-g568d025/9980/lib/site_perl/5.19.9/Catalyst/Action.pm line 60
	Catalyst::Action::dispatch(Catalyst::Action=HASH(0x358ae08), TestApp=HASH(0x3a8b348)) called at /home/sand/src/perl/repoperls/installed-perls/perl/v5.19.8-10-g568d025/9980/lib/site_perl/5.19.9/Catalyst/Dispatcher.pm line 258
	Catalyst::Dispatcher::_do_forward(Catalyst::Dispatcher=HASH(0x32201f0), "forward", TestApp=HASH(0x3a8b348), "/root/_DISPATCH") called at /home/sand/src/perl/repoperls/installed-perls/perl/v5.19.8-10-g568d025/9980/lib/site_perl/5.19.9/Catalyst/Dispatcher.pm line 238
	Catalyst::Dispatcher::forward(Catalyst::Dispatcher=HASH(0x32201f0), TestApp=HASH(0x3a8b348), "/root/_DISPATCH") called at /home/sand/src/perl/repoperls/installed-perls/perl/v5.19.8-10-g568d025/9980/lib/site_perl/5.19.9/Catalyst.pm line 391
	Catalyst::forward(TestApp=HASH(0x3a8b348), "/root/_DISPATCH") called at /home/sand/src/perl/repoperls/installed-perls/perl/v5.19.8-10-g568d025/9980/lib/site_perl/5.19.9/Catalyst/Dispatcher.pm line 107
	Catalyst::Dispatcher::dispatch(Catalyst::Dispatcher=HASH(0x32201f0), TestApp=HASH(0x3a8b348)) called at /home/sand/src/perl/repoperls/installed-perls/perl/v5.19.8-10-g568d025/9980/lib/site_perl/5.19.9/Catalyst.pm line 1673
	Catalyst::dispatch(TestApp=HASH(0x3a8b348)) called at /home/sand/src/perl/repoperls/installed-perls/perl/v5.19.8-10-g568d025/9980/lib/site_perl/5.19.9/Catalyst.pm line 2032
	Catalyst::try {...} () called at /home/sand/src/perl/repoperls/installed-perls/perl/v5.19.8-10-g568d025/9980/lib/site_perl/5.19.9/Try/Tiny.pm line 83
	eval {...} called at /home/sand/src/perl/repoperls/installed-perls/perl/v5.19.8-10-g568d025/9980/lib/site_perl/5.19.9/Try/Tiny.pm line 74
	Try::Tiny::try(CODE(0x3a8ad30), Try::Tiny::Catch=REF(0x3b048d0)) called at /home/sand/src/perl/repoperls/installed-perls/perl/v5.19.8-10-g568d025/9980/lib/site_perl/5.19.9/Catalyst.pm line 2038
	Catalyst::handle_request("TestApp", "env", HASH(0x3a8a5f8), "response_cb", CODE(0x3a8ac28)) called at /home/sand/src/perl/repoperls/installed-perls/perl/v5.19.8-10-g568d025/9980/lib/site_perl/5.19.9/Catalyst/Engine.pm line 712
	Catalyst::Engine::__ANON__(CODE(0x3a8ac28)) called at /home/sand/src/perl/repoperls/installed-perls/perl/v5.19.8-10-g568d025/9980/lib/site_perl/5.19.9/HTTP/Message/PSGI.pm line 100
	HTTP::Message::PSGI::res_from_psgi(CODE(0x3a8ab08)) called at /home/sand/src/perl/repoperls/installed-perls/perl/v5.19.8-10-g568d025/9980/lib/site_perl/5.19.9/HTTP/Message/PSGI.pm line 155
	HTTP::Response::from_psgi("HTTP::Response", CODE(0x3a8ab08)) called at /home/sand/src/perl/repoperls/installed-perls/perl/v5.19.8-10-g568d025/9980/lib/site_perl/5.19.9/Plack/Test/MockHTTP.pm line 24
	Plack::Test::MockHTTP::try {...} () called at /home/sand/src/perl/repoperls/installed-perls/perl/v5.19.8-10-g568d025/9980/lib/site_perl/5.19.9/Try/Tiny.pm line 81
	eval {...} called at /home/sand/src/perl/repoperls/installed-perls/perl/v5.19.8-10-g568d025/9980/lib/site_perl/5.19.9/Try/Tiny.pm line 74
	Try::Tiny::try(CODE(0xd8ac48), Try::Tiny::Catch=REF(0x3553f20)) called at /home/sand/src/perl/repoperls/installed-perls/perl/v5.19.8-10-g568d025/9980/lib/site_perl/5.19.9/Plack/Test/MockHTTP.pm line 27
	Plack::Test::MockHTTP::request(Plack::Test::MockHTTP=HASH(0xd95a28), HTTP::Request=HASH(0xd93870)) called at /home/sand/src/perl/repoperls/installed-perls/perl/v5.19.8-10-g568d025/9980/lib/site_perl/5.19.9/Plack/Test.pm line 38
	Plack::Test::__ANON__(HTTP::Request=HASH(0xd93870)) called at /home/sand/src/perl/repoperls/installed-perls/perl/v5.19.8-10-g568d025/9980/lib/site_perl/5.19.9/Catalyst/Test.pm line 281
	Catalyst::Test::__ANON__(CODE(0xd958a8)) called at /home/sand/src/perl/repoperls/installed-perls/perl/v5.19.8-10-g568d025/9980/lib/site_perl/5.19.9/Plack/Test.pm line 38
	Plack::Test::test_psgi("app", CODE(0x3a64e30), "mangle_response", CODE(0x2528af8), "app", CODE(0x3a7d638), "client", CODE(0x3a7de00)) called at /home/sand/src/perl/repoperls/installed-perls/perl/v5.19.8-10-g568d025/9980/lib/site_perl/5.19.9/Catalyst/Test.pm line 284
	Catalyst::Test::_request(HASH(0xd8ab58), "http://localhost/test_one") called at /home/sand/src/perl/repoperls/installed-perls/perl/v5.19.8-10-g568d025/9980/lib/site_perl/5.19.9/Catalyst/Test.pm line 327
	Catalyst::Test::_local_request("TestApp", "http://localhost/test_one") called at /home/sand/src/perl/repoperls/installed-perls/perl/v5.19.8-10-g568d025/9980/lib/site_perl/5.19.9/Catalyst/Test.pm line 32
	Catalyst::Test::__ANON__("http://localhost/test_one") called at t/001_basic.t line 20
t/001_basic.t ..... ok
t/pod.t ........... ok
t/pod_coverage.t .. ok
All tests successful.
Files=4, Tests=11,  2 wallclock secs ( 0.03 usr  0.00 sys +  1.56 cusr  0.12 csys =  1.71 CPU)
Result: PASS

------------------------------
PREREQUISITES
------------------------------

Prerequisite modules loaded:

requires:

    Module                Need Have    
    --------------------- ---- --------
    Catalyst::Runtime     0    5.90053 
    Excel::Template::Plus 0.05 0.05    

build_requires:

    Module                Need Have    
    --------------------- ---- --------
    parent                0    0.228   
    Test::Exception       0.21 0.32    
    Test::More            0.62 1.001002

configure_requires:

    Module                Need Have    
    --------------------- ---- --------
    Module::Build         0.36 0.4204  


------------------------------
ENVIRONMENT AND OTHER CONTEXT
------------------------------

Environment variables:

    AUTOMATED_TESTING = 1
    LANG = en_US.UTF-8
    LANGUAGE = en_US:en
    PATH = /usr/lib/ccache:/home/sand/bin:/usr/local/bin:/usr/bin:/bin:/usr/bin/X11:/usr/games:/usr/local/perl/bin:/usr/X11/bin:/sbin:/usr/sbin
    PERL = /tmp/basesmoker-reloperl-P75O/bin/perl
    PERL5LIB = 
    PERL5OPT = 
    PERL5_CPANPLUS_IS_RUNNING = 31105
    PERL5_CPAN_IS_RUNNING = 31105
    PERL_MM_USE_DEFAULT = 1
    SHELL = /usr/bin/zsh
    TERM = screen

Perl special variables (and OS-specific diagnostics, for MSWin32):

    $^X = /tmp/basesmoker-reloperl-P75O/bin/perl
    $UID/$EUID = 1005 / 1005
    $GID = 1005 1005
    $EGID = 1005 1005

Perl module toolchain versions installed:

    Module              Have    
    ------------------- --------
    CPAN                2.00    
    CPAN::Meta          2.133380
    Cwd                 3.45    
    ExtUtils::CBuilder  0.280213
    ExtUtils::Command   1.18    
    ExtUtils::Install   1.61    
    ExtUtils::MakeMaker 6.86    
    ExtUtils::Manifest  1.63    
    ExtUtils::ParseXS   3.23    
    File::Spec          3.45    
    JSON                2.90    
    JSON::PP            2.27203 
    Module::Build       0.4204  
    Module::Signature   0.73    
    Parse::CPAN::Meta   1.4409  
    Test::Harness       3.30    
    Test::More          1.001002
    YAML                0.88    
    YAML::Syck          1.27    
    version             0.9907  


--

Summary of my perl5 (revision 5 version 19 subversion 9) configuration:
  Commit id: 568d025de1c93424654d2796e7e1a59b8f4aeb58
  Platform:
    osname=linux, osvers=3.12-1-amd64, archname=x86_64-linux-thread-multi
    uname='linux k83 3.12-1-amd64 #1 smp debian 3.12.6-2 (2013-12-29) x86_64 gnulinux '
    config_args='-Dprefix=/home/sand/src/perl/repoperls/installed-perls/perl/v5.19.8-10-g568d025/9980 -Dmyhostname=k83 -Dinstallusrbinperl=n -Uversiononly -Dusedevel -des -Ui_db -Duseithreads -Uuselongdouble -DDEBUGGING=-g'
    hint=recommended, useposix=true, d_sigaction=define
    useithreads=define, usemultiplicity=define
    use64bitint=define, use64bitall=define, uselongdouble=undef
    usemymalloc=n, bincompat5005=undef
  Compiler:
    cc='cc', ccflags ='-D_REENTRANT -D_GNU_SOURCE -fno-strict-aliasing -pipe -fstack-protector -I/usr/local/include -D_LARGEFILE_SOURCE -D_FILE_OFFSET_BITS=64',
    optimize='-O2 -g',
    cppflags='-D_REENTRANT -D_GNU_SOURCE -fno-strict-aliasing -pipe -fstack-protector -I/usr/local/include'
    ccversion='', gccversion='4.8.2', gccosandvers=''
    intsize=4, longsize=8, ptrsize=8, doublesize=8, byteorder=12345678
    d_longlong=define, longlongsize=8, d_longdbl=define, longdblsize=16
    ivtype='long', ivsize=8, nvtype='double', nvsize=8, Off_t='off_t', lseeksize=8
    alignbytes=8, prototype=define
  Linker and Libraries:
    ld='cc', ldflags =' -fstack-protector -L/usr/local/lib'
    libpth=/usr/local/lib /usr/lib/gcc/x86_64-linux-gnu/4.8/include-fixed /usr/include/x86_64-linux-gnu /usr/lib /lib/x86_64-linux-gnu /lib/../lib /usr/lib/x86_64-linux-gnu /usr/lib/../lib /lib
    libs=-lnsl -lgdbm -ldb -ldl -lm -lcrypt -lutil -lpthread -lc -lgdbm_compat
    perllibs=-lnsl -ldl -lm -lcrypt -lutil -lpthread -lc
    libc=, so=so, useshrplib=false, libperl=libperl.a
    gnulibc_version='2.17'
  Dynamic Linking:
    dlsrc=dl_dlopen.xs, dlext=so, d_dlsymun=undef, ccdlflags='-Wl,-E'
    cccdlflags='-fPIC', lddlflags='-shared -O2 -g -L/usr/local/lib -fstack-protector'


Characteristics of this binary (from libperl): 
  Compile-time options: HAS_TIMES MULTIPLICITY PERLIO_LAYERS
                        PERL_DONT_CREATE_GVSV
                        PERL_HASH_FUNC_ONE_AT_A_TIME_HARD
                        PERL_IMPLICIT_CONTEXT PERL_MALLOC_WRAP
                        PERL_NEW_COPY_ON_WRITE PERL_PRESERVE_IVUV
                        PERL_USE_DEVEL USE_64_BIT_ALL USE_64_BIT_INT
                        USE_ITHREADS USE_LARGE_FILES USE_LOCALE
                        USE_LOCALE_COLLATE USE_LOCALE_CTYPE
                        USE_LOCALE_NUMERIC USE_PERLIO USE_PERL_ATOF
                        USE_REENTRANT_API
  Built under linux
  Compiled at Jan 21 2014 16:52:52
  %ENV:
    PERL="/tmp/basesmoker-reloperl-P75O/bin/perl"
    PERL5LIB=""
    PERL5OPT=""
    PERL5_CPANPLUS_IS_RUNNING="31105"
    PERL5_CPAN_IS_RUNNING="31105"
    PERL_MM_USE_DEFAULT="1"
  @INC:
    /home/sand/src/perl/repoperls/installed-perls/perl/v5.19.8-10-g568d025/9980/lib/site_perl/5.19.9/x86_64-linux-thread-multi
    /home/sand/src/perl/repoperls/installed-perls/perl/v5.19.8-10-g568d025/9980/lib/site_perl/5.19.9
    /home/sand/src/perl/repoperls/installed-perls/perl/v5.19.8-10-g568d025/9980/lib/5.19.9/x86_64-linux-thread-multi
    /home/sand/src/perl/repoperls/installed-perls/perl/v5.19.8-10-g568d025/9980/lib/5.19.9
    .