Report for Tk-JComboBox-1.14

Back
From: metabase:user:314402c4-2aae-11df-837a-5e0a49663a4f
Subject: PASS Tk-JComboBox-1.14 v5.25.12 GNU/Linux
Date: 2017-04-27T09:34:53Z

This distribution has been tested as part of the CPAN Testers
project, supporting the Perl programming language.  See
http://wiki.cpantesters.org/ for more information or email
questions to cpan-testers-discuss@perl.org


--
Dear Rob Seegel,

This is a computer-generated report for Tk-JComboBox-1.14
on perl 5.25.12, created by CPAN-Reporter-1.2018.

Thank you for uploading your work to CPAN.  Congratulations!
All tests were successful.

Sections of this report:

    * Tester comments
    * Program output
    * Prerequisites
    * Environment and other context

------------------------------
TESTER COMMENTS
------------------------------

Additional comments from tester:

none provided

------------------------------
PROGRAM OUTPUT
------------------------------

Output from '/usr/bin/make test':

PERL_DL_NONLAZY=1 "/opt/perl-5.25.12/bin/perl5.25.12" "-MExtUtils::Command::MM" "-MTest::Harness" "-e" "undef *Test::Harness::Switches; test_harness(0, 'blib/lib', 'blib/arch')" t/*.t
t/01_Create.t ............ ok
# 
# 
# Test arrowbitmap:
# 
# Test arrowimage
# 
# Test background
# 
# Test borderwidth:
# 
# Test cursor:
# 
# Test entrybackground:
# 
# Test entrywidth:
# 
# Test foreground:
# 
# Test gap:
# 
# Test highlightthickness:
# 
# Test highlight:
# 
# Test listwidth:
# 
# Test pady:
# 
# Test relief:
# 
# Test selectbackground:
# 
# Test selectforeground:
# 
# Test selectborderwidth:
# 
# Test takefocus:
# 
# Test TextVariable:
t/02_Options_Basic.t ..... ok
# 
# 
# testing buttoncommand:
# 
# testing keycommand: 
Use of uninitialized value $args{"-type"} in lc at
	/home/cpansand/.cpan/build/2017042709/Tk-JComboBox-1.14-0/blib/lib/Tk/JComboBox.pm line 528 (#1)
    (W uninitialized) An undefined value was used as if it were already
    defined.  It was interpreted as a "" or a 0, but maybe it was a mistake.
    To suppress this warning assign a defined value to your variables.
    
    To help you figure out what was undefined, perl will try to tell you
    the name of the variable (if any) that was undefined.  In some cases
    it cannot do this, so it also tells you what operation you used the
    undefined value in.  Note, however, that perl optimizes your program
    and the operation displayed in the warning may not necessarily appear
    literally in your program.  For example, "that $foo" is usually
    optimized into "that " . $foo, and the warning will refer to the
    concatenation (.) operator, even though there is no . in
    your program.
    
# 
# testing popupcreate/modify:
# 
# testing selectcommand:
Use of uninitialized value $args{"-mode"} in lc at
	/home/cpansand/.cpan/build/2017042709/Tk-JComboBox-1.14-0/blib/lib/Tk/JComboBox.pm line 1210 (#1)
# 
# testing validation:
t/03_Options_Callback.t .. ok
# 
# 
# testing autofind:
Use of uninitialized value $args{"-type"} in lc at
	/home/cpansand/.cpan/build/2017042709/Tk-JComboBox-1.14-0/blib/lib/Tk/JComboBox.pm line 528 (#1)
    (W uninitialized) An undefined value was used as if it were already
    defined.  It was interpreted as a "" or a 0, but maybe it was a mistake.
    To suppress this warning assign a defined value to your variables.
    
    To help you figure out what was undefined, perl will try to tell you
    the name of the variable (if any) that was undefined.  In some cases
    it cannot do this, so it also tells you what operation you used the
    undefined value in.  Note, however, that perl optimizes your program
    and the operation displayed in the warning may not necessarily appear
    literally in your program.  For example, "that $foo" is usually
    optimized into "that " . $foo, and the warning will refer to the
    concatenation (.) operator, even though there is no . in
    your program.
    
Use of uninitialized value $args{"-mode"} in lc at
	/home/cpansand/.cpan/build/2017042709/Tk-JComboBox-1.14-0/blib/lib/Tk/JComboBox.pm line 1210 (#1)
# 
# testing choices:
# 
# Test Choices - FETCHSIZE
# 
# Test Choices - CLEAR
# 
# Test Choices - PUSH
# 
# Test Choices - POP
# 
# Test Choices - SHIFT
# 
# Test Choices - STORE
# 
# 
# Test Choices - FETCH
# 
# Test Choices - UNSHIFT
# 
# Test Choices - DELETE
# 
# testing listhighlight:
# 
# testing maxrows:
# 
# testing state:
# 
# testing updownselect:
t/04_Options_Misc.t ...... ok
# 
# 
# Test existance of public methods
# 
# Testing Add Functionality:
Use of uninitialized value $args{"-type"} in lc at
	/home/cpansand/.cpan/build/2017042709/Tk-JComboBox-1.14-0/blib/lib/Tk/JComboBox.pm line 528 (#1)
    (W uninitialized) An undefined value was used as if it were already
    defined.  It was interpreted as a "" or a 0, but maybe it was a mistake.
    To suppress this warning assign a defined value to your variables.
    
    To help you figure out what was undefined, perl will try to tell you
    the name of the variable (if any) that was undefined.  In some cases
    it cannot do this, so it also tells you what operation you used the
    undefined value in.  Note, however, that perl optimizes your program
    and the operation displayed in the warning may not necessarily appear
    literally in your program.  For example, "that $foo" is usually
    optimized into "that " . $foo, and the warning will refer to the
    concatenation (.) operator, even though there is no . in
    your program.
    
Use of uninitialized value $args{"-mode"} in lc at
	/home/cpansand/.cpan/build/2017042709/Tk-JComboBox-1.14-0/blib/lib/Tk/JComboBox.pm line 1210 (#1)
# 
# Testing Remove Functionality:
# 
# Test Popup-related methods:
# 
# Test Selection-related methods:
# 
# Test Index-related methods:
t/05_Methods.t ........... ok
# 
# 
# Test Item Visible After AutoFind
Use of uninitialized value $args{"-type"} in lc at
	/home/cpansand/.cpan/build/2017042709/Tk-JComboBox-1.14-0/blib/lib/Tk/JComboBox.pm line 528 (#1)
    (W uninitialized) An undefined value was used as if it were already
    defined.  It was interpreted as a "" or a 0, but maybe it was a mistake.
    To suppress this warning assign a defined value to your variables.
    
    To help you figure out what was undefined, perl will try to tell you
    the name of the variable (if any) that was undefined.  In some cases
    it cannot do this, so it also tells you what operation you used the
    undefined value in.  Note, however, that perl optimizes your program
    and the operation displayed in the warning may not necessarily appear
    literally in your program.  For example, "that $foo" is usually
    optimized into "that " . $foo, and the warning will refer to the
    concatenation (.) operator, even though there is no . in
    your program.
    
# 
# Test that stolen grab (local) was returned
# 
# Test that stolen grab (global) was returned
t/06_Bugs.t .............. ok
t/07_Pod.t ............... ok
All tests successful.
Files=7, Tests=725,  3 wallclock secs ( 0.14 usr  0.02 sys +  3.07 cusr  0.21 csys =  3.44 CPU)
Result: PASS

------------------------------
PREREQUISITES
------------------------------

Prerequisite modules loaded:

requires:

    Module              Need    Have   
    ------------------- ------- -------
    Tie::Watch          0       1.302  
    Tk                  800.024 804.033

build_requires:

    Module              Need    Have   
    ------------------- ------- -------
    ExtUtils::MakeMaker 0       7.24   


------------------------------
ENVIRONMENT AND OTHER CONTEXT
------------------------------

Environment variables:

    LANG = en_US.UTF-8
    PATH = /usr/local/bin:/usr/bin:/bin:/usr/local/sbin:/usr/sbin:/sbin:/home/cpansand/bin/linux-gnu:/home/cpansand/bin/sh:/home/cpansand/bin:/usr/games:/home/cpansand/devel:/home/eserte/src/srezic-misc/scripts
    PERL5LIB = /home/cpansand/.cpan/build/2017042709/Deco-0.12-0/blib/arch:/home/cpansand/.cpan/build/2017042709/Deco-0.12-0/blib/lib
    PERL5OPT = 
    PERL5_CPANPLUS_IS_RUNNING = 18126
    PERL5_CPAN_IS_RUNNING = 18126
    PERL5_CPAN_IS_RUNNING_IN_RECURSION = 2258,18126
    PERLDOC = -MPod::Perldoc::ToTextOverstrike
    PERL_BATCH = yes
    PERL_CANARY_STABILITY_NOPROMPT = 1
    PERL_CPAN_REPORTER_CONFIG = /var/tmp/cpansmoker-1002/2017042521/cpanreporter_000_config.ini
    PERL_EXTUTILS_AUTOINSTALL = --defaultdeps
    PERL_USE_UNSAFE_INC = 1
    SHELL = /bin/zsh
    TERM = screen
    TMPDIR = /var/tmp/cpansmoker-1002/2017042521

Perl special variables (and OS-specific diagnostics, for MSWin32):

    $^X = /opt/perl-5.25.12/bin/perl5.25.12
    $UID/$EUID = 1002 / 1002
    $GID = 1002 1002
    $EGID = 1002 1002

Perl module toolchain versions installed:

    Module              Have    
    ------------------- --------
    CPAN                2.18    
    CPAN::Meta          2.150010
    Cwd                 3.62    
    ExtUtils::CBuilder  0.280224
    ExtUtils::Command   7.24    
    ExtUtils::Install   2.04    
    ExtUtils::MakeMaker 7.24    
    ExtUtils::Manifest  1.70    
    ExtUtils::ParseXS   3.30    
    File::Spec          3.62    
    JSON                2.90    
    JSON::PP            2.27400 
    Module::Build       0.4222  
    Module::Signature   0.81    
    Parse::CPAN::Meta   2.150010
    Test::Harness       3.39    
    Test::More          1.302083
    YAML                1.23    
    YAML::Syck          1.30    
    version             0.9918  


--

Summary of my perl5 (revision 5 version 25 subversion 12) configuration:
   
  Platform:
    osname=linux
    osvers=3.10.0-514.16.1.el7.x86_64
    archname=x86_64-linux
    uname='linux prod5 3.10.0-514.16.1.el7.x86_64 #1 smp wed apr 12 15:04:24 utc 2017 x86_64 x86_64 x86_64 gnulinux '
    config_args='-ds -e -Dprefix=/opt/perl-5.25.12 -Dusedevel -Dusemallocwrap=no -Dcf_email=srezic@cpan.org'
    hint=recommended
    useposix=true
    d_sigaction=define
    useithreads=undef
    usemultiplicity=undef
    use64bitint=define
    use64bitall=define
    uselongdouble=undef
    usemymalloc=n
    default_inc_excludes_dot=define
    bincompat5005=undef
  Compiler:
    cc='cc'
    ccflags ='-fwrapv -fno-strict-aliasing -pipe -fstack-protector-strong -I/usr/local/include -D_LARGEFILE_SOURCE -D_FILE_OFFSET_BITS=64 -D_FORTIFY_SOURCE=2'
    optimize='-O2'
    cppflags='-fwrapv -fno-strict-aliasing -pipe -fstack-protector-strong -I/usr/local/include'
    ccversion=''
    gccversion='4.8.5 20150623 (Red Hat 4.8.5-11)'
    gccosandvers=''
    intsize=4
    longsize=8
    ptrsize=8
    doublesize=8
    byteorder=12345678
    doublekind=3
    d_longlong=define
    longlongsize=8
    d_longdbl=define
    longdblsize=16
    longdblkind=3
    ivtype='long'
    ivsize=8
    nvtype='double'
    nvsize=8
    Off_t='off_t'
    lseeksize=8
    alignbytes=8
    prototype=define
  Linker and Libraries:
    ld='cc'
    ldflags =' -fstack-protector-strong -L/usr/local/lib'
    libpth=/usr/local/lib /usr/lib /lib/../lib64 /usr/lib/../lib64 /lib /lib64 /usr/lib64 /usr/local/lib64
    libs=-lpthread -lnsl -lgdbm -ldb -ldl -lm -lcrypt -lutil -lc -lgdbm_compat
    perllibs=-lpthread -lnsl -ldl -lm -lcrypt -lutil -lc
    libc=libc-2.17.so
    so=so
    useshrplib=false
    libperl=libperl.a
    gnulibc_version='2.17'
  Dynamic Linking:
    dlsrc=dl_dlopen.xs
    dlext=so
    d_dlsymun=undef
    ccdlflags='-Wl,-E'
    cccdlflags='-fPIC'
    lddlflags='-shared -O2 -L/usr/local/lib -fstack-protector-strong'


Characteristics of this binary (from libperl): 
  Compile-time options:
    HAS_TIMES
    PERLIO_LAYERS
    PERL_COPY_ON_WRITE
    PERL_DONT_CREATE_GVSV
    PERL_OP_PARENT
    PERL_PRESERVE_IVUV
    PERL_USE_DEVEL
    USE_64_BIT_ALL
    USE_64_BIT_INT
    USE_LARGE_FILES
    USE_LOCALE
    USE_LOCALE_COLLATE
    USE_LOCALE_CTYPE
    USE_LOCALE_NUMERIC
    USE_LOCALE_TIME
    USE_PERLIO
    USE_PERL_ATOF
  Built under linux
  Compiled at Apr 20 2017 22:37:08
  %ENV:
    PERL5LIB="/home/cpansand/.cpan/build/2017042709/Deco-0.12-0/blib/arch:/home/cpansand/.cpan/build/2017042709/Deco-0.12-0/blib/lib"
    PERL5OPT=""
    PERL5_CPANPLUS_IS_RUNNING="18126"
    PERL5_CPAN_IS_RUNNING="18126"
    PERL5_CPAN_IS_RUNNING_IN_RECURSION="2258,18126"
    PERLDOC="-MPod::Perldoc::ToTextOverstrike"
    PERL_BATCH="yes"
    PERL_CANARY_STABILITY_NOPROMPT="1"
    PERL_CPAN_REPORTER_CONFIG="/var/tmp/cpansmoker-1002/2017042521/cpanreporter_000_config.ini"
    PERL_EXTUTILS_AUTOINSTALL="--defaultdeps"
    PERL_USE_UNSAFE_INC="1"
  @INC:
    /home/cpansand/.cpan/build/2017042709/Deco-0.12-0/blib/arch
    /home/cpansand/.cpan/build/2017042709/Deco-0.12-0/blib/lib
    /opt/perl-5.25.12/lib/site_perl/5.25.12/x86_64-linux
    /opt/perl-5.25.12/lib/site_perl/5.25.12
    /opt/perl-5.25.12/lib/5.25.12/x86_64-linux
    /opt/perl-5.25.12/lib/5.25.12
    .