WebNano-Controller-CRUD v0.007 Perl 5 v5.35.2 x86_64-linux-ld

Status
Pass
From
Andreas J. König (ANDK)
Dist
WebNano-Controller-CRUD v0.007
Platform
Perl 5 v5.35.2 x86_64-linux-ld
Date
2021-08-07 17:56:19
ID
c4db80ec-f7a8-11eb-80be-2bc187a7676d
This distribution has been tested as part of the CPAN Testers
project, supporting the Perl programming language.  See
http://wiki.cpantesters.org/ for more information or email
questions to cpan-testers-discuss@perl.org


--
Dear Zbigniew Lukasiak,

This is a computer-generated report for WebNano-Controller-CRUD-0.007
on perl 5.35.2, created by CPAN-Reporter-1.2018.

Thank you for uploading your work to CPAN.  Congratulations!
All tests were successful.

Sections of this report:

    * Tester comments
    * Program output
    * Prerequisites
    * Environment and other context

------------------------------
TESTER COMMENTS
------------------------------

Additional comments from tester:

this report is from an automated smoke testing program
and was not reviewed by a human for accuracy

------------------------------
PROGRAM OUTPUT
------------------------------

Output from '/usr/bin/make test':

PERL_DL_NONLAZY=1 "/tmp/basesmoker-reloperl-HVFz/bin/perl" "-MExtUtils::Command::MM" "-MTest::Harness" "-e" "undef *Test::Harness::Switches; test_harness(0, 'blib/lib', 'blib/arch')" t/*.t
each on anonymous hash will always start from the beginning at /home/sand/src/perl/repoperls/installed-perls/host/k93bionic/v5.35.2/ca05/lib/site_perl/5.35.2/x86_64-linux-ld/Template/Document.pm line 75.
each on anonymous hash will always start from the beginning at /home/sand/src/perl/repoperls/installed-perls/host/k93bionic/v5.35.2/ca05/lib/site_perl/5.35.2/x86_64-linux-ld/Template/Provider.pm line 376.
each on anonymous hash will always start from the beginning at /home/sand/src/perl/repoperls/installed-perls/host/k93bionic/v5.35.2/ca05/lib/site_perl/5.35.2/x86_64-linux-ld/Template/Provider.pm line 875.
each on anonymous hash will always start from the beginning at /home/sand/src/perl/repoperls/installed-perls/host/k93bionic/v5.35.2/ca05/lib/site_perl/5.35.2/x86_64-linux-ld/Template/Provider.pm line 894.
Class::MOP::load_class is deprecated at /home/sand/src/perl/repoperls/installed-perls/host/k93bionic/v5.35.2/ca05/lib/site_perl/5.35.2/x86_64-linux-ld/Class/MOP.pm line 69.
	Class::MOP::load_class("MyApp::Controller::Form") called at /tmp/loop_over_bdir-14873-gqPQRU/WebNano-Controller-CRUD-0.007-0/blib/lib/WebNano/Controller/CRUD.pm line 154
	WebNano::Controller::CRUD::edit(MyApp::Controller::DvdWithBaseCRUD=HASH(0x55c99eb353a0), MyApp::DBSchema::Result::Dvd=HASH(0x55c99ed34c20), undef, "edit") called at /tmp/loop_over_bdir-14873-gqPQRU/WebNano-Controller-CRUD-0.007-0/blib/lib/WebNano/Controller/CRUD.pm line 89
	Class::MOP::Class:::around(CODE(0x55c99cfc7db0), MyApp::Controller::DvdWithBaseCRUD=HASH(0x55c99eb353a0)) called at /home/sand/src/perl/repoperls/installed-perls/host/k93bionic/v5.35.2/ca05/lib/site_perl/5.35.2/x86_64-linux-ld/Class/MOP/Method/Wrapped.pm line 164
	WebNano::Controller::CRUD::_wrapped_local_dispatch(MyApp::Controller::DvdWithBaseCRUD=HASH(0x55c99eb353a0)) called at /home/sand/src/perl/repoperls/installed-perls/host/k93bionic/v5.35.2/ca05/lib/site_perl/5.35.2/x86_64-linux-ld/Class/MOP/Method/Wrapped.pm line 95
	WebNano::Controller::CRUD::local_dispatch(MyApp::Controller::DvdWithBaseCRUD=HASH(0x55c99eb353a0)) called at /home/sand/src/perl/repoperls/installed-perls/host/k93bionic/v5.35.2/ca05/lib/site_perl/5.35.2/WebNano/Controller.pm line 90
	WebNano::Controller::handle("MyApp::Controller::DvdWithBaseCRUD", "path", ARRAY(0x55c99e010bf0), "app", MyApp=HASH(0x55c99cade7f8), "self_url", "/DvdWithBaseCRUD/", "env", ...) called at /home/sand/src/perl/repoperls/installed-perls/host/k93bionic/v5.35.2/ca05/lib/site_perl/5.35.2/WebNano/Controller.pm line 82
	WebNano::Controller::dispatch_to_class(MyApp::Controller=HASH(0x55c99e028b28), "DvdWithBaseCRUD") called at /home/sand/src/perl/repoperls/installed-perls/host/k93bionic/v5.35.2/ca05/lib/site_perl/5.35.2/WebNano/Controller.pm line 93
	WebNano::Controller::handle("MyApp::Controller", "path", ARRAY(0x55c99e010bf0), "app", MyApp=HASH(0x55c99cade7f8), "env", HASH(0x55c99cd84fd8), "self_url", ...) called at /home/sand/src/perl/repoperls/installed-perls/host/k93bionic/v5.35.2/ca05/lib/site_perl/5.35.2/WebNano.pm line 44
	WebNano::handle(MyApp=HASH(0x55c99cade7f8), HASH(0x55c99cd84fd8)) called at /home/sand/src/perl/repoperls/installed-perls/host/k93bionic/v5.35.2/ca05/lib/site_perl/5.35.2/WebNano.pm line 31
	WebNano::__ANON__(HASH(0x55c99cd84fd8)) called at /home/sand/src/perl/repoperls/installed-perls/host/k93bionic/v5.35.2/ca05/lib/site_perl/5.35.2/Plack/Test/MockHTTP.pm line 24
	Plack::Test::MockHTTP::try {...} () called at /home/sand/src/perl/repoperls/installed-perls/host/k93bionic/v5.35.2/ca05/lib/site_perl/5.35.2/Try/Tiny.pm line 100
	eval {...} called at /home/sand/src/perl/repoperls/installed-perls/host/k93bionic/v5.35.2/ca05/lib/site_perl/5.35.2/Try/Tiny.pm line 93
	Try::Tiny::try(CODE(0x55c99e5c3378), Try::Tiny::Catch=REF(0x55c99e04f118)) called at /home/sand/src/perl/repoperls/installed-perls/host/k93bionic/v5.35.2/ca05/lib/site_perl/5.35.2/Plack/Test/MockHTTP.pm line 27
	Plack::Test::MockHTTP::request(Plack::Test::MockHTTP=HASH(0x55c99c95b338), HTTP::Request=HASH(0x55c99ab230a0)) called at /home/sand/src/perl/repoperls/installed-perls/host/k93bionic/v5.35.2/ca05/lib/site_perl/5.35.2/Plack/Test.pm line 38
	Plack::Test::__ANON__(HTTP::Request=HASH(0x55c99ab230a0)) called at t/crud_base_controller.t line 23
	main::__ANON__(CODE(0x55c99cb63960)) called at /home/sand/src/perl/repoperls/installed-perls/host/k93bionic/v5.35.2/ca05/lib/site_perl/5.35.2/Plack/Test.pm line 38
	Plack::Test::test_psgi("app", CODE(0x55c99cabe320), "client", CODE(0x55c99cab54b0)) called at t/crud_base_controller.t line 42
DBIx::Class::Storage::DBI::insert(): Missing value for primary key column 'id' on Dvd - perhaps you forgot to set its 'is_auto_increment' attribute during add_columns()? Treating 'id' implicitly as an autoinc, and attempting value retrieval at /home/sand/src/perl/repoperls/installed-perls/host/k93bionic/v5.35.2/ca05/lib/site_perl/5.35.2/HTML/FormHandler/TraitFor/Model/DBIC.pm line 85
t/crud_base_controller.t .. ok
t/release-kwalitee.t ...... skipped: these tests are for release candidate testing
t/release-pod-coverage.t .. skipped: these tests are for release candidate testing
t/release-pod-syntax.t .... skipped: these tests are for release candidate testing
All tests successful.
Files=4, Tests=20,  1 wallclock secs ( 0.01 usr  0.02 sys +  1.34 cusr  0.17 csys =  1.54 CPU)
Result: PASS

------------------------------
PREREQUISITES
------------------------------

Prerequisite modules loaded:

requires:

    Module                            Need  Have    
    --------------------------------- ----- --------
    Class::MOP                        0     2.2015  
    Config::General                   0     2.63    
    Cwd                               0     3.82    
    DateTime::Format::SQLite          0     0.11    
    DBIx::Class                       0     0.082842
    File::Spec::Functions             0     3.81    
    HTML::FormHandler::Model::DBIC    0     0.29    
    HTML::FormHandler::Moose          0     0.40068 
    Moose                             0     2.2015  
    MooseX::NonMoose                  0     0.26    
    WebNano                           0.007 0.007   
    WebNano::Controller               0     0.007   
    WebNano::Renderer::TT             0     0.002   

build_requires:

    Module                            Need  Have    
    --------------------------------- ----- --------
    base                              0     2.27    
    Config::Any                       0     0.32    
    DateTime                          0     1.54    
    DBIx::Class                       0     0.082842
    DBIx::Class::Schema               0     0       
    File::Copy                        0     2.36    
    HTML::FormHandler::Model::DBIC    0     0.29    
    HTML::FormHandler::Moose          0     0.40068 
    HTML::FormHandler::Render::Simple 0     0.40068 
    HTTP::Request::Common             0     6.33    
    overload                          0     1.33    
    Plack::Test                       0     0       
    strict                            0     1.12    
    Test::More                        0     1.302186
    warnings                          0     1.52    
    WebNano                           0     0.007   
    WebNano::Renderer::TT             0     0.002   

configure_requires:

    Module                            Need  Have    
    --------------------------------- ----- --------
    ExtUtils::MakeMaker               6.30  7.62    


------------------------------
ENVIRONMENT AND OTHER CONTEXT
------------------------------

Environment variables:

    AUTOMATED_TESTING = 1
    LANG = en_US.utf8
    PATH = /home/sand/bin:/usr/local/bin:/usr/local/sbin:/usr/sbin:/usr/bin:/sbin:/bin:/usr/games:/usr/local/games:/snap/bin:/usr/local/perl/bin:/usr/X11/bin
    PERL = /tmp/basesmoker-reloperl-HVFz/bin/perl
    PERL5LIB = /tmp/loop_over_bdir-14873-gqPQRU/mmds-1.902-0/blib/arch:/tmp/loop_over_bdir-14873-gqPQRU/mmds-1.902-0/blib/lib:/tmp/loop_over_bdir-14873-gqPQRU/LiquidWeb-Storm-CLI-1.03-0/blib/arch:/tmp/loop_over_bdir-14873-gqPQRU/LiquidWeb-Storm-CLI-1.03-0/blib/lib
    PERL5OPT = 
    PERL5_CPANPLUS_IS_RUNNING = 14881
    PERL5_CPAN_IS_RUNNING = 14881
    PERL_CANARY_STABILITY_NOPROMPT = 1
    PERL_MM_USE_DEFAULT = 1
    PERL_USE_UNSAFE_INC = 1
    SHELL = /usr/bin/zsh
    TERM = screen

Perl special variables (and OS-specific diagnostics, for MSWin32):

    $^X = /tmp/basesmoker-reloperl-HVFz/bin/perl
    $UID/$EUID = 1005 / 1005
    $GID = 1005 1005
    $EGID = 1005 1005

Perl module toolchain versions installed:

    Module              Have    
    ------------------- --------
    CPAN                2.28    
    CPAN::Meta          2.150010
    Cwd                 3.82    
    ExtUtils::CBuilder  0.280236
    ExtUtils::Command   7.62    
    ExtUtils::Install   2.20    
    ExtUtils::MakeMaker 7.62    
    ExtUtils::Manifest  1.73    
    ExtUtils::ParseXS   3.43    
    File::Spec          3.81    
    JSON                4.03    
    JSON::PP            4.06    
    Module::Build       0.4231  
    Module::Signature   0.87    
    Parse::CPAN::Meta   2.150010
    Test::Harness       3.43    
    Test::More          1.302186
    YAML                1.30    
    YAML::Syck          1.34    
    version             0.9929  


--

Summary of my perl5 (revision 5 version 35 subversion 2) configuration:
  Commit id: e758692133b5069e2524e70b41bd782ad9e1267b
  Platform:
    osname=linux
    osvers=4.15.0-144-generic
    archname=x86_64-linux-ld
    uname='linux k93bionic 4.15.0-144-generic #148-ubuntu smp sat may 8 02:33:43 utc 2021 x86_64 x86_64 x86_64 gnulinux '
    config_args='-Dprefix=/home/sand/src/perl/repoperls/installed-perls/host/k93bionic/v5.35.2/ca05 -Dmyhostname=k93bionic -Dinstallusrbinperl=n -Uversiononly -Dusedevel -des -Ui_db -Dlibswanted=cl pthread socket inet nsl gdbm dbm malloc dl ld sun m crypt sec util c cposix posix ucb BSD gdbm_compat -Uuseithreads -Duselongdouble -DEBUGGING=-g'
    hint=recommended
    useposix=true
    d_sigaction=define
    useithreads=undef
    usemultiplicity=undef
    use64bitint=define
    use64bitall=define
    uselongdouble=define
    usemymalloc=n
    default_inc_excludes_dot=define
  Compiler:
    cc='cc'
    ccflags ='-fwrapv -fno-strict-aliasing -pipe -fstack-protector-strong -I/usr/local/include -D_LARGEFILE_SOURCE -D_FILE_OFFSET_BITS=64'
    optimize='-O2 -g'
    cppflags='-fwrapv -fno-strict-aliasing -pipe -fstack-protector-strong -I/usr/local/include'
    ccversion=''
    gccversion='7.5.0'
    gccosandvers=''
    intsize=4
    longsize=8
    ptrsize=8
    doublesize=8
    byteorder=12345678
    doublekind=3
    d_longlong=define
    longlongsize=8
    d_longdbl=define
    longdblsize=16
    longdblkind=3
    ivtype='long'
    ivsize=8
    nvtype='long double'
    nvsize=16
    Off_t='off_t'
    lseeksize=8
    alignbytes=16
    prototype=define
  Linker and Libraries:
    ld='cc'
    ldflags =' -fstack-protector-strong -L/usr/local/lib'
    libpth=/usr/local/lib /usr/lib/x86_64-linux-gnu /usr/lib /lib/x86_64-linux-gnu /lib
    libs=-lpthread -lnsl -ldl -lm -lcrypt -lutil -lc
    perllibs=-lpthread -lnsl -ldl -lm -lcrypt -lutil -lc
    libc=libc-2.27.so
    so=so
    useshrplib=false
    libperl=libperl.a
    gnulibc_version='2.27'
  Dynamic Linking:
    dlsrc=dl_dlopen.xs
    dlext=so
    d_dlsymun=undef
    ccdlflags='-Wl,-E'
    cccdlflags='-fPIC'
    lddlflags='-shared -O2 -g -L/usr/local/lib -fstack-protector-strong'


Characteristics of this binary (from libperl): 
  Compile-time options:
    HAS_TIMES
    PERLIO_LAYERS
    PERL_COPY_ON_WRITE
    PERL_DONT_CREATE_GVSV
    PERL_MALLOC_WRAP
    PERL_OP_PARENT
    PERL_PRESERVE_IVUV
    PERL_USE_DEVEL
    USE_64_BIT_ALL
    USE_64_BIT_INT
    USE_LARGE_FILES
    USE_LOCALE
    USE_LOCALE_COLLATE
    USE_LOCALE_CTYPE
    USE_LOCALE_NUMERIC
    USE_LOCALE_TIME
    USE_LONG_DOUBLE
    USE_PERLIO
    USE_PERL_ATOF
  Built under linux
  Compiled at Aug  6 2021 11:12:08
  %ENV:
    PERL="/tmp/basesmoker-reloperl-HVFz/bin/perl"
    PERL5LIB="/tmp/loop_over_bdir-14873-gqPQRU/mmds-1.902-0/blib/arch:/tmp/loop_over_bdir-14873-gqPQRU/mmds-1.902-0/blib/lib:/tmp/loop_over_bdir-14873-gqPQRU/LiquidWeb-Storm-CLI-1.03-0/blib/arch:/tmp/loop_over_bdir-14873-gqPQRU/LiquidWeb-Storm-CLI-1.03-0/blib/lib"
    PERL5OPT=""
    PERL5_CPANPLUS_IS_RUNNING="14881"
    PERL5_CPAN_IS_RUNNING="14881"
    PERL_CANARY_STABILITY_NOPROMPT="1"
    PERL_MM_USE_DEFAULT="1"
    PERL_USE_UNSAFE_INC="1"
  @INC:
    /tmp/loop_over_bdir-14873-gqPQRU/mmds-1.902-0/blib/arch
    /tmp/loop_over_bdir-14873-gqPQRU/mmds-1.902-0/blib/lib
    /tmp/loop_over_bdir-14873-gqPQRU/LiquidWeb-Storm-CLI-1.03-0/blib/arch
    /tmp/loop_over_bdir-14873-gqPQRU/LiquidWeb-Storm-CLI-1.03-0/blib/lib
    /home/sand/src/perl/repoperls/installed-perls/host/k93bionic/v5.35.2/ca05/lib/site_perl/5.35.2/x86_64-linux-ld
    /home/sand/src/perl/repoperls/installed-perls/host/k93bionic/v5.35.2/ca05/lib/site_perl/5.35.2
    /home/sand/src/perl/repoperls/installed-perls/host/k93bionic/v5.35.2/ca05/lib/5.35.2/x86_64-linux-ld
    /home/sand/src/perl/repoperls/installed-perls/host/k93bionic/v5.35.2/ca05/lib/5.35.2
    .