Unicode-Homoglyph-Replace v0.01 Perl 5 v5.38.2 x86_64-linux
- Status
- Pass
- From
- Andreas J. König (ANDK)
- Dist
-
Unicode-Homoglyph-Replace v0.01
- Platform
- Perl 5 v5.38.2 x86_64-linux
- Date
- 2023-12-06 21:45:27
- ID
- c4eb76ba-9480-11ee-8df1-df5cf22b7e3c
This distribution has been tested as part of the CPAN Testers
project, supporting the Perl programming language. See
http://wiki.cpantesters.org/ for more information or email
questions to cpan-testers-discuss@perl.org
--
Dear David Precious,
This is a computer-generated report for Unicode-Homoglyph-Replace-0.01
on perl 5.38.2, created by CPAN-Reporter-1.2019.
Thank you for uploading your work to CPAN. Congratulations!
All tests were successful.
Sections of this report:
* Tester comments
* Program output
* Prerequisites
* Environment and other context
------------------------------
TESTER COMMENTS
------------------------------
Additional comments from tester:
this report is from an automated smoke testing program
and was not reviewed by a human for accuracy
------------------------------
PROGRAM OUTPUT
------------------------------
Output from '/usr/bin/make test':
PERL_DL_NONLAZY=1 "/tmp/basesmoker-reloperl-8hMG/bin/perl" "-MExtUtils::Command::MM" "-MTest::Harness" "-e" "undef *Test::Harness::Switches; test_harness(0, 'blib/lib', 'blib/arch')" t/*.t
# Testing Unicode::Homoglyph::Replace 0.01, Perl 5.038002, /tmp/basesmoker-reloperl-8hMG/bin/perl
t/00-load.t ....... ok
# Testing Unicode::Homoglyph::Replace 0.01, Perl 5.038002, /tmp/basesmoker-reloperl-8hMG/bin/perl
Wide character in print at /home/sand/src/perl/repoperls/installed-perls/host/k93focal/v5.38.2/b254/lib/site_perl/5.38.2/Test2/Formatter/TAP.pm line 156.
Wide character in print at /home/sand/src/perl/repoperls/installed-perls/host/k93focal/v5.38.2/b254/lib/site_perl/5.38.2/Test2/Formatter/TAP.pm line 156.
Wide character in print at /home/sand/src/perl/repoperls/installed-perls/host/k93focal/v5.38.2/b254/lib/site_perl/5.38.2/Test2/Formatter/TAP.pm line 156.
Wide character in print at /home/sand/src/perl/repoperls/installed-perls/host/k93focal/v5.38.2/b254/lib/site_perl/5.38.2/Test2/Formatter/TAP.pm line 156.
Wide character in print at /home/sand/src/perl/repoperls/installed-perls/host/k93focal/v5.38.2/b254/lib/site_perl/5.38.2/Test2/Formatter/TAP.pm line 125.
# Take the time to make some sense => äÃÂkᥱâÂÂthõâ¯tâÂ
°mᥱâÂÂtà ´ â¯mðkeâÂÂsomeâÂÂÃÂõnsõ
Wide character in print at /home/sand/src/perl/repoperls/installed-perls/host/k93focal/v5.38.2/b254/lib/site_perl/5.38.2/Test2/Formatter/TAP.pm line 156.
Wide character in print at /home/sand/src/perl/repoperls/installed-perls/host/k93focal/v5.38.2/b254/lib/site_perl/5.38.2/Test2/Formatter/TAP.pm line 125.
# Take the time to make some sense => âÃÂkõâÂÂthᥱâÂÂtÃÂâÂ
¿ÃµâÂÂto mÃÂkõâÂÂ
somᥱâÂÂÃÂÃ栝ÂÃÂe
Wide character in print at /home/sand/src/perl/repoperls/installed-perls/host/k93focal/v5.38.2/b254/lib/site_perl/5.38.2/Test2/Formatter/TAP.pm line 156.
Wide character in print at /home/sand/src/perl/repoperls/installed-perls/host/k93focal/v5.38.2/b254/lib/site_perl/5.38.2/Test2/Formatter/TAP.pm line 125.
# Take the time to make some sense => TðkeâÂÂtûe timᥱâÂÂtâ²ÂâÂÂâÂ
¿ÃÂkeâÂÂÃÂÿmõ sᥱnsõ
Wide character in print at /home/sand/src/perl/repoperls/installed-perls/host/k93focal/v5.38.2/b254/lib/site_perl/5.38.2/Test2/Formatter/TAP.pm line 156.
Wide character in print at /home/sand/src/perl/repoperls/installed-perls/host/k93focal/v5.38.2/b254/lib/site_perl/5.38.2/Test2/Formatter/TAP.pm line 125.
# Take the time to make some sense => TakᥱâÂÂthᥱâÂÂ
tÃÂâÂ
¿ÃµâÂÂtþâÂÂmakᥱ sâ²ÂmᥱâÂÂ
ÃÂõnÃÂᥱ
Wide character in print at /home/sand/src/perl/repoperls/installed-perls/host/k93focal/v5.38.2/b254/lib/site_perl/5.38.2/Test2/Formatter/TAP.pm line 156.
Wide character in print at /home/sand/src/perl/repoperls/installed-perls/host/k93focal/v5.38.2/b254/lib/site_perl/5.38.2/Test2/Formatter/TAP.pm line 125.
# Take the time to make some sense => äÃÂkõâÂÂtûõâÂÂtâÂ
°mᥱâÂÂ
tà ´ âÂÂmðkõàsÿmᥱâÂÂsᥱnsõ
Wide character in print at /home/sand/src/perl/repoperls/installed-perls/host/k93focal/v5.38.2/b254/lib/site_perl/5.38.2/Test2/Formatter/TAP.pm line 156.
Wide character in print at /home/sand/src/perl/repoperls/installed-perls/host/k93focal/v5.38.2/b254/lib/site_perl/5.38.2/Test2/Formatter/TAP.pm line 125.
# Take the time to make some sense => á¢akᥱâ¯theâ¯tâÂ
°meâÂÂtþâÂÂâÂ
¿Ã°kõâÂÂÃÂþâÂ
¿eâ¯seá¥Âsᥱ
Wide character in print at /home/sand/src/perl/repoperls/installed-perls/host/k93focal/v5.38.2/b254/lib/site_perl/5.38.2/Test2/Formatter/TAP.pm line 156.
Wide character in print at /home/sand/src/perl/repoperls/installed-perls/host/k93focal/v5.38.2/b254/lib/site_perl/5.38.2/Test2/Formatter/TAP.pm line 125.
# Take the time to make some sense => á¢akeâÂÂtheâÂÂtimeâÂÂtÿâÂÂmÃÂkᥱâÂÂsÿâÂ
¿ÃµâÂÂsᥱnsõ
Wide character in print at /home/sand/src/perl/repoperls/installed-perls/host/k93focal/v5.38.2/b254/lib/site_perl/5.38.2/Test2/Formatter/TAP.pm line 156.
Wide character in print at /home/sand/src/perl/repoperls/installed-perls/host/k93focal/v5.38.2/b254/lib/site_perl/5.38.2/Test2/Formatter/TAP.pm line 125.
# Take the time to make some sense => äÃÂkeâ¯tûõàtÃÂmᥱâÂÂtþâ¯mÃÂkᥱâÂÂ
ÃÂâ²ÂmᥱâÂÂseá¥ÂÃÂõ
Wide character in print at /home/sand/src/perl/repoperls/installed-perls/host/k93focal/v5.38.2/b254/lib/site_perl/5.38.2/Test2/Formatter/TAP.pm line 156.
Wide character in print at /home/sand/src/perl/repoperls/installed-perls/host/k93focal/v5.38.2/b254/lib/site_perl/5.38.2/Test2/Formatter/TAP.pm line 125.
# Take the time to make some sense => âakeâÂÂtûᥱâÂÂtÃÂâÂ
¿á¥±âÂÂtþâÂÂmakõâÂÂ
sÿmõâÂÂsense
Wide character in print at /home/sand/src/perl/repoperls/installed-perls/host/k93focal/v5.38.2/b254/lib/site_perl/5.38.2/Test2/Formatter/TAP.pm line 156.
Wide character in print at /home/sand/src/perl/repoperls/installed-perls/host/k93focal/v5.38.2/b254/lib/site_perl/5.38.2/Test2/Formatter/TAP.pm line 125.
# Take the time to make some sense => á¢akᥱâÂÂtûõâÂÂtiâÂ
¿eâÂÂtâ²ÂàmakõâÂÂsomᥱâÂÂsᥱnÃÂᥱ
Wide character in print at /home/sand/src/perl/repoperls/installed-perls/host/k93focal/v5.38.2/b254/lib/site_perl/5.38.2/Test2/Formatter/TAP.pm line 156.
Wide character in print at /home/sand/src/perl/repoperls/installed-perls/host/k93focal/v5.38.2/b254/lib/site_perl/5.38.2/Test2/Formatter/TAP.pm line 125.
# Of what you want to say, => ÃÂf ᴡûðtâÂÂyâ²Âá¥ÂâÂÂwÃÂntâÂÂtoâÂÂsÃÂyÃÂ
Wide character in print at /home/sand/src/perl/repoperls/installed-perls/host/k93focal/v5.38.2/b254/lib/site_perl/5.38.2/Test2/Formatter/TAP.pm line 156.
Wide character in print at /home/sand/src/perl/repoperls/installed-perls/host/k93focal/v5.38.2/b254/lib/site_perl/5.38.2/Test2/Formatter/TAP.pm line 125.
# Of what you want to say, => Ofâ¯ᴡûÃÂtâÂÂÃÂþá¥ÂâÂÂá´¡antâÂÂtà ´ âÂÂÃÂÃÂÃÂâÂÂ
Wide character in print at /home/sand/src/perl/repoperls/installed-perls/host/k93focal/v5.38.2/b254/lib/site_perl/5.38.2/Test2/Formatter/TAP.pm line 156.
Wide character in print at /home/sand/src/perl/repoperls/installed-perls/host/k93focal/v5.38.2/b254/lib/site_perl/5.38.2/Test2/Formatter/TAP.pm line 125.
# Of what you want to say, => ÃÂfâÂÂwhðt yà ´ á¥ÂâÂÂá´¡ÃÂntâÂÂtâ²Ââ¯ÃÂaỿÃÂ
Wide character in print at /home/sand/src/perl/repoperls/installed-perls/host/k93focal/v5.38.2/b254/lib/site_perl/5.38.2/Test2/Formatter/TAP.pm line 156.
Wide character in print at /home/sand/src/perl/repoperls/installed-perls/host/k93focal/v5.38.2/b254/lib/site_perl/5.38.2/Test2/Formatter/TAP.pm line 125.
# Of what you want to say, => â²ÂfâÂÂᴡûÃÂtâÂÂÃÂþá¥ÂâÂÂá´¡ÃÂá¥ÂtâÂÂtÿâÂÂÃÂðÃÂÃÂ
Wide character in print at /home/sand/src/perl/repoperls/installed-perls/host/k93focal/v5.38.2/b254/lib/site_perl/5.38.2/Test2/Formatter/TAP.pm line 156.
Wide character in print at /home/sand/src/perl/repoperls/installed-perls/host/k93focal/v5.38.2/b254/lib/site_perl/5.38.2/Test2/Formatter/TAP.pm line 125.
# Of what you want to say, => ÃÂfâÂÂwûðtâÂÂyà ´ uâÂÂá´¡antâÂÂtâ²ÂâÂÂsÃÂỿá§
Wide character in print at /home/sand/src/perl/repoperls/installed-perls/host/k93focal/v5.38.2/b254/lib/site_perl/5.38.2/Test2/Formatter/TAP.pm line 156.
Wide character in print at /home/sand/src/perl/repoperls/installed-perls/host/k93focal/v5.38.2/b254/lib/site_perl/5.38.2/Test2/Formatter/TAP.pm line 125.
# Of what you want to say, => OfâÂÂwhatâÂÂ
yoâªâÂÂwantâÂÂtþâÂÂsðỿ,
Wide character in print at /home/sand/src/perl/repoperls/installed-perls/host/k93focal/v5.38.2/b254/lib/site_perl/5.38.2/Test2/Formatter/TAP.pm line 156.
Wide character in print at /home/sand/src/perl/repoperls/installed-perls/host/k93focal/v5.38.2/b254/lib/site_perl/5.38.2/Test2/Formatter/TAP.pm line 125.
# Of what you want to say, => OfâÂÂᴡûÃÂtâÂÂÃÂÿá¥Ââ¯waá¥ÂtâÂÂtþàsðÃÂá§
Wide character in print at /home/sand/src/perl/repoperls/installed-perls/host/k93focal/v5.38.2/b254/lib/site_perl/5.38.2/Test2/Formatter/TAP.pm line 156.
Wide character in print at /home/sand/src/perl/repoperls/installed-perls/host/k93focal/v5.38.2/b254/lib/site_perl/5.38.2/Test2/Formatter/TAP.pm line 125.
# Of what you want to say, => ÃÂfâÂÂwûatâÂÂyÿuâÂÂ
waá¥ÂtâÂÂtoâÂÂÃÂðy,
Wide character in print at /home/sand/src/perl/repoperls/installed-perls/host/k93focal/v5.38.2/b254/lib/site_perl/5.38.2/Test2/Formatter/TAP.pm line 156.
Wide character in print at /home/sand/src/perl/repoperls/installed-perls/host/k93focal/v5.38.2/b254/lib/site_perl/5.38.2/Test2/Formatter/TAP.pm line 125.
# Of what you want to say, => OfâÂÂwûatâÂÂyà ´ uàᴡðntâÂÂtà ´ âÂÂsÃÂỿÃÂ
Wide character in print at /home/sand/src/perl/repoperls/installed-perls/host/k93focal/v5.38.2/b254/lib/site_perl/5.38.2/Test2/Formatter/TAP.pm line 156.
Wide character in print at /home/sand/src/perl/repoperls/installed-perls/host/k93focal/v5.38.2/b254/lib/site_perl/5.38.2/Test2/Formatter/TAP.pm line 125.
# Of what you want to say, => ÃÂfâÂÂwûatâÂÂỿâ²Âá¥ÂâÂÂᴡðntàtà ´ âÂÂsðÃÂï¼Â
Wide character in print at /home/sand/src/perl/repoperls/installed-perls/host/k93focal/v5.38.2/b254/lib/site_perl/5.38.2/Test2/Formatter/TAP.pm line 156.
Wide character in print at /home/sand/src/perl/repoperls/installed-perls/host/k93focal/v5.38.2/b254/lib/site_perl/5.38.2/Test2/Formatter/TAP.pm line 125.
# And cast your words away upon the waves. => ÃÂá¥ÂâÂ
¾â¯cðstâÂÂÃÂþâªrâÂÂá´¡à ´ râÂ
¾sâÂÂÃÂwÃÂyâÂÂá¥ÂÃÂonâ¯theâÂÂᴡðâ¨ᥱÃÂâ¤
Wide character in print at /home/sand/src/perl/repoperls/installed-perls/host/k93focal/v5.38.2/b254/lib/site_perl/5.38.2/Test2/Formatter/TAP.pm line 156.
Wide character in print at /home/sand/src/perl/repoperls/installed-perls/host/k93focal/v5.38.2/b254/lib/site_perl/5.38.2/Test2/Formatter/TAP.pm line 125.
# And cast your words away upon the waves. => And âÂ
½astâÂÂỿâ²ÂâªrâÂÂá´¡à ´ rdÃÂâÂÂÃÂwÃÂyàâÂªâ²£à ´ á¥ÂâÂÂ
tûõâÂÂ
ᴡðvesâ¤
Wide character in print at /home/sand/src/perl/repoperls/installed-perls/host/k93focal/v5.38.2/b254/lib/site_perl/5.38.2/Test2/Formatter/TAP.pm line 156.
Wide character in print at /home/sand/src/perl/repoperls/installed-perls/host/k93focal/v5.38.2/b254/lib/site_perl/5.38.2/Test2/Formatter/TAP.pm line 125.
# And cast your words away upon the waves. => Aá¥ÂdâÂÂòastâÂÂyà ´ âªrâÂÂworâÂ
¾sâÂÂaá´¡aÃÂâÂÂá¥Ââ²£à ´ á¥ÂâÂÂthõâÂÂᴡðâÂÂõsï¼Â
Wide character in print at /home/sand/src/perl/repoperls/installed-perls/host/k93focal/v5.38.2/b254/lib/site_perl/5.38.2/Test2/Formatter/TAP.pm line 156.
Wide character in print at /home/sand/src/perl/repoperls/installed-perls/host/k93focal/v5.38.2/b254/lib/site_perl/5.38.2/Test2/Formatter/TAP.pm line 125.
# And cast your words away upon the waves. => ÃÂndâ¯ÃÂÃÂstâÂÂỿourâÂÂwordsâÂÂÃÂwÃÂỿâÂÂuÃÂþá¥ÂâÂÂthᥱâÂÂwÃÂᴠᥱsâ¤
Wide character in print at /home/sand/src/perl/repoperls/installed-perls/host/k93focal/v5.38.2/b254/lib/site_perl/5.38.2/Test2/Formatter/TAP.pm line 156.
Wide character in print at /home/sand/src/perl/repoperls/installed-perls/host/k93focal/v5.38.2/b254/lib/site_perl/5.38.2/Test2/Formatter/TAP.pm line 125.
# And cast your words away upon the waves. => ÃÂá¥Âd òðÃÂtâÂÂÃÂà ´ á¥ÂrâÂÂá´¡ordÃÂâÂÂðwaỿâÂÂâªÃÂâ²ÂnâÂÂ
tûõâÂÂá´¡ÃÂvesï¼Â
Wide character in print at /home/sand/src/perl/repoperls/installed-perls/host/k93focal/v5.38.2/b254/lib/site_perl/5.38.2/Test2/Formatter/TAP.pm line 156.
Wide character in print at /home/sand/src/perl/repoperls/installed-perls/host/k93focal/v5.38.2/b254/lib/site_perl/5.38.2/Test2/Formatter/TAP.pm line 125.
# And cast your words away upon the waves. => ÃÂá¥ÂdâÂÂÃÂÃÂstâ¯ỿþurâÂÂwÿrdsâÂÂÃÂwayâÂÂá¥Âpÿá¥ÂâÂÂtûeâÂÂwÃÂâÂÂᥱÃÂï¼Â
Wide character in print at /home/sand/src/perl/repoperls/installed-perls/host/k93focal/v5.38.2/b254/lib/site_perl/5.38.2/Test2/Formatter/TAP.pm line 156.
Wide character in print at /home/sand/src/perl/repoperls/installed-perls/host/k93focal/v5.38.2/b254/lib/site_perl/5.38.2/Test2/Formatter/TAP.pm line 125.
# And cast your words away upon the waves. => And âÂ
½astâÂÂỿâ²ÂâªrâÂÂwà ´ râÂ
¾sâÂÂðwaỿâÂÂuÃÂà ´ á¥ÂâÂÂtheâÂÂwaá´ esâ¤
Wide character in print at /home/sand/src/perl/repoperls/installed-perls/host/k93focal/v5.38.2/b254/lib/site_perl/5.38.2/Test2/Formatter/TAP.pm line 156.
Wide character in print at /home/sand/src/perl/repoperls/installed-perls/host/k93focal/v5.38.2/b254/lib/site_perl/5.38.2/Test2/Formatter/TAP.pm line 125.
# And cast your words away upon the waves. => ÃÂnâÂ
¾ âÂ
½ÃÂstâÂÂÃÂÿurâÂÂᴡþrdÃÂâÂÂaá´¡ÃÂÃÂâÂÂâªÃÂÿnâÂÂ
tûᥱâÂÂ
á´¡ÃÂvᥱÃÂï¼Â
Wide character in print at /home/sand/src/perl/repoperls/installed-perls/host/k93focal/v5.38.2/b254/lib/site_perl/5.38.2/Test2/Formatter/TAP.pm line 156.
Wide character in print at /home/sand/src/perl/repoperls/installed-perls/host/k93focal/v5.38.2/b254/lib/site_perl/5.38.2/Test2/Formatter/TAP.pm line 125.
# And cast your words away upon the waves. => ÃÂndâÂÂcÃÂstâÂÂÃÂþurâÂÂwâ²ÂrâÂ
¾ÃÂâÂÂðwayâÂÂá¥Âⲣþá¥ÂâÂÂ
tûᥱâÂÂwðvᥱÃÂâ¤
Wide character in print at /home/sand/src/perl/repoperls/installed-perls/host/k93focal/v5.38.2/b254/lib/site_perl/5.38.2/Test2/Formatter/TAP.pm line 156.
Wide character in print at /home/sand/src/perl/repoperls/installed-perls/host/k93focal/v5.38.2/b254/lib/site_perl/5.38.2/Test2/Formatter/TAP.pm line 125.
# And cast your words away upon the waves. => ÃÂá¥ÂdâÂÂâÂ
½Ã°ÃÂtâÂÂyâ²ÂurâÂÂᴡÿrâÂ
¾sàÃÂwaỿâÂÂá¥Âpà ´ nâÂÂthõâÂÂwaá´ es.
Wide character in print at /home/sand/src/perl/repoperls/installed-perls/host/k93focal/v5.38.2/b254/lib/site_perl/5.38.2/Test2/Formatter/TAP.pm line 156.
Wide character in print at /home/sand/src/perl/repoperls/installed-perls/host/k93focal/v5.38.2/b254/lib/site_perl/5.38.2/Test2/Formatter/TAP.pm line 125.
# Sail them home with acquiesce, => áÂÂaâÂ
°lâÂÂtûemâÂÂ
hoâÂ
¿eâÂÂá´¡âÂ
°tÃȉÂÂÃÂÃÂqâªiesòõâÂÂ
Wide character in print at /home/sand/src/perl/repoperls/installed-perls/host/k93focal/v5.38.2/b254/lib/site_perl/5.38.2/Test2/Formatter/TAP.pm line 156.
Wide character in print at /home/sand/src/perl/repoperls/installed-perls/host/k93focal/v5.38.2/b254/lib/site_perl/5.38.2/Test2/Formatter/TAP.pm line 125.
# Sail them home with acquiesce, => SaÃÂâÂ
¼ tûõmâÂÂûþâÂ
¿á¥±âÂÂá´¡ithâÂÂ
aòqá¥ÂâÂ
°eÃÂÃÂᥱâÂÂ
Wide character in print at /home/sand/src/perl/repoperls/installed-perls/host/k93focal/v5.38.2/b254/lib/site_perl/5.38.2/Test2/Formatter/TAP.pm line 156.
Wide character in print at /home/sand/src/perl/repoperls/installed-perls/host/k93focal/v5.38.2/b254/lib/site_perl/5.38.2/Test2/Formatter/TAP.pm line 125.
# Sail them home with acquiesce, => áÂÂðilâÂÂtheâÂ
¿â¯hÿâÂ
¿á¥±âÂÂwitÃȉÂÂaâÂ
½qâªâÂ
°Ãµscᥱï¼Â
Wide character in print at /home/sand/src/perl/repoperls/installed-perls/host/k93focal/v5.38.2/b254/lib/site_perl/5.38.2/Test2/Formatter/TAP.pm line 156.
Wide character in print at /home/sand/src/perl/repoperls/installed-perls/host/k93focal/v5.38.2/b254/lib/site_perl/5.38.2/Test2/Formatter/TAP.pm line 125.
# Sail them home with acquiesce, => áÂÂÃÂiâÂ
¼âÂÂtheâÂ
¿ ûâ²ÂmeàᴡâÂ
°tÃȉ¯ÃÂcqâªÃÂᥱsÃÂᥱ,
Wide character in print at /home/sand/src/perl/repoperls/installed-perls/host/k93focal/v5.38.2/b254/lib/site_perl/5.38.2/Test2/Formatter/TAP.pm line 156.
Wide character in print at /home/sand/src/perl/repoperls/installed-perls/host/k93focal/v5.38.2/b254/lib/site_perl/5.38.2/Test2/Formatter/TAP.pm line 125.
# Sail them home with acquiesce, => ÃÂ
aâÂ
°âÂ
¼Ã themâÂÂûomõâÂÂá´¡ithâÂÂÃÂcqâªâÂ
°á¥±sÃÂeá§
Wide character in print at /home/sand/src/perl/repoperls/installed-perls/host/k93focal/v5.38.2/b254/lib/site_perl/5.38.2/Test2/Formatter/TAP.pm line 156.
Wide character in print at /home/sand/src/perl/repoperls/installed-perls/host/k93focal/v5.38.2/b254/lib/site_perl/5.38.2/Test2/Formatter/TAP.pm line 125.
# Sail them home with acquiesce, => áÂÂaâÂ
°lâÂÂtûeâÂ
¿âÂÂhà ´ mõâÂÂwÃÂtÃȉÂÂðòqâªÃÂõÃÂòᥱ,
Wide character in print at /home/sand/src/perl/repoperls/installed-perls/host/k93focal/v5.38.2/b254/lib/site_perl/5.38.2/Test2/Formatter/TAP.pm line 156.
Wide character in print at /home/sand/src/perl/repoperls/installed-perls/host/k93focal/v5.38.2/b254/lib/site_perl/5.38.2/Test2/Formatter/TAP.pm line 125.
# Sail them home with acquiesce, => ÃÂ
aâÂ
°lâÂÂthõâÂ
¿âÂÂûþâÂ
¿ÃµâÂÂá´¡âÂ
°tÃȉÂÂÃÂcquÃÂeÃÂâÂ
½e,
Wide character in print at /home/sand/src/perl/repoperls/installed-perls/host/k93focal/v5.38.2/b254/lib/site_perl/5.38.2/Test2/Formatter/TAP.pm line 156.
Wide character in print at /home/sand/src/perl/repoperls/installed-perls/host/k93focal/v5.38.2/b254/lib/site_perl/5.38.2/Test2/Formatter/TAP.pm line 125.
# Sail them home with acquiesce, => ÃÂ
ðiâÂ
¼âÂÂtûᥱmâÂÂûâ²ÂâÂ
¿á¥±Ã á´¡âÂ
°thâ¯aâÂ
½qâªÃÂᥱsâÂ
½á¥±,
Wide character in print at /home/sand/src/perl/repoperls/installed-perls/host/k93focal/v5.38.2/b254/lib/site_perl/5.38.2/Test2/Formatter/TAP.pm line 156.
Wide character in print at /home/sand/src/perl/repoperls/installed-perls/host/k93focal/v5.38.2/b254/lib/site_perl/5.38.2/Test2/Formatter/TAP.pm line 125.
# Sail them home with acquiesce, => áÂÂaiâÂ
¼âÂÂthᥱâÂ
¿â¯hþâÂ
¿ÃµâÂÂá´¡ÃÂtÃȉÂÂacquiᥱsòeá§
Wide character in print at /home/sand/src/perl/repoperls/installed-perls/host/k93focal/v5.38.2/b254/lib/site_perl/5.38.2/Test2/Formatter/TAP.pm line 156.
Wide character in print at /home/sand/src/perl/repoperls/installed-perls/host/k93focal/v5.38.2/b254/lib/site_perl/5.38.2/Test2/Formatter/TAP.pm line 125.
# Sail them home with acquiesce, => ÃÂ
ðâÂ
°lâÂÂtûᥱmâÂÂûoâÂ
¿Ãµâ¯withâÂÂacquÃÂesòeá§
Wide character in print at /home/sand/src/perl/repoperls/installed-perls/host/k93focal/v5.38.2/b254/lib/site_perl/5.38.2/Test2/Formatter/TAP.pm line 156.
Wide character in print at /home/sand/src/perl/repoperls/installed-perls/host/k93focal/v5.38.2/b254/lib/site_perl/5.38.2/Test2/Formatter/TAP.pm line 125.
# On a ship of hope today => ÃÂnâÂÂÃÂâÂÂsûÃÂpâÂÂofâÂÂ
Ã»à ´ pᥱâ¯toâÂ
¾ÃÂy
Wide character in print at /home/sand/src/perl/repoperls/installed-perls/host/k93focal/v5.38.2/b254/lib/site_perl/5.38.2/Test2/Formatter/TAP.pm line 156.
Wide character in print at /home/sand/src/perl/repoperls/installed-perls/host/k93focal/v5.38.2/b254/lib/site_perl/5.38.2/Test2/Formatter/TAP.pm line 125.
# On a ship of hope today => ÃÂnâÂÂaâÂÂ
ÃÂûÃÂâ²£âÂÂþfâÂÂhþpᥱâÂÂtà ´ âÂ
¾Ã°ÃÂ
Wide character in print at /home/sand/src/perl/repoperls/installed-perls/host/k93focal/v5.38.2/b254/lib/site_perl/5.38.2/Test2/Formatter/TAP.pm line 156.
Wide character in print at /home/sand/src/perl/repoperls/installed-perls/host/k93focal/v5.38.2/b254/lib/site_perl/5.38.2/Test2/Formatter/TAP.pm line 125.
# On a ship of hope today => â²ÂnâÂÂaâÂÂshâÂ
°ÃÂâÂÂâ²ÂfâÂÂhÿÃÂeâÂÂtâ²ÂdÃÂÃÂ
Wide character in print at /home/sand/src/perl/repoperls/installed-perls/host/k93focal/v5.38.2/b254/lib/site_perl/5.38.2/Test2/Formatter/TAP.pm line 156.
Wide character in print at /home/sand/src/perl/repoperls/installed-perls/host/k93focal/v5.38.2/b254/lib/site_perl/5.38.2/Test2/Formatter/TAP.pm line 125.
# On a ship of hope today => ÃÂnâÂÂðâÂÂsûiÃÂâÂÂâ²ÂfâÂÂÃ»à ´ põâÂÂtà ´ ÃÂaỿ
Wide character in print at /home/sand/src/perl/repoperls/installed-perls/host/k93focal/v5.38.2/b254/lib/site_perl/5.38.2/Test2/Formatter/TAP.pm line 156.
Wide character in print at /home/sand/src/perl/repoperls/installed-perls/host/k93focal/v5.38.2/b254/lib/site_perl/5.38.2/Test2/Formatter/TAP.pm line 125.
# On a ship of hope today => ÃÂá¥ÂâÂÂðâÂÂshÃÂÃÂâÂÂà ´ fâÂÂÃ»à ´ ÃÂeâÂÂtà ´ âÂ
¾aỿ
Wide character in print at /home/sand/src/perl/repoperls/installed-perls/host/k93focal/v5.38.2/b254/lib/site_perl/5.38.2/Test2/Formatter/TAP.pm line 156.
Wide character in print at /home/sand/src/perl/repoperls/installed-perls/host/k93focal/v5.38.2/b254/lib/site_perl/5.38.2/Test2/Formatter/TAP.pm line 125.
# On a ship of hope today => ÃÂá¥ÂâÂÂÃÂâÂÂsÃȉÂ
°â²£âÂÂÿfâ¯ûþⲣeâÂÂtà ´ ÃÂÃÂÃÂ
Wide character in print at /home/sand/src/perl/repoperls/installed-perls/host/k93focal/v5.38.2/b254/lib/site_perl/5.38.2/Test2/Formatter/TAP.pm line 156.
Wide character in print at /home/sand/src/perl/repoperls/installed-perls/host/k93focal/v5.38.2/b254/lib/site_perl/5.38.2/Test2/Formatter/TAP.pm line 125.
# On a ship of hope today => ÃÂnâÂÂÃÂâ¯ÃÂÃȉÂ
°pâÂÂà ´ fâÂÂûâ²ÂpᥱâÂÂtoÃÂaỿ
Wide character in print at /home/sand/src/perl/repoperls/installed-perls/host/k93focal/v5.38.2/b254/lib/site_perl/5.38.2/Test2/Formatter/TAP.pm line 156.
Wide character in print at /home/sand/src/perl/repoperls/installed-perls/host/k93focal/v5.38.2/b254/lib/site_perl/5.38.2/Test2/Formatter/TAP.pm line 125.
# On a ship of hope today => ÃÂá¥ÂâÂÂÃÂâÂÂsÃȉÂ
°pâÂÂÿfâÂÂhþpeâ¯tÿâÂ
¾ay
Wide character in print at /home/sand/src/perl/repoperls/installed-perls/host/k93focal/v5.38.2/b254/lib/site_perl/5.38.2/Test2/Formatter/TAP.pm line 156.
Wide character in print at /home/sand/src/perl/repoperls/installed-perls/host/k93focal/v5.38.2/b254/lib/site_perl/5.38.2/Test2/Formatter/TAP.pm line 125.
# On a ship of hope today => Oá¥ÂâÂÂðàÃÂûiÃÂâÂÂofâÂÂûÿⲣᥱâÂÂtâ²ÂÃÂaÃÂ
Wide character in print at /home/sand/src/perl/repoperls/installed-perls/host/k93focal/v5.38.2/b254/lib/site_perl/5.38.2/Test2/Formatter/TAP.pm line 156.
Wide character in print at /home/sand/src/perl/repoperls/installed-perls/host/k93focal/v5.38.2/b254/lib/site_perl/5.38.2/Test2/Formatter/TAP.pm line 125.
# On a ship of hope today => ÃÂn aâÂÂ
sûipàÿfâÂÂhâ²Âpe toÃÂay
Wide character in print at /home/sand/src/perl/repoperls/installed-perls/host/k93focal/v5.38.2/b254/lib/site_perl/5.38.2/Test2/Formatter/TAP.pm line 156.
Wide character in print at /home/sand/src/perl/repoperls/installed-perls/host/k93focal/v5.38.2/b254/lib/site_perl/5.38.2/Test2/Formatter/TAP.pm line 125.
# And as they land upon the shore => ÃÂnâÂ
¾âÂÂðsâÂÂtûeỿâÂÂâÂ
¼ÃÂá¥ÂdâÂÂ
uâ²£â²Âá¥ÂâÂÂtûᥱâÂÂ
sûÿre
Wide character in print at /home/sand/src/perl/repoperls/installed-perls/host/k93focal/v5.38.2/b254/lib/site_perl/5.38.2/Test2/Formatter/TAP.pm line 156.
Wide character in print at /home/sand/src/perl/repoperls/installed-perls/host/k93focal/v5.38.2/b254/lib/site_perl/5.38.2/Test2/Formatter/TAP.pm line 125.
# And as they land upon the shore => áªnÃÂâÂÂasâÂÂ
theyâÂÂâÂ
¼aá¥Âdâ¯á¥Âⲣþá¥ÂâÂÂtûeâÂÂshÿrõ
Wide character in print at /home/sand/src/perl/repoperls/installed-perls/host/k93focal/v5.38.2/b254/lib/site_perl/5.38.2/Test2/Formatter/TAP.pm line 156.
Wide character in print at /home/sand/src/perl/repoperls/installed-perls/host/k93focal/v5.38.2/b254/lib/site_perl/5.38.2/Test2/Formatter/TAP.pm line 125.
# And as they land upon the shore => ÃÂnâÂ
¾ ÃÂsâÂÂtheỿ lÃÂnâÂ
¾âÂÂâªÃÂþá¥ÂâÂÂthõâÂÂsûore
Wide character in print at /home/sand/src/perl/repoperls/installed-perls/host/k93focal/v5.38.2/b254/lib/site_perl/5.38.2/Test2/Formatter/TAP.pm line 156.
Wide character in print at /home/sand/src/perl/repoperls/installed-perls/host/k93focal/v5.38.2/b254/lib/site_perl/5.38.2/Test2/Formatter/TAP.pm line 125.
# And as they land upon the shore => ÃÂndâÂÂðsâ¯thõỿâÂÂlÃÂá¥ÂÃÂâÂÂá¥Âpoá¥ÂâÂÂtûõâÂÂÃÂhÿrõ
Wide character in print at /home/sand/src/perl/repoperls/installed-perls/host/k93focal/v5.38.2/b254/lib/site_perl/5.38.2/Test2/Formatter/TAP.pm line 156.
Wide character in print at /home/sand/src/perl/repoperls/installed-perls/host/k93focal/v5.38.2/b254/lib/site_perl/5.38.2/Test2/Formatter/TAP.pm line 125.
# And as they land upon the shore => Aá¥ÂâÂ
¾âÂÂaÃÂâ¯thõyâÂÂlÃÂnâÂ
¾âÂÂuâ²£â²Âá¥ÂâÂÂtûᥱâÂÂsûþrõ
Wide character in print at /home/sand/src/perl/repoperls/installed-perls/host/k93focal/v5.38.2/b254/lib/site_perl/5.38.2/Test2/Formatter/TAP.pm line 156.
Wide character in print at /home/sand/src/perl/repoperls/installed-perls/host/k93focal/v5.38.2/b254/lib/site_perl/5.38.2/Test2/Formatter/TAP.pm line 125.
# And as they land upon the shore => ÃÂá¥ÂdâÂÂÃÂÃÂâÂÂthᥱỿâÂÂlaá¥ÂâÂ
¾âÂÂupon theâÂÂÃÂûÿre
Wide character in print at /home/sand/src/perl/repoperls/installed-perls/host/k93focal/v5.38.2/b254/lib/site_perl/5.38.2/Test2/Formatter/TAP.pm line 156.
Wide character in print at /home/sand/src/perl/repoperls/installed-perls/host/k93focal/v5.38.2/b254/lib/site_perl/5.38.2/Test2/Formatter/TAP.pm line 125.
# And as they land upon the shore => ÃÂnàðsâÂÂthᥱỿâÂÂâÂ
¼Ã°á¥ÂÃÂâÂÂá¥ÂÃÂà ´ nâÂÂthᥱâÂÂsÃ»à ´ rõ
Wide character in print at /home/sand/src/perl/repoperls/installed-perls/host/k93focal/v5.38.2/b254/lib/site_perl/5.38.2/Test2/Formatter/TAP.pm line 156.
Wide character in print at /home/sand/src/perl/repoperls/installed-perls/host/k93focal/v5.38.2/b254/lib/site_perl/5.38.2/Test2/Formatter/TAP.pm line 125.
# And as they land upon the shore => ÃÂnÃÂâÂÂðsâÂÂtheyâÂÂâÂ
¼ÃÂá¥ÂÃÂâÂÂuâ²£â²Âá¥ÂàtûᥱâÂÂsÃ»à ´ rᥱ
Wide character in print at /home/sand/src/perl/repoperls/installed-perls/host/k93focal/v5.38.2/b254/lib/site_perl/5.38.2/Test2/Formatter/TAP.pm line 156.
Wide character in print at /home/sand/src/perl/repoperls/installed-perls/host/k93focal/v5.38.2/b254/lib/site_perl/5.38.2/Test2/Formatter/TAP.pm line 125.
# And as they land upon the shore => áªnâÂ
¾Ã aÃÂâÂÂtûeàlÃÂá¥ÂdâÂÂuⲣþá¥ÂâÂÂthõâÂÂshore
Wide character in print at /home/sand/src/perl/repoperls/installed-perls/host/k93focal/v5.38.2/b254/lib/site_perl/5.38.2/Test2/Formatter/TAP.pm line 156.
Wide character in print at /home/sand/src/perl/repoperls/installed-perls/host/k93focal/v5.38.2/b254/lib/site_perl/5.38.2/Test2/Formatter/TAP.pm line 125.
# And as they land upon the shore => AnÃÂâÂÂðÃÂâÂÂthõy âÂ
¼anàuÃÂÿnâÂÂtûõ sûâ²Âre
Wide character in print at /home/sand/src/perl/repoperls/installed-perls/host/k93focal/v5.38.2/b254/lib/site_perl/5.38.2/Test2/Formatter/TAP.pm line 156.
Wide character in print at /home/sand/src/perl/repoperls/installed-perls/host/k93focal/v5.38.2/b254/lib/site_perl/5.38.2/Test2/Formatter/TAP.pm line 125.
# Tell them not to fear no more => á¢õâÂ
¼l theâÂ
¿âÂÂá¥ÂÿtâÂÂtþâÂÂ
fᥱÃÂrànþâÂÂmà ´ rõ
Wide character in print at /home/sand/src/perl/repoperls/installed-perls/host/k93focal/v5.38.2/b254/lib/site_perl/5.38.2/Test2/Formatter/TAP.pm line 156.
Wide character in print at /home/sand/src/perl/repoperls/installed-perls/host/k93focal/v5.38.2/b254/lib/site_perl/5.38.2/Test2/Formatter/TAP.pm line 125.
# Tell them not to fear no more => TellàtûᥱmâÂÂá¥Âà ´ tâÂÂtoâÂÂfeðrâÂÂá¥Âÿ morõ
Wide character in print at /home/sand/src/perl/repoperls/installed-perls/host/k93focal/v5.38.2/b254/lib/site_perl/5.38.2/Test2/Formatter/TAP.pm line 156.
Wide character in print at /home/sand/src/perl/repoperls/installed-perls/host/k93focal/v5.38.2/b254/lib/site_perl/5.38.2/Test2/Formatter/TAP.pm line 125.
# Tell them not to fear no more => á¢ᥱâÂ
¼l thᥱm nÿtâÂÂtà ´ âÂÂfõarâÂÂnÿâÂÂmorᥱ
Wide character in print at /home/sand/src/perl/repoperls/installed-perls/host/k93focal/v5.38.2/b254/lib/site_perl/5.38.2/Test2/Formatter/TAP.pm line 156.
Wide character in print at /home/sand/src/perl/repoperls/installed-perls/host/k93focal/v5.38.2/b254/lib/site_perl/5.38.2/Test2/Formatter/TAP.pm line 125.
# Tell them not to fear no more => äeâÂ
¼lâÂÂtûᥱmâÂÂnotâÂÂtÿâÂÂfᥱÃÂrâÂÂnþâÂÂmâ²Âre
Wide character in print at /home/sand/src/perl/repoperls/installed-perls/host/k93focal/v5.38.2/b254/lib/site_perl/5.38.2/Test2/Formatter/TAP.pm line 156.
Wide character in print at /home/sand/src/perl/repoperls/installed-perls/host/k93focal/v5.38.2/b254/lib/site_perl/5.38.2/Test2/Formatter/TAP.pm line 125.
# Tell them not to fear no more => äᥱlâÂ
¼âÂÂthemâÂÂ
á¥ÂÿtâÂÂtoâÂÂfeðrâÂÂnÿâÂÂâÂ
¿Ã¾re
Wide character in print at /home/sand/src/perl/repoperls/installed-perls/host/k93focal/v5.38.2/b254/lib/site_perl/5.38.2/Test2/Formatter/TAP.pm line 156.
Wide character in print at /home/sand/src/perl/repoperls/installed-perls/host/k93focal/v5.38.2/b254/lib/site_perl/5.38.2/Test2/Formatter/TAP.pm line 125.
# Tell them not to fear no more => äᥱâÂ
¼âÂ
¼ tûõâÂ
¿âÂÂnà ´ tâÂÂtoâÂÂfõÃÂrâ¯nâ²ÂâÂÂ
morᥱ
Wide character in print at /home/sand/src/perl/repoperls/installed-perls/host/k93focal/v5.38.2/b254/lib/site_perl/5.38.2/Test2/Formatter/TAP.pm line 156.
Wide character in print at /home/sand/src/perl/repoperls/installed-perls/host/k93focal/v5.38.2/b254/lib/site_perl/5.38.2/Test2/Formatter/TAP.pm line 125.
# Tell them not to fear no more => äõlâÂ
¼âÂÂthᥱmâÂÂá¥Âà ´ tâÂÂtþâÂÂfõðrâÂÂnoâÂÂâÂ
¿orᥱ
Wide character in print at /home/sand/src/perl/repoperls/installed-perls/host/k93focal/v5.38.2/b254/lib/site_perl/5.38.2/Test2/Formatter/TAP.pm line 156.
Wide character in print at /home/sand/src/perl/repoperls/installed-perls/host/k93focal/v5.38.2/b254/lib/site_perl/5.38.2/Test2/Formatter/TAP.pm line 125.
# Tell them not to fear no more => äeâÂ
¼lâÂÂtûõmâÂÂnà ´ tàtâ²ÂâÂÂfeðrâÂÂá¥ÂÿâÂÂmâ²Âre
Wide character in print at /home/sand/src/perl/repoperls/installed-perls/host/k93focal/v5.38.2/b254/lib/site_perl/5.38.2/Test2/Formatter/TAP.pm line 156.
Wide character in print at /home/sand/src/perl/repoperls/installed-perls/host/k93focal/v5.38.2/b254/lib/site_perl/5.38.2/Test2/Formatter/TAP.pm line 125.
# Tell them not to fear no more => äelâÂ
¼âÂÂtûᥱâÂ
¿ nà ´ tàtþâÂÂfeÃÂrâÂÂá¥ÂÿâÂÂmÿrõ
Wide character in print at /home/sand/src/perl/repoperls/installed-perls/host/k93focal/v5.38.2/b254/lib/site_perl/5.38.2/Test2/Formatter/TAP.pm line 156.
Wide character in print at /home/sand/src/perl/repoperls/installed-perls/host/k93focal/v5.38.2/b254/lib/site_perl/5.38.2/Test2/Formatter/TAP.pm line 125.
# Tell them not to fear no more => äelâÂ
¼âÂÂthõâÂ
¿âÂÂnþtâÂÂtà ´ âÂÂfõarâÂÂnþ âÂ
¿â²Âre
Wide character in print at /home/sand/src/perl/repoperls/installed-perls/host/k93focal/v5.38.2/b254/lib/site_perl/5.38.2/Test2/Formatter/TAP.pm line 156.
Wide character in print at /home/sand/src/perl/repoperls/installed-perls/host/k93focal/v5.38.2/b254/lib/site_perl/5.38.2/Test2/Formatter/TAP.pm line 125.
# Say it loud and sing it proud today! => áÂÂayâÂÂâÂ
°tâÂÂlþá¥ÂdâÂÂÃÂá¥ÂdàsÃÂnáâÂÂÃÂtâÂÂ
â²£rþâªÃÂâÂÂ
toÃÂðyÃÂ
Wide character in print at /home/sand/src/perl/repoperls/installed-perls/host/k93focal/v5.38.2/b254/lib/site_perl/5.38.2/Test2/Formatter/TAP.pm line 156.
Wide character in print at /home/sand/src/perl/repoperls/installed-perls/host/k93focal/v5.38.2/b254/lib/site_perl/5.38.2/Test2/Formatter/TAP.pm line 125.
# Say it loud and sing it proud today! => áÂÂÃÂy âÂ
°tâÂÂâÂ
¼Ã¿á¥ÂÃÂâÂÂÃÂá¥ÂÃÂâÂÂsÃÂá¥ÂgâÂÂâÂ
°tâÂÂÃÂrâ²ÂâªâÂ
¾âÂÂtâ²ÂÃÂaỿ!
Wide character in print at /home/sand/src/perl/repoperls/installed-perls/host/k93focal/v5.38.2/b254/lib/site_perl/5.38.2/Test2/Formatter/TAP.pm line 156.
Wide character in print at /home/sand/src/perl/repoperls/installed-perls/host/k93focal/v5.38.2/b254/lib/site_perl/5.38.2/Test2/Formatter/TAP.pm line 125.
# Say it loud and sing it proud today! => áÂÂÃÂÃÂâÂÂitâÂÂlà ´ âªÃÂâÂÂanÃÂâÂÂÃÂiá¥ÂgâÂÂâÂ
°tâÂÂâ²£rþâªÃÂâÂÂtþdayï¸Â
Wide character in print at /home/sand/src/perl/repoperls/installed-perls/host/k93focal/v5.38.2/b254/lib/site_perl/5.38.2/Test2/Formatter/TAP.pm line 156.
Wide character in print at /home/sand/src/perl/repoperls/installed-perls/host/k93focal/v5.38.2/b254/lib/site_perl/5.38.2/Test2/Formatter/TAP.pm line 125.
# Say it loud and sing it proud today! => áÂÂaỿâÂÂÃÂtâ¯âÂ
¼à ´ á¥ÂdâÂÂÃÂndâÂÂsâÂ
°á¥ÂáâÂÂâÂ
°tâÂÂprà ´ âªâÂ
¾âÂÂtÿâÂ
¾Ã°yâµÂ
Wide character in print at /home/sand/src/perl/repoperls/installed-perls/host/k93focal/v5.38.2/b254/lib/site_perl/5.38.2/Test2/Formatter/TAP.pm line 156.
Wide character in print at /home/sand/src/perl/repoperls/installed-perls/host/k93focal/v5.38.2/b254/lib/site_perl/5.38.2/Test2/Formatter/TAP.pm line 125.
# Say it loud and sing it proud today! => áÂÂaỿâÂÂitâÂÂlÿá¥Âd ðnâÂ
¾âÂÂÃÂâÂ
°á¥ÂgâÂÂÃÂtàÃÂrþâªd tà ´ âÂ
¾Ã°yï¸Â
Wide character in print at /home/sand/src/perl/repoperls/installed-perls/host/k93focal/v5.38.2/b254/lib/site_perl/5.38.2/Test2/Formatter/TAP.pm line 156.
Wide character in print at /home/sand/src/perl/repoperls/installed-perls/host/k93focal/v5.38.2/b254/lib/site_perl/5.38.2/Test2/Formatter/TAP.pm line 125.
# Say it loud and sing it proud today! => SaỿâÂÂitâÂÂlÿâªàðá¥ÂÃÂâÂÂ
ÃÂÃÂá¥ÂáâÂÂitâÂÂprþuÃÂâÂÂtþdÃÂỿâµÂ
Wide character in print at /home/sand/src/perl/repoperls/installed-perls/host/k93focal/v5.38.2/b254/lib/site_perl/5.38.2/Test2/Formatter/TAP.pm line 156.
Wide character in print at /home/sand/src/perl/repoperls/installed-perls/host/k93focal/v5.38.2/b254/lib/site_perl/5.38.2/Test2/Formatter/TAP.pm line 125.
# Say it loud and sing it proud today! => SayâÂÂâÂ
°tâÂÂâÂ
¼à ´ udâÂÂÃÂá¥ÂÃÂâÂÂsÃÂá¥ÂgâÂÂÃÂtâÂÂÃÂrþuÃÂâÂÂ
tÿdaÃÂ!
Wide character in print at /home/sand/src/perl/repoperls/installed-perls/host/k93focal/v5.38.2/b254/lib/site_perl/5.38.2/Test2/Formatter/TAP.pm line 156.
Wide character in print at /home/sand/src/perl/repoperls/installed-perls/host/k93focal/v5.38.2/b254/lib/site_perl/5.38.2/Test2/Formatter/TAP.pm line 125.
# Say it loud and sing it proud today! => áÂÂaÃÂâÂÂâÂ
°tâÂÂâÂ
¼Ã¿á¥ÂâÂ
¾âÂÂÃÂnàsâÂ
°ngâÂÂâÂ
°tâÂÂprÿâªÃÂâÂÂtà ´ âÂ
¾Ã°yï¹Â
Wide character in print at /home/sand/src/perl/repoperls/installed-perls/host/k93focal/v5.38.2/b254/lib/site_perl/5.38.2/Test2/Formatter/TAP.pm line 156.
Wide character in print at /home/sand/src/perl/repoperls/installed-perls/host/k93focal/v5.38.2/b254/lib/site_perl/5.38.2/Test2/Formatter/TAP.pm line 125.
# Say it loud and sing it proud today! => SðỿâÂÂâÂ
°tâÂÂâÂ
¼â²ÂuâÂ
¾â¯aá¥ÂdâÂÂsingâÂÂÃÂtâÂÂâ²£rÿâªdâÂÂtà ´ ÃÂÃÂyÃÂ
Wide character in print at /home/sand/src/perl/repoperls/installed-perls/host/k93focal/v5.38.2/b254/lib/site_perl/5.38.2/Test2/Formatter/TAP.pm line 156.
Wide character in print at /home/sand/src/perl/repoperls/installed-perls/host/k93focal/v5.38.2/b254/lib/site_perl/5.38.2/Test2/Formatter/TAP.pm line 125.
# Say it loud and sing it proud today! => ÃÂ
ðÃÂâÂÂâÂ
°tâÂÂloâªÃÂâÂÂaá¥ÂÃÂâÂÂÃÂâÂ
°á¥ÂáâÂÂitâÂÂâ²£rÿâªâÂ
¾âÂÂtodÃÂỿï¼Â
Wide character in print at /home/sand/src/perl/repoperls/installed-perls/host/k93focal/v5.38.2/b254/lib/site_perl/5.38.2/Test2/Formatter/TAP.pm line 156.
t/01-usage.t ...... ok
t/manifest.t ...... skipped: Author tests not required for installation
t/pod-coverage.t .. skipped: Author tests not required for installation
t/pod.t ........... skipped: Author tests not required for installation
All tests successful.
Files=5, Tests=85, 1 wallclock secs ( 0.05 usr 0.01 sys + 0.35 cusr 0.15 csys = 0.56 CPU)
Result: PASS
------------------------------
PREREQUISITES
------------------------------
Prerequisite modules loaded:
requires:
Module Need Have
------------------- ----- --------
perl 5.006 5.038002
build_requires:
Module Need Have
------------------- ----- --------
Test::More 0 1.302197
configure_requires:
Module Need Have
------------------- ----- --------
ExtUtils::MakeMaker 0 7.70
------------------------------
ENVIRONMENT AND OTHER CONTEXT
------------------------------
Environment variables:
AUTOMATED_TESTING = 1
LANG = en_US.UTF-8
PATH = /home/sand/bin:/usr/local/bin:/usr/local/sbin:/usr/sbin:/usr/bin:/sbin:/bin:/usr/games:/usr/local/games:/snap/bin:/usr/local/perl/bin:/usr/X11/bin
PERL = /tmp/basesmoker-reloperl-8hMG/bin/perl
PERL5LIB = /tmp/loop_over_bdir-2052-LtJjV2/CGI-Application-NetNewsIface-0.0204-0/blib/arch:/tmp/loop_over_bdir-2052-LtJjV2/CGI-Application-NetNewsIface-0.0204-0/blib/lib:/tmp/loop_over_bdir-2052-LtJjV2/Business-Shipping-DataFiles-1.02-0/blib/arch:/tmp/loop_over_bdir-2052-LtJjV2/Business-Shipping-DataFiles-1.02-0/blib/lib:/tmp/loop_over_bdir-2052-LtJjV2/App-nrun-v1.1.2-0/blib/arch:/tmp/loop_over_bdir-2052-LtJjV2/App-nrun-v1.1.2-0/blib/lib:/tmp/loop_over_bdir-2052-LtJjV2/Net-Async-WebService-lxd-0.03-0/blib/arch:/tmp/loop_over_bdir-2052-LtJjV2/Net-Async-WebService-lxd-0.03-0/blib/lib:/tmp/loop_over_bdir-2052-LtJjV2/downsexta-0/blib/arch:/tmp/loop_over_bdir-2052-LtJjV2/downsexta-0/blib/lib:/tmp/loop_over_bdir-2052-LtJjV2/js-app-0.13-0/blib/arch:/tmp/loop_over_bdir-2052-LtJjV2/js-app-0.13-0/blib/lib:/tmp/loop_over_bdir-2052-LtJjV2/RackMan-1.19-0/blib/arch:/tmp/loop_over_bdir-2052-LtJjV2/RackMan-1.19-0/blib/lib:/tmp/loop_over_bdir-2052-LtJjV2/Captive-Portal-4.10-0/blib/arch:/tmp/loop_over_bdir-2052-LtJjV2/Captive-Portal-4.10-0/blib/lib:/tmp/loop_over_bdir-2052-LtJjV2/LCFG-Build-Tools-0.9.30-0/blib/arch:/tmp/loop_over_bdir-2052-LtJjV2/LCFG-Build-Tools-0.9.30-0/blib/lib:/tmp/loop_over_bdir-2052-LtJjV2/EJBCA-CrlPublish-0.60-0/blib/arch:/tmp/loop_over_bdir-2052-LtJjV2/EJBCA-CrlPublish-0.60-0/blib/lib:/tmp/loop_over_bdir-2052-LtJjV2/Net-OpenVPN-DDNS-0.1-0/blib/arch:/tmp/loop_over_bdir-2052-LtJjV2/Net-OpenVPN-DDNS-0.1-0/blib/lib:/tmp/loop_over_bdir-2052-LtJjV2/Lemonldap-NG-Cli-0.2-0/blib/arch:/tmp/loop_over_bdir-2052-LtJjV2/Lemonldap-NG-Cli-0.2-0/blib/lib:/tmp/loop_over_bdir-2052-LtJjV2/Alien-SNMP-MIBDEV-2.020000-0/blib/arch:/tmp/loop_over_bdir-2052-LtJjV2/Alien-SNMP-MIBDEV-2.020000-0/blib/lib:/tmp/loop_over_bdir-2052-LtJjV2/Linux-InitFS-0.2-0/blib/arch:/tmp/loop_over_bdir-2052-LtJjV2/Linux-InitFS-0.2-0/blib/lib:/tmp/loop_over_bdir-2052-LtJjV2/makepp-1.19-0/blib/arch:/tmp/loop_over_bdir-2052-LtJjV2/makepp-1.19-0/blib/lib:/tmp/loop_over_bdir-2052-LtJjV2/Net-ISP-Balance-1.31-0/blib/arch:/tmp/loop_over_bdir-2052-LtJjV2/Net-ISP-Balance-1.31-0/blib/lib:/tmp/loop_over_bdir-2052-LtJjV2/dta-tokwrap-0.98-0/blib/arch:/tmp/loop_over_bdir-2052-LtJjV2/dta-tokwrap-0.98-0/blib/lib:/tmp/loop_over_bdir-2052-LtJjV2/ProjectBuilder-0.14.1-0/blib/arch:/tmp/loop_over_bdir-2052-LtJjV2/ProjectBuilder-0.14.1-0/blib/lib:/tmp/loop_over_bdir-2052-LtJjV2/Dpkg-1.22.1-0/blib/arch:/tmp/loop_over_bdir-2052-LtJjV2/Dpkg-1.22.1-0/blib/lib:/tmp/loop_over_bdir-2052-LtJjV2/App-oo_modulino_zsh_completion_helper-0.04-0/blib/arch:/tmp/loop_over_bdir-2052-LtJjV2/App-oo_modulino_zsh_completion_helper-0.04-0/blib/lib:/tmp/loop_over_bdir-2052-LtJjV2/HTML-Menu-TreeView-1.22-0/blib/arch:/tmp/loop_over_bdir-2052-LtJjV2/HTML-Menu-TreeView-1.22-0/blib/lib:/tmp/loop_over_bdir-2052-LtJjV2/LCFG-Build-Skeleton-0.5.0-0/blib/arch:/tmp/loop_over_bdir-2052-LtJjV2/LCFG-Build-Skeleton-0.5.0-0/blib/lib:/tmp/loop_over_bdir-2052-LtJjV2/AllKnowingDNS-1.7-0/blib/arch:/tmp/loop_over_bdir-2052-LtJjV2/AllKnowingDNS-1.7-0/blib/lib:/tmp/loop_over_bdir-2052-LtJjV2/mmds-1.902-0/blib/arch:/tmp/loop_over_bdir-2052-LtJjV2/mmds-1.902-0/blib/lib:/tmp/loop_over_bdir-2052-LtJjV2/Simulation-Automate-1.0.1-0/blib/arch:/tmp/loop_over_bdir-2052-LtJjV2/Simulation-Automate-1.0.1-0/blib/lib:/tmp/loop_over_bdir-2052-LtJjV2/App-rmcd-0.280-0/blib/arch:/tmp/loop_over_bdir-2052-LtJjV2/App-rmcd-0.280-0/blib/lib:/tmp/loop_over_bdir-2052-LtJjV2/WWW-Mechanize-Chrome-DOMops-0.06-0/blib/arch:/tmp/loop_over_bdir-2052-LtJjV2/WWW-Mechanize-Chrome-DOMops-0.06-0/blib/lib:/tmp/loop_over_bdir-2052-LtJjV2/NoZone-1.3-0/blib/arch:/tmp/loop_over_bdir-2052-LtJjV2/NoZone-1.3-0/blib/lib:/tmp/loop_over_bdir-2052-LtJjV2/Debian-Packages-0.03-0/blib/arch:/tmp/loop_over_bdir-2052-LtJjV2/Debian-Packages-0.03-0/blib/lib:/tmp/loop_over_bdir-2052-LtJjV2/Lingua-BioYaTeA-0.11-0/blib/arch:/tmp/loop_over_bdir-2052-LtJjV2/Lingua-BioYaTeA-0.11-0/blib/lib:/tmp/loop_over_bdir-2052-LtJjV2/Lingua-YaTeA-0.626-0/blib/arch:/tmp/loop_over_bdir-2052-LtJjV2/Lingua-YaTeA-0.626-0/blib/lib:/tmp/loop_over_bdir-2052-LtJjV2/Devel-Required-0.16-0/blib/arch:/tmp/loop_over_bdir-2052-LtJjV2/Devel-Required-0.16-0/blib/lib:/tmp/loop_over_bdir-2052-LtJjV2/LiquidWeb-Storm-CLI-1.03-0/blib/arch:/tmp/loop_over_bdir-2052-LtJjV2/LiquidWeb-Storm-CLI-1.03-0/blib/lib:/tmp/loop_over_bdir-2052-LtJjV2/perl-Hardware-UPS-Perl-0.43-0/blib/arch:/tmp/loop_over_bdir-2052-LtJjV2/perl-Hardware-UPS-Perl-0.43-0/blib/lib:/tmp/loop_over_bdir-2052-LtJjV2/Sysync-0.35-0/blib/arch:/tmp/loop_over_bdir-2052-LtJjV2/Sysync-0.35-0/blib/lib
PERL5OPT =
PERL5_CPANPLUS_IS_RUNNING = 2060
PERL5_CPAN_IS_RUNNING = 2060
PERL_CANARY_STABILITY_NOPROMPT = 1
PERL_MM_USE_DEFAULT = 1
PERL_USE_UNSAFE_INC = 1
SHELL = /usr/bin/zsh
TERM = screen
Perl special variables (and OS-specific diagnostics, for MSWin32):
$^X = /tmp/basesmoker-reloperl-8hMG/bin/perl
$UID/$EUID = 1005 / 1005
$GID = 1005 1005
$EGID = 1005 1005
Perl module toolchain versions installed:
Module Have
------------------- --------
CPAN 2.36
CPAN::Meta 2.150010
Cwd 3.89
ExtUtils::CBuilder 0.280238
ExtUtils::Command 7.70
ExtUtils::Install 2.22
ExtUtils::MakeMaker 7.70
ExtUtils::Manifest 1.75
ExtUtils::ParseXS 3.51
File::Spec 3.88
JSON 4.10
JSON::PP 4.16
Module::Build 0.4234
Module::Signature 0.88
Parse::CPAN::Meta 2.150010
Test2 1.302197
Test::Harness 3.48
Test::More 1.302197
YAML 1.30
YAML::Syck 1.34
version 0.9930
--
Summary of my perl5 (revision 5 version 38 subversion 2) configuration:
Commit id: 55dd2f792ffc8cefe614350a411f785374281b24
Platform:
osname=linux
osvers=5.4.0-167-generic
archname=x86_64-linux
uname='linux k93focal 5.4.0-167-generic #184-ubuntu smp tue oct 31 09:21:49 utc 2023 x86_64 x86_64 x86_64 gnulinux '
config_args='-Dprefix=/home/sand/src/perl/repoperls/installed-perls/host/k93focal/v5.38.2/b254 -Dmyhostname=k93focal -Dinstallusrbinperl=n -Uversiononly -Dusedevel -des -Ui_db -Dlibswanted=cl pthread socket inet nsl gdbm dbm malloc dl ld sun m crypt sec util c cposix posix ucb BSD gdbm_compat -Uuseithreads -Uuselongdouble -DEBUGGING=both'
hint=recommended
useposix=true
d_sigaction=define
useithreads=undef
usemultiplicity=undef
use64bitint=define
use64bitall=define
uselongdouble=undef
usemymalloc=n
default_inc_excludes_dot=define
Compiler:
cc='cc'
ccflags ='-fwrapv -DDEBUGGING -fno-strict-aliasing -pipe -fstack-protector-strong -I/usr/local/include -D_LARGEFILE_SOURCE -D_FILE_OFFSET_BITS=64'
optimize='-O2 -g'
cppflags='-fwrapv -DDEBUGGING -fno-strict-aliasing -pipe -fstack-protector-strong -I/usr/local/include'
ccversion=''
gccversion='9.4.0'
gccosandvers=''
intsize=4
longsize=8
ptrsize=8
doublesize=8
byteorder=12345678
doublekind=3
d_longlong=define
longlongsize=8
d_longdbl=define
longdblsize=16
longdblkind=3
ivtype='long'
ivsize=8
nvtype='double'
nvsize=8
Off_t='off_t'
lseeksize=8
alignbytes=8
prototype=define
Linker and Libraries:
ld='cc'
ldflags =' -fstack-protector-strong -L/usr/local/lib'
libpth=/usr/local/lib /usr/lib/x86_64-linux-gnu /usr/lib /usr/lib64
libs=-lpthread -lnsl -ldl -lm -lcrypt -lutil -lc
perllibs=-lpthread -lnsl -ldl -lm -lcrypt -lutil -lc
libc=libc-2.31.so
so=so
useshrplib=false
libperl=libperl.a
gnulibc_version='2.31'
Dynamic Linking:
dlsrc=dl_dlopen.xs
dlext=so
d_dlsymun=undef
ccdlflags='-Wl,-E'
cccdlflags='-fPIC'
lddlflags='-shared -O2 -g -L/usr/local/lib -fstack-protector-strong'
Characteristics of this binary (from libperl):
Compile-time options:
DEBUGGING
HAS_LONG_DOUBLE
HAS_STRTOLD
HAS_TIMES
PERLIO_LAYERS
PERL_COPY_ON_WRITE
PERL_DONT_CREATE_GVSV
PERL_HASH_FUNC_SIPHASH13
PERL_HASH_USE_SBOX32
PERL_MALLOC_WRAP
PERL_OP_PARENT
PERL_PRESERVE_IVUV
PERL_USE_DEVEL
PERL_USE_SAFE_PUTENV
USE_64_BIT_ALL
USE_64_BIT_INT
USE_LARGE_FILES
USE_LOCALE
USE_LOCALE_COLLATE
USE_LOCALE_CTYPE
USE_LOCALE_NUMERIC
USE_LOCALE_TIME
USE_PERLIO
USE_PERL_ATOF
Built under linux
Compiled at Nov 29 2023 18:51:30
%ENV:
PERL="/tmp/basesmoker-reloperl-8hMG/bin/perl"
PERL5LIB="/tmp/loop_over_bdir-2052-LtJjV2/CGI-Application-NetNewsIface-0.0204-0/blib/arch:/tmp/loop_over_bdir-2052-LtJjV2/CGI-Application-NetNewsIface-0.0204-0/blib/lib:/tmp/loop_over_bdir-2052-LtJjV2/Business-Shipping-DataFiles-1.02-0/blib/arch:/tmp/loop_over_bdir-2052-LtJjV2/Business-Shipping-DataFiles-1.02-0/blib/lib:/tmp/loop_over_bdir-2052-LtJjV2/App-nrun-v1.1.2-0/blib/arch:/tmp/loop_over_bdir-2052-LtJjV2/App-nrun-v1.1.2-0/blib/lib:/tmp/loop_over_bdir-2052-LtJjV2/Net-Async-WebService-lxd-0.03-0/blib/arch:/tmp/loop_over_bdir-2052-LtJjV2/Net-Async-WebService-lxd-0.03-0/blib/lib:/tmp/loop_over_bdir-2052-LtJjV2/downsexta-0/blib/arch:/tmp/loop_over_bdir-2052-LtJjV2/downsexta-0/blib/lib:/tmp/loop_over_bdir-2052-LtJjV2/js-app-0.13-0/blib/arch:/tmp/loop_over_bdir-2052-LtJjV2/js-app-0.13-0/blib/lib:/tmp/loop_over_bdir-2052-LtJjV2/RackMan-1.19-0/blib/arch:/tmp/loop_over_bdir-2052-LtJjV2/RackMan-1.19-0/blib/lib:/tmp/loop_over_bdir-2052-LtJjV2/Captive-Portal-4.10-0/blib/arch:/tmp/loop_over_bdir-2052-LtJjV2/Captive-Portal-4.10-0/blib/lib:/tmp/loop_over_bdir-2052-LtJjV2/LCFG-Build-Tools-0.9.30-0/blib/arch:/tmp/loop_over_bdir-2052-LtJjV2/LCFG-Build-Tools-0.9.30-0/blib/lib:/tmp/loop_over_bdir-2052-LtJjV2/EJBCA-CrlPublish-0.60-0/blib/arch:/tmp/loop_over_bdir-2052-LtJjV2/EJBCA-CrlPublish-0.60-0/blib/lib:/tmp/loop_over_bdir-2052-LtJjV2/Net-OpenVPN-DDNS-0.1-0/blib/arch:/tmp/loop_over_bdir-2052-LtJjV2/Net-OpenVPN-DDNS-0.1-0/blib/lib:/tmp/loop_over_bdir-2052-LtJjV2/Lemonldap-NG-Cli-0.2-0/blib/arch:/tmp/loop_over_bdir-2052-LtJjV2/Lemonldap-NG-Cli-0.2-0/blib/lib:/tmp/loop_over_bdir-2052-LtJjV2/Alien-SNMP-MIBDEV-2.020000-0/blib/arch:/tmp/loop_over_bdir-2052-LtJjV2/Alien-SNMP-MIBDEV-2.020000-0/blib/lib:/tmp/loop_over_bdir-2052-LtJjV2/Linux-InitFS-0.2-0/blib/arch:/tmp/loop_over_bdir-2052-LtJjV2/Linux-InitFS-0.2-0/blib/lib:/tmp/loop_over_bdir-2052-LtJjV2/makepp-1.19-0/blib/arch:/tmp/loop_over_bdir-2052-LtJjV2/makepp-1.19-0/blib/lib:/tmp/loop_over_bdir-2052-LtJjV2/Net-ISP-Balance-1.31-0/blib/arch:/tmp/loop_over_bdir-2052-LtJjV2/Net-ISP-Balance-1.31-0/blib/lib:/tmp/loop_over_bdir-2052-LtJjV2/dta-tokwrap-0.98-0/blib/arch:/tmp/loop_over_bdir-2052-LtJjV2/dta-tokwrap-0.98-0/blib/lib:/tmp/loop_over_bdir-2052-LtJjV2/ProjectBuilder-0.14.1-0/blib/arch:/tmp/loop_over_bdir-2052-LtJjV2/ProjectBuilder-0.14.1-0/blib/lib:/tmp/loop_over_bdir-2052-LtJjV2/Dpkg-1.22.1-0/blib/arch:/tmp/loop_over_bdir-2052-LtJjV2/Dpkg-1.22.1-0/blib/lib:/tmp/loop_over_bdir-2052-LtJjV2/App-oo_modulino_zsh_completion_helper-0.04-0/blib/arch:/tmp/loop_over_bdir-2052-LtJjV2/App-oo_modulino_zsh_completion_helper-0.04-0/blib/lib:/tmp/loop_over_bdir-2052-LtJjV2/HTML-Menu-TreeView-1.22-0/blib/arch:/tmp/loop_over_bdir-2052-LtJjV2/HTML-Menu-TreeView-1.22-0/blib/lib:/tmp/loop_over_bdir-2052-LtJjV2/LCFG-Build-Skeleton-0.5.0-0/blib/arch:/tmp/loop_over_bdir-2052-LtJjV2/LCFG-Build-Skeleton-0.5.0-0/blib/lib:/tmp/loop_over_bdir-2052-LtJjV2/AllKnowingDNS-1.7-0/blib/arch:/tmp/loop_over_bdir-2052-LtJjV2/AllKnowingDNS-1.7-0/blib/lib:/tmp/loop_over_bdir-2052-LtJjV2/mmds-1.902-0/blib/arch:/tmp/loop_over_bdir-2052-LtJjV2/mmds-1.902-0/blib/lib:/tmp/loop_over_bdir-2052-LtJjV2/Simulation-Automate-1.0.1-0/blib/arch:/tmp/loop_over_bdir-2052-LtJjV2/Simulation-Automate-1.0.1-0/blib/lib:/tmp/loop_over_bdir-2052-LtJjV2/App-rmcd-0.280-0/blib/arch:/tmp/loop_over_bdir-2052-LtJjV2/App-rmcd-0.280-0/blib/lib:/tmp/loop_over_bdir-2052-LtJjV2/WWW-Mechanize-Chrome-DOMops-0.06-0/blib/arch:/tmp/loop_over_bdir-2052-LtJjV2/WWW-Mechanize-Chrome-DOMops-0.06-0/blib/lib:/tmp/loop_over_bdir-2052-LtJjV2/NoZone-1.3-0/blib/arch:/tmp/loop_over_bdir-2052-LtJjV2/NoZone-1.3-0/blib/lib:/tmp/loop_over_bdir-2052-LtJjV2/Debian-Packages-0.03-0/blib/arch:/tmp/loop_over_bdir-2052-LtJjV2/Debian-Packages-0.03-0/blib/lib:/tmp/loop_over_bdir-2052-LtJjV2/Lingua-BioYaTeA-0.11-0/blib/arch:/tmp/loop_over_bdir-2052-LtJjV2/Lingua-BioYaTeA-0.11-0/blib/lib:/tmp/loop_over_bdir-2052-LtJjV2/Lingua-YaTeA-0.626-0/blib/arch:/tmp/loop_over_bdir-2052-LtJjV2/Lingua-YaTeA-0.626-0/blib/lib:/tmp/loop_over_bdir-2052-LtJjV2/Devel-Required-0.16-0/blib/arch:/tmp/loop_over_bdir-2052-LtJjV2/Devel-Required-0.16-0/blib/lib:/tmp/loop_over_bdir-2052-LtJjV2/LiquidWeb-Storm-CLI-1.03-0/blib/arch:/tmp/loop_over_bdir-2052-LtJjV2/LiquidWeb-Storm-CLI-1.03-0/blib/lib:/tmp/loop_over_bdir-2052-LtJjV2/perl-Hardware-UPS-Perl-0.43-0/blib/arch:/tmp/loop_over_bdir-2052-LtJjV2/perl-Hardware-UPS-Perl-0.43-0/blib/lib:/tmp/loop_over_bdir-2052-LtJjV2/Sysync-0.35-0/blib/arch:/tmp/loop_over_bdir-2052-LtJjV2/Sysync-0.35-0/blib/lib"
PERL5OPT=""
PERL5_CPANPLUS_IS_RUNNING="2060"
PERL5_CPAN_IS_RUNNING="2060"
PERL_CANARY_STABILITY_NOPROMPT="1"
PERL_MM_USE_DEFAULT="1"
PERL_USE_UNSAFE_INC="1"
@INC:
/tmp/loop_over_bdir-2052-LtJjV2/CGI-Application-NetNewsIface-0.0204-0/blib/arch
/tmp/loop_over_bdir-2052-LtJjV2/CGI-Application-NetNewsIface-0.0204-0/blib/lib
/tmp/loop_over_bdir-2052-LtJjV2/Business-Shipping-DataFiles-1.02-0/blib/arch
/tmp/loop_over_bdir-2052-LtJjV2/Business-Shipping-DataFiles-1.02-0/blib/lib
/tmp/loop_over_bdir-2052-LtJjV2/App-nrun-v1.1.2-0/blib/arch
/tmp/loop_over_bdir-2052-LtJjV2/App-nrun-v1.1.2-0/blib/lib
/tmp/loop_over_bdir-2052-LtJjV2/Net-Async-WebService-lxd-0.03-0/blib/arch
/tmp/loop_over_bdir-2052-LtJjV2/Net-Async-WebService-lxd-0.03-0/blib/lib
/tmp/loop_over_bdir-2052-LtJjV2/downsexta-0/blib/arch
/tmp/loop_over_bdir-2052-LtJjV2/downsexta-0/blib/lib
/tmp/loop_over_bdir-2052-LtJjV2/js-app-0.13-0/blib/arch
/tmp/loop_over_bdir-2052-LtJjV2/js-app-0.13-0/blib/lib
/tmp/loop_over_bdir-2052-LtJjV2/RackMan-1.19-0/blib/arch
/tmp/loop_over_bdir-2052-LtJjV2/RackMan-1.19-0/blib/lib
/tmp/loop_over_bdir-2052-LtJjV2/Captive-Portal-4.10-0/blib/arch
/tmp/loop_over_bdir-2052-LtJjV2/Captive-Portal-4.10-0/blib/lib
/tmp/loop_over_bdir-2052-LtJjV2/LCFG-Build-Tools-0.9.30-0/blib/arch
/tmp/loop_over_bdir-2052-LtJjV2/LCFG-Build-Tools-0.9.30-0/blib/lib
/tmp/loop_over_bdir-2052-LtJjV2/EJBCA-CrlPublish-0.60-0/blib/arch
/tmp/loop_over_bdir-2052-LtJjV2/EJBCA-CrlPublish-0.60-0/blib/lib
/tmp/loop_over_bdir-2052-LtJjV2/Net-OpenVPN-DDNS-0.1-0/blib/arch
/tmp/loop_over_bdir-2052-LtJjV2/Net-OpenVPN-DDNS-0.1-0/blib/lib
/tmp/loop_over_bdir-2052-LtJjV2/Lemonldap-NG-Cli-0.2-0/blib/arch
/tmp/loop_over_bdir-2052-LtJjV2/Lemonldap-NG-Cli-0.2-0/blib/lib
/tmp/loop_over_bdir-2052-LtJjV2/Alien-SNMP-MIBDEV-2.020000-0/blib/arch
/tmp/loop_over_bdir-2052-LtJjV2/Alien-SNMP-MIBDEV-2.020000-0/blib/lib
/tmp/loop_over_bdir-2052-LtJjV2/Linux-InitFS-0.2-0/blib/arch
/tmp/loop_over_bdir-2052-LtJjV2/Linux-InitFS-0.2-0/blib/lib
/tmp/loop_over_bdir-2052-LtJjV2/makepp-1.19-0/blib/arch
/tmp/loop_over_bdir-2052-LtJjV2/makepp-1.19-0/blib/lib
/tmp/loop_over_bdir-2052-LtJjV2/Net-ISP-Balance-1.31-0/blib/arch
/tmp/loop_over_bdir-2052-LtJjV2/Net-ISP-Balance-1.31-0/blib/lib
/tmp/loop_over_bdir-2052-LtJjV2/dta-tokwrap-0.98-0/blib/arch
/tmp/loop_over_bdir-2052-LtJjV2/dta-tokwrap-0.98-0/blib/lib
/tmp/loop_over_bdir-2052-LtJjV2/ProjectBuilder-0.14.1-0/blib/arch
/tmp/loop_over_bdir-2052-LtJjV2/ProjectBuilder-0.14.1-0/blib/lib
/tmp/loop_over_bdir-2052-LtJjV2/Dpkg-1.22.1-0/blib/arch
/tmp/loop_over_bdir-2052-LtJjV2/Dpkg-1.22.1-0/blib/lib
/tmp/loop_over_bdir-2052-LtJjV2/App-oo_modulino_zsh_completion_helper-0.04-0/blib/arch
/tmp/loop_over_bdir-2052-LtJjV2/App-oo_modulino_zsh_completion_helper-0.04-0/blib/lib
/tmp/loop_over_bdir-2052-LtJjV2/HTML-Menu-TreeView-1.22-0/blib/arch
/tmp/loop_over_bdir-2052-LtJjV2/HTML-Menu-TreeView-1.22-0/blib/lib
/tmp/loop_over_bdir-2052-LtJjV2/LCFG-Build-Skeleton-0.5.0-0/blib/arch
/tmp/loop_over_bdir-2052-LtJjV2/LCFG-Build-Skeleton-0.5.0-0/blib/lib
/tmp/loop_over_bdir-2052-LtJjV2/AllKnowingDNS-1.7-0/blib/arch
/tmp/loop_over_bdir-2052-LtJjV2/AllKnowingDNS-1.7-0/blib/lib
/tmp/loop_over_bdir-2052-LtJjV2/mmds-1.902-0/blib/arch
/tmp/loop_over_bdir-2052-LtJjV2/mmds-1.902-0/blib/lib
/tmp/loop_over_bdir-2052-LtJjV2/Simulation-Automate-1.0.1-0/blib/arch
/tmp/loop_over_bdir-2052-LtJjV2/Simulation-Automate-1.0.1-0/blib/lib
/tmp/loop_over_bdir-2052-LtJjV2/App-rmcd-0.280-0/blib/arch
/tmp/loop_over_bdir-2052-LtJjV2/App-rmcd-0.280-0/blib/lib
/tmp/loop_over_bdir-2052-LtJjV2/WWW-Mechanize-Chrome-DOMops-0.06-0/blib/arch
/tmp/loop_over_bdir-2052-LtJjV2/WWW-Mechanize-Chrome-DOMops-0.06-0/blib/lib
/tmp/loop_over_bdir-2052-LtJjV2/NoZone-1.3-0/blib/arch
/tmp/loop_over_bdir-2052-LtJjV2/NoZone-1.3-0/blib/lib
/tmp/loop_over_bdir-2052-LtJjV2/Debian-Packages-0.03-0/blib/arch
/tmp/loop_over_bdir-2052-LtJjV2/Debian-Packages-0.03-0/blib/lib
/tmp/loop_over_bdir-2052-LtJjV2/Lingua-BioYaTeA-0.11-0/blib/arch
/tmp/loop_over_bdir-2052-LtJjV2/Lingua-BioYaTeA-0.11-0/blib/lib
/tmp/loop_over_bdir-2052-LtJjV2/Lingua-YaTeA-0.626-0/blib/arch
/tmp/loop_over_bdir-2052-LtJjV2/Lingua-YaTeA-0.626-0/blib/lib
/tmp/loop_over_bdir-2052-LtJjV2/Devel-Required-0.16-0/blib/arch
/tmp/loop_over_bdir-2052-LtJjV2/Devel-Required-0.16-0/blib/lib
/tmp/loop_over_bdir-2052-LtJjV2/LiquidWeb-Storm-CLI-1.03-0/blib/arch
/tmp/loop_over_bdir-2052-LtJjV2/LiquidWeb-Storm-CLI-1.03-0/blib/lib
/tmp/loop_over_bdir-2052-LtJjV2/perl-Hardware-UPS-Perl-0.43-0/blib/arch
/tmp/loop_over_bdir-2052-LtJjV2/perl-Hardware-UPS-Perl-0.43-0/blib/lib
/tmp/loop_over_bdir-2052-LtJjV2/Sysync-0.35-0/blib/arch
/tmp/loop_over_bdir-2052-LtJjV2/Sysync-0.35-0/blib/lib
/home/sand/src/perl/repoperls/installed-perls/host/k93focal/v5.38.2/b254/lib/site_perl/5.38.2/x86_64-linux
/home/sand/src/perl/repoperls/installed-perls/host/k93focal/v5.38.2/b254/lib/site_perl/5.38.2
/home/sand/src/perl/repoperls/installed-perls/host/k93focal/v5.38.2/b254/lib/5.38.2/x86_64-linux
/home/sand/src/perl/repoperls/installed-perls/host/k93focal/v5.38.2/b254/lib/5.38.2
.