libwww-perl v6.72 Perl 5 v5.39.2 x86_64-linux
- Status
- Pass
- From
- John SJ Anderson
- Dist
-
libwww-perl v6.72
- Platform
- Perl 5 v5.39.2 x86_64-linux
- Date
- 2023-08-21 18:01:36
- ID
- c512f9d4-404c-11ee-a48e-f3bbd6ffe3e0
This distribution has been tested as part of the CPAN Testers
project, supporting the Perl programming language. See
http://wiki.cpantesters.org/ for more information or email
questions to cpan-testers-discuss@perl.org
--
Dear OALDERS,
This is a computer-generated report for libwww-perl-6.72
on perl 5.39.2, created by App::cpanminus::reporter 0.21 (1.7047).
Thank you for uploading your work to CPAN. Congratulations!
All tests were successful.
Sections of this report:
* Tester comments
* Program output
* Prerequisites
* Environment and other context
------------------------------
TESTER COMMENTS
------------------------------
Additional comments from tester:
none provided
------------------------------
PROGRAM OUTPUT
------------------------------
Output from '':
Building and testing libwww-perl-6.72
cp lwptut.pod blib/lib/lwptut.pod
cp lib/LWP/Protocol/loopback.pm blib/lib/LWP/Protocol/loopback.pm
cp lib/LWP/RobotUA.pm blib/lib/LWP/RobotUA.pm
cp lib/LWP/Debug.pm blib/lib/LWP/Debug.pm
cp lib/LWP/Authen/Digest.pm blib/lib/LWP/Authen/Digest.pm
cp lib/LWP/Protocol/nogo.pm blib/lib/LWP/Protocol/nogo.pm
cp lib/LWP/ConnCache.pm blib/lib/LWP/ConnCache.pm
cp lib/LWP/Simple.pm blib/lib/LWP/Simple.pm
cp lib/LWP/Protocol/mailto.pm blib/lib/LWP/Protocol/mailto.pm
cp lib/LWP/DebugFile.pm blib/lib/LWP/DebugFile.pm
cp lib/LWP.pm blib/lib/LWP.pm
cp lib/LWP/Protocol/nntp.pm blib/lib/LWP/Protocol/nntp.pm
cp lwpcook.pod blib/lib/lwpcook.pod
cp lib/LWP/Authen/Ntlm.pm blib/lib/LWP/Authen/Ntlm.pm
cp lib/LWP/Debug/TraceHTTP.pm blib/lib/LWP/Debug/TraceHTTP.pm
cp lib/LWP/Protocol/http.pm blib/lib/LWP/Protocol/http.pm
cp lib/LWP/Protocol/data.pm blib/lib/LWP/Protocol/data.pm
cp lib/LWP/Protocol/file.pm blib/lib/LWP/Protocol/file.pm
cp lib/LWP/MemberMixin.pm blib/lib/LWP/MemberMixin.pm
cp lib/LWP/UserAgent.pm blib/lib/LWP/UserAgent.pm
cp lib/LWP/Protocol/gopher.pm blib/lib/LWP/Protocol/gopher.pm
cp lib/LWP/Protocol/ftp.pm blib/lib/LWP/Protocol/ftp.pm
cp lib/LWP/Protocol/cpan.pm blib/lib/LWP/Protocol/cpan.pm
cp lib/LWP/Protocol.pm blib/lib/LWP/Protocol.pm
cp lib/LWP/Authen/Basic.pm blib/lib/LWP/Authen/Basic.pm
cp bin/lwp-download blib/script/lwp-download
"/opt/plenv/versions/5.39.2/bin/perl5.39.2" -MExtUtils::MY -e 'MY->fixin(shift)' -- blib/script/lwp-download
cp bin/lwp-dump blib/script/lwp-dump
"/opt/plenv/versions/5.39.2/bin/perl5.39.2" -MExtUtils::MY -e 'MY->fixin(shift)' -- blib/script/lwp-dump
cp bin/lwp-mirror blib/script/lwp-mirror
"/opt/plenv/versions/5.39.2/bin/perl5.39.2" -MExtUtils::MY -e 'MY->fixin(shift)' -- blib/script/lwp-mirror
cp bin/lwp-request blib/script/lwp-request
"/opt/plenv/versions/5.39.2/bin/perl5.39.2" -MExtUtils::MY -e 'MY->fixin(shift)' -- blib/script/lwp-request
Manifying 4 pod documents
Manifying 11 pod documents
PERL_DL_NONLAZY=1 "/opt/plenv/versions/5.39.2/bin/perl5.39.2" "-MExtUtils::Command::MM" "-MTest::Harness" "-e" "undef *Test::Harness::Switches; test_harness(0, 'blib/lib', 'blib/arch')" t/*.t t/base/*.t t/base/protocols/*.t t/leak/*.t t/local/*.t t/robot/*.t
#
# Versions for all modules listed in MYMETA.json (including optional ones):
#
# === Configure Requires ===
#
# Module Want Have
# ------------------- ---- ----
# ExtUtils::MakeMaker any 7.70
# File::Copy any 2.41
# Getopt::Long any 2.54
#
# === Configure Suggests ===
#
# Module Want Have
# -------- ------- ----
# JSON::PP 2.27300 4.16
#
# === Build Requires ===
#
# Module Want Have
# ------------------- ---- ----
# ExtUtils::MakeMaker any 7.70
#
# === Test Requires ===
#
# Module Want Have
# ---------------------- ---- --------
# ExtUtils::MakeMaker any 7.70
# File::Spec any 3.90
# FindBin any 1.53
# HTTP::Daemon 6.12 6.16
# Test::Fatal any 0.017
# Test::More 0.96 1.302195
# Test::Needs any 0.002010
# Test::RequiresInternet any 0.05
#
# === Test Recommends ===
#
# Module Want Have
# --------------- -------- --------
# CPAN::Meta 2.120900 2.150010
# Test::LeakTrace any 0.17
#
# === Runtime Requires ===
#
# Module Want Have
# --------------------- -------- --------
# Digest::MD5 any 2.58_01
# Encode 2.12 3.19
# Encode::Locale any 1.05
# File::Copy any 2.41
# File::Listing 6 6.16
# File::Temp any 0.2311
# Getopt::Long any 2.54
# HTML::Entities any 3.81
# HTML::HeadParser 3.71 3.81
# HTTP::CookieJar::LWP any 0.014
# HTTP::Cookies 6 6.10
# HTTP::Date 6 6.06
# HTTP::Negotiate 6 6.01
# HTTP::Request 6.18 6.44
# HTTP::Request::Common 6.18 6.44
# HTTP::Response 6.18 6.44
# HTTP::Status 6.18 6.44
# IO::Select any 1.52
# IO::Socket any 1.52
# LWP::MediaTypes 6 6.04
# MIME::Base64 2.1 3.16_01
# Module::Load any 0.36
# Net::FTP 2.58 3.15
# Net::HTTP 6.18 6.23
# Scalar::Util any 1.63
# Try::Tiny any 0.31
# URI 1.10 5.19
# URI::Escape any 5.19
# WWW::RobotRules 6 6.02
# parent 0.217 0.241
# perl 5.008001 5.039002
# strict any 1.13
# warnings any 1.67
#
# === Runtime Suggests ===
#
# Module Want Have
# -------------------- ---- -------
# Authen::NTLM 1.02 missing
# Data::Dump 1.13 missing
# IO::Socket::INET any 1.52
# LWP::Protocol::https 6.02 missing
#
t/00-report-prereqs.t .......... ok
t/10-attrs.t ................... ok
t/base/default_content_type.t .. ok
t/base/protocols.t ............. ok
t/base/protocols/nntp.t ........ skipped: nntp.perl.org is unstable and Test::RequiresInternet is not catching it
t/base/proxy.t ................. ok
t/base/proxy_request.t ......... ok
t/base/simple.t ................ ok
t/base/ua.t .................... ok
t/base/ua_handlers.t ........... ok
t/leak/no_leak.t ............... ok
t/local/autoload-get.t ......... ok
t/local/autoload.t ............. ok
t/local/cookie_jar.t ........... ok
t/local/download_to_fh.t ....... ok
t/local/get.t .................. ok
t/local/http.t ................. ok
t/local/httpsub.t .............. ok
t/local/protosub.t ............. ok
t/redirect.t ................... ok
t/robot/ua-get.t ............... ok
t/robot/ua.t ................... ok
All tests successful.
Files=22, Tests=311, 25 wallclock secs ( 0.05 usr 0.03 sys + 2.14 cusr 0.36 csys = 2.58 CPU)
Result: PASS
------------------------------
PREREQUISITES
------------------------------
Prerequisite modules loaded:
runtime:
Module Need Have
--------------------- -------- --------
Digest::MD5 0 2.58_01
Encode 2.12 3.19
Encode::Locale 0 1.05
File::Copy 0 2.41
File::Listing 6 6.16
File::Temp 0 0.2311
Getopt::Long 0 2.54
HTML::Entities 0 3.81
HTML::HeadParser 3.71 3.81
HTTP::CookieJar::LWP 0 0.014
HTTP::Cookies 6 6.10
HTTP::Date 6 6.06
HTTP::Negotiate 6 6.01
HTTP::Request 6.18 6.44
HTTP::Request::Common 6.18 6.44
HTTP::Response 6.18 6.44
HTTP::Status 6.18 6.44
IO::Select 0 1.52
IO::Socket 0 1.52
LWP::MediaTypes 6 6.04
MIME::Base64 2.1 3.16_01
Module::Load 0 0.36
Net::FTP 2.58 3.15
Net::HTTP 6.18 6.23
parent 0.217 0.241
perl 5.008001 5.039002
Scalar::Util 0 1.63
strict 0 1.13
Try::Tiny 0 0.31
URI 1.10 5.19
URI::Escape 0 5.19
warnings 0 1.67
WWW::RobotRules 6 6.02
build:
Module Need Have
--------------------- -------- --------
ExtUtils::MakeMaker 0 7.70
configure:
Module Need Have
--------------------- -------- --------
ExtUtils::MakeMaker 0 7.70
File::Copy 0 2.41
Getopt::Long 0 2.54
------------------------------
ENVIRONMENT AND OTHER CONTEXT
------------------------------
Environment variables:
LANG = en_US.UTF-8
LC_ALL = en_US.UTF-8
LC_TERMINAL = iTerm2
LC_TERMINAL_VERSION = 3.4.19
PATH = /opt/plenv/versions/5.39.2/bin:/opt/plenv/libexec:/opt/plenv/plugins/perl-build/bin:/opt/plenv/shims:/home/genehack/bin:/opt/miniconda3/condabin:/opt/plenv/shims:/opt/plenv/bin:/opt/go/bin:/opt/git/bin:/opt/emacs/bin:/opt/local/bin:/usr/local/bin:/usr/bin:/bin:/usr/games
PERL_CPANM_OPT = --skip-installed --prompt
SHELL = /bin/zsh
TERM = screen-256color
Perl special variables (and OS-specific diagnostics, for MSWin32):
EGID = 1001 1001
EUID = 1001
EXECUTABLE_NAME = /opt/plenv/versions/5.39.2/bin/perl5.39.2
GID = 1001 1001
UID = 1001
Perl module toolchain versions installed:
Module Have
------------------- --------
CPAN 2.36
CPAN::Meta 2.150010
Cwd 3.90
ExtUtils::CBuilder 0.280239
ExtUtils::Command 7.70
ExtUtils::Install 2.22
ExtUtils::MakeMaker 7.70
ExtUtils::Manifest 1.75
ExtUtils::ParseXS 3.51
File::Spec 3.90
JSON n/a
JSON::PP 4.16
Module::Build n/a
Module::Signature n/a
Parse::CPAN::Meta 2.150010
Test::Harness 3.47
Test::More 1.302195
YAML n/a
YAML::Syck n/a
version 0.9929
--
Summary of my perl5 (revision 5 version 39 subversion 2) configuration:
Platform:
osname=linux
osvers=5.10.0-20-amd64
archname=x86_64-linux
uname='linux doof 5.10.0-20-amd64 #1 smp debian 5.10.158-2 (2022-12-13) x86_64 gnulinux '
config_args='-Dprefix=/opt/plenv/versions/5.39.2 -de -Dversiononly -Dusedevel -A'eval:scriptdir=/opt/plenv/versions/5.39.2/bin''
hint=recommended
useposix=true
d_sigaction=define
useithreads=undef
usemultiplicity=undef
use64bitint=define
use64bitall=define
uselongdouble=undef
usemymalloc=n
default_inc_excludes_dot=define
Compiler:
cc='cc'
ccflags ='-fwrapv -fno-strict-aliasing -pipe -fstack-protector-strong -I/usr/local/include -D_LARGEFILE_SOURCE -D_FILE_OFFSET_BITS=64 -D_FORTIFY_SOURCE=2'
optimize='-O2'
cppflags='-fwrapv -fno-strict-aliasing -pipe -fstack-protector-strong -I/usr/local/include'
ccversion=''
gccversion='12.2.0'
gccosandvers=''
intsize=4
longsize=8
ptrsize=8
doublesize=8
byteorder=12345678
doublekind=3
d_longlong=define
longlongsize=8
d_longdbl=define
longdblsize=16
longdblkind=3
ivtype='long'
ivsize=8
nvtype='double'
nvsize=8
Off_t='off_t'
lseeksize=8
alignbytes=8
prototype=define
Linker and Libraries:
ld='cc'
ldflags =' -fstack-protector-strong -L/usr/local/lib'
libpth=/usr/local/lib /usr/lib/x86_64-linux-gnu /usr/lib /usr/lib64
libs=-lpthread -lgdbm -ldl -lm -lcrypt -lutil -lc
perllibs=-lpthread -ldl -lm -lcrypt -lutil -lc
libc=/lib/x86_64-linux-gnu/libc.so.6
so=so
useshrplib=false
libperl=libperl.a
gnulibc_version='2.36'
Dynamic Linking:
dlsrc=dl_dlopen.xs
dlext=so
d_dlsymun=undef
ccdlflags='-Wl,-E'
cccdlflags='-fPIC'
lddlflags='-shared -O2 -L/usr/local/lib -fstack-protector-strong'
Characteristics of this binary (from libperl):
Compile-time options:
HAS_LONG_DOUBLE
HAS_STRTOLD
HAS_TIMES
PERLIO_LAYERS
PERL_COPY_ON_WRITE
PERL_DONT_CREATE_GVSV
PERL_HASH_FUNC_SIPHASH13
PERL_HASH_USE_SBOX32
PERL_MALLOC_WRAP
PERL_OP_PARENT
PERL_PRESERVE_IVUV
PERL_USE_DEVEL
PERL_USE_SAFE_PUTENV
USE_64_BIT_ALL
USE_64_BIT_INT
USE_LARGE_FILES
USE_LOCALE
USE_LOCALE_COLLATE
USE_LOCALE_CTYPE
USE_LOCALE_NUMERIC
USE_LOCALE_TIME
USE_PERLIO
USE_PERL_ATOF
Built under linux
Compiled at Aug 21 2023 10:47:35
%ENV:
PERL_CPANM_OPT="--skip-installed --prompt"
@INC:
/opt/plenv/versions/5.39.2/lib/perl5/site_perl/5.39.2/x86_64-linux
/opt/plenv/versions/5.39.2/lib/perl5/site_perl/5.39.2
/opt/plenv/versions/5.39.2/lib/perl5/5.39.2/x86_64-linux
/opt/plenv/versions/5.39.2/lib/perl5/5.39.2