Promise-XS v0.20 Perl 5 v5.41.5 x86_64-linux
- Status
- Pass
- From
- Slaven Rezić
- Dist
-
Promise-XS v0.20
- Platform
- Perl 5 v5.41.5 x86_64-linux
- Date
- 2024-11-15 21:37:10
- ID
- c5351ea4-a399-11ef-9dae-99d96d8775ea
This distribution has been tested as part of the CPAN Testers
project, supporting the Perl programming language. See
http://wiki.cpantesters.org/ for more information or email
questions to cpan-testers-discuss@perl.org
--
Dear Felipe Gasper,
This is a computer-generated report for Promise-XS-0.20
on perl 5.41.5, created by CPAN-Reporter-1.2020.
Thank you for uploading your work to CPAN. Congratulations!
All tests were successful.
Sections of this report:
* Tester comments
* Program output
* Prerequisites
* Environment and other context
------------------------------
TESTER COMMENTS
------------------------------
Additional comments from tester:
none provided
------------------------------
PROGRAM OUTPUT
------------------------------
Output from '/usr/bin/make test':
"/opt/perl-5.41.5/bin/perl5.41.5" -MExtUtils::Command::MM -e 'cp_nonempty' -- XS.bs blib/arch/auto/Promise/XS/XS.bs 644
PERL_DL_NONLAZY=1 "/opt/perl-5.41.5/bin/perl5.41.5" "-MExtUtils::Command::MM" "-MTest::Harness" "-e" "undef *Test::Harness::Switches; test_harness(0, 'blib/lib', 'blib/arch')" t/*.t
t/alias.t ........................ ok
# AnyEvent 7.17
t/anyevent.t ..................... ok
t/aplus.t ........................ ok
# Future::AsyncAwait 0.69
Promise::XS::Promise: Unhandled rejection: Late oopsie
Promise::XS::Promise: Unhandled rejection: Oopsie
t/async_await.t .................. ok
t/async_await__several_awaits.t .. ok
t/async_await__simple.t .......... ok
t/async_await_hold_ref.t ......... ok
# Future::AsyncAwait 0.69
t/async_await_version.t .......... ok
t/await_wait__anyevent.t ......... ok
t/await_wait__ioasync.t .......... ok
t/await_wait__mojo.t ............. ok
t/detect_memory_leaks.t .......... ok
t/finally.t ...................... ok
t/infinite_recursion.t ........... ok
# IO::Async::Loop 0.803
t/ioasync.t ...................... ok
# Mojolicious 9.38
t/mojo.t ......................... ok
t/multi_return.t ................. ok
t/no_leak_stashed_ref.t .......... ok
t/oserror.t ...................... ok
t/promise_all_race.t ............. ok
t/reject_undef.t ................. ok
t/subclass.t ..................... ok
t/sync.t ......................... ok
t/unhandled_rejection.t .......... ok
Useless assignment to a temporary at t/XSPromises.t line 62.
t/XSPromises.t ................... ok
All tests successful.
Files=25, Tests=194, 5 wallclock secs ( 0.13 usr 0.03 sys + 3.02 cusr 0.47 csys = 3.65 CPU)
Result: PASS
------------------------------
PREREQUISITES
------------------------------
Prerequisite modules loaded:
build_requires:
Module Need Have
----------------------------- ---- --------
ExtUtils::MakeMaker 0 7.70
File::Temp 0 0.2311
Test::Deep 0 1.204
Test::FailWarnings 0 0.008
Test::More 0 1.302204
configure_requires:
Module Need Have
----------------------------- ---- --------
ExtUtils::MakeMaker::CPANfile 0.09 0.09
------------------------------
ENVIRONMENT AND OTHER CONTEXT
------------------------------
Environment variables:
LANG = C
PATH = /usr/local/bin:/usr/bin:/bin:/usr/local/sbin:/usr/sbin:/sbin:/home/cpansand/bin/linux-gnu:/home/cpansand/bin/sh:/home/cpansand/bin:/usr/games:/home/cpansand/devel:/home/eserte/src/srezic-misc/scripts
PERL5LIB =
PERL5OPT =
PERL5_CPANPLUS_IS_RUNNING = 1911833
PERL5_CPAN_IS_RUNNING = 1911833
PERL5_CPAN_IS_RUNNING_IN_RECURSION = 1911667,1911833
PERLDOC = -MPod::Perldoc::ToTextOverstrike
PERL_BATCH = yes
PERL_CANARY_STABILITY_NOPROMPT = 1
PERL_CPAN_REPORTER_CONFIG = /var/tmp/cpansmoker-1023/2024111521/cpanreporter_000_config.ini
PERL_EXTUTILS_AUTOINSTALL = --defaultdeps
PERL_USE_UNSAFE_INC = 1
SHELL = /usr/bin/zsh
TERM = screen
TMPDIR = /var/tmp/cpansmoker-1023/2024111521
Perl special variables (and OS-specific diagnostics, for MSWin32):
$^X = /opt/perl-5.41.5/bin/perl5.41.5
$UID/$EUID = 1023 / 1023
$GID = 1023 1023
$EGID = 1023 1023
Perl module toolchain versions installed:
Module Have
------------------- --------
CPAN 2.37
CPAN::Meta 2.150010
Cwd 3.92
ExtUtils::CBuilder 0.280240
ExtUtils::Command 7.70
ExtUtils::Install 2.22
ExtUtils::MakeMaker 7.70
ExtUtils::Manifest 1.75
ExtUtils::ParseXS 3.55
File::Spec 3.93
JSON 4.10
JSON::PP 4.16
Module::Build 0.4234
Module::Signature n/a
Parse::CPAN::Meta 2.150010
Test2 1.302204
Test::Harness 3.50
Test::More 1.302204
YAML 1.31
YAML::Syck 1.34
version 0.9933
--
Summary of my perl5 (revision 5 version 41 subversion 5) configuration:
Platform:
osname=linux
osvers=6.1.0-26-amd64
archname=x86_64-linux
uname='linux cloud5.bbbike.org 6.1.0-26-amd64 #1 smp preempt_dynamic debian 6.1.112-1 (2024-09-30) x86_64 gnulinux '
config_args='-ds -e -Dprefix=/opt/perl-5.41.5 -Uinstallusrbinperl -Dusedevel -Dusemallocwrap=no -Dcf_email=srezic@cpan.org'
hint=recommended
useposix=true
d_sigaction=define
useithreads=undef
usemultiplicity=undef
use64bitint=define
use64bitall=define
uselongdouble=undef
usemymalloc=n
default_inc_excludes_dot=define
Compiler:
cc='cc'
ccflags ='-fwrapv -fno-strict-aliasing -pipe -fstack-protector-strong -I/usr/local/include -D_LARGEFILE_SOURCE -D_FILE_OFFSET_BITS=64 -D_FORTIFY_SOURCE=2'
optimize='-O2'
cppflags='-fwrapv -fno-strict-aliasing -pipe -fstack-protector-strong -I/usr/local/include'
ccversion=''
gccversion='12.2.0'
gccosandvers=''
intsize=4
longsize=8
ptrsize=8
doublesize=8
byteorder=12345678
doublekind=3
d_longlong=define
longlongsize=8
d_longdbl=define
longdblsize=16
longdblkind=3
ivtype='long'
ivsize=8
nvtype='double'
nvsize=8
Off_t='off_t'
lseeksize=8
alignbytes=8
prototype=define
Linker and Libraries:
ld='cc'
ldflags =' -fstack-protector-strong -L/usr/local/lib'
libpth=/usr/local/lib /usr/lib/x86_64-linux-gnu /usr/lib /usr/lib64
libs=-lpthread -lgdbm -ldb -ldl -lm -lcrypt -lutil -lc
perllibs=-lpthread -ldl -lm -lcrypt -lutil -lc
libc=/lib/x86_64-linux-gnu/libc.so.6
so=so
useshrplib=false
libperl=libperl.a
gnulibc_version='2.36'
Dynamic Linking:
dlsrc=dl_dlopen.xs
dlext=so
d_dlsymun=undef
ccdlflags='-Wl,-E'
cccdlflags='-fPIC'
lddlflags='-shared -O2 -L/usr/local/lib -fstack-protector-strong'
Characteristics of this binary (from libperl):
Compile-time options:
HAS_LONG_DOUBLE
HAS_STRTOLD
HAS_TIMES
PERLIO_LAYERS
PERL_COPY_ON_WRITE
PERL_DONT_CREATE_GVSV
PERL_HASH_FUNC_SIPHASH13
PERL_HASH_USE_SBOX32
PERL_OP_PARENT
PERL_PRESERVE_IVUV
PERL_USE_DEVEL
PERL_USE_SAFE_PUTENV
USE_64_BIT_ALL
USE_64_BIT_INT
USE_LARGE_FILES
USE_LOCALE
USE_LOCALE_COLLATE
USE_LOCALE_CTYPE
USE_LOCALE_NUMERIC
USE_LOCALE_TIME
USE_PERLIO
USE_PERL_ATOF
Built under linux
Compiled at Oct 23 2024 05:55:16
%ENV:
PERL5LIB=""
PERL5OPT=""
PERL5_CPANPLUS_IS_RUNNING="1911833"
PERL5_CPAN_IS_RUNNING="1911833"
PERL5_CPAN_IS_RUNNING_IN_RECURSION="1911667,1911833"
PERLDOC="-MPod::Perldoc::ToTextOverstrike"
PERL_BATCH="yes"
PERL_CANARY_STABILITY_NOPROMPT="1"
PERL_CPAN_REPORTER_CONFIG="/var/tmp/cpansmoker-1023/2024111521/cpanreporter_000_config.ini"
PERL_EXTUTILS_AUTOINSTALL="--defaultdeps"
PERL_USE_UNSAFE_INC="1"
@INC:
/opt/perl-5.41.5/lib/site_perl/5.41.5/x86_64-linux
/opt/perl-5.41.5/lib/site_perl/5.41.5
/opt/perl-5.41.5/lib/5.41.5/x86_64-linux
/opt/perl-5.41.5/lib/5.41.5
.