Back
From: metabase:user:320bfe00-2aae-11df-837a-5e0a49663a4f
Subject: PASS DateTime-Format-Epoch-0.16 v5.8.3 GNU/Linux
Date: 2016-04-13T14:19:44Z
This distribution has been tested as part of the CPAN Testers
project, supporting the Perl programming language. See
http://wiki.cpantesters.org/ for more information or email
questions to cpan-testers-discuss@perl.org
--
Dear Alexandr Ciornii,
This is a computer-generated report for DateTime-Format-Epoch-0.16
on perl 5.8.3, created by CPAN-Reporter-1.2015.
Thank you for uploading your work to CPAN. Congratulations!
All tests were successful.
Sections of this report:
* Tester comments
* Program output
* Prerequisites
* Environment and other context
------------------------------
TESTER COMMENTS
------------------------------
Additional comments from tester:
this report is from an automated smoke testing program
and was not reviewed by a human for accuracy
------------------------------
PROGRAM OUTPUT
------------------------------
Output from './Build test':
Math::BigInt: couldn't load specified math lib(s), fallback to Math::BigInt::Calc at /tmp/loop_over_bdir-11963-Z_z10U/DateTime-Format-Epoch-0.16-0/blib/lib/DateTime/Format/Epoch.pm line 13.
# ==> DateTime version = 1.26
# ==> Math::BigInt version = 1.999715
# ==> Math::BigInt lib = Math::BigInt::Calc
# ==> Math::BigInt::Calc version =1.999715
t/001_load.t .... ok
Math::BigInt: couldn't load specified math lib(s), fallback to Math::BigInt::Calc at /tmp/loop_over_bdir-11963-Z_z10U/DateTime-Format-Epoch-0.16-0/blib/lib/DateTime/Format/Epoch.pm line 13.
t/002_format.t .. ok
Math::BigInt: couldn't load specified math lib(s), fallback to Math::BigInt::Calc at /tmp/loop_over_bdir-11963-Z_z10U/DateTime-Format-Epoch-0.16-0/blib/lib/DateTime/Format/Epoch.pm line 13.
t/003_bigint.t .. ok
Math::BigInt: couldn't load specified math lib(s), fallback to Math::BigInt::Calc at /tmp/loop_over_bdir-11963-Z_z10U/DateTime-Format-Epoch-0.16-0/blib/lib/DateTime/Format/Epoch.pm line 13.
t/004_nano.t .... ok
Math::BigInt: couldn't load specified math lib(s), fallback to Math::BigInt::Calc at /tmp/loop_over_bdir-11963-Z_z10U/DateTime-Format-Epoch-0.16-0/blib/lib/DateTime/Format/Epoch.pm line 13.
t/005_leap.t .... ok
Math::BigInt: couldn't load specified math lib(s), fallback to Math::BigInt::Calc at /tmp/loop_over_bdir-11963-Z_z10U/DateTime-Format-Epoch-0.16-0/blib/lib/DateTime/Format/Epoch.pm line 13.
t/006_local.t ... ok
Math::BigInt: couldn't load specified math lib(s), fallback to Math::BigInt::Calc at /tmp/loop_over_bdir-11963-Z_z10U/DateTime-Format-Epoch-0.16-0/blib/lib/DateTime/Format/Epoch.pm line 13.
t/007_parse.t ... ok
Math::BigInt: couldn't load specified math lib(s), fallback to Math::BigInt::Calc at /tmp/loop_over_bdir-11963-Z_z10U/DateTime-Format-Epoch-0.16-0/blib/lib/DateTime/Format/Epoch.pm line 13.
t/008_dhms.t .... ok
Math::BigInt: couldn't load specified math lib(s), fallback to Math::BigInt::Calc at /tmp/loop_over_bdir-11963-Z_z10U/DateTime-Format-Epoch-0.16-0/blib/lib/DateTime/Format/Epoch.pm line 13.
t/101_load.t .... ok
Math::BigInt: couldn't load specified math lib(s), fallback to Math::BigInt::Calc at /tmp/loop_over_bdir-11963-Z_z10U/DateTime-Format-Epoch-0.16-0/blib/lib/DateTime/Format/Epoch.pm line 13.
t/102_format.t .. ok
Math::BigInt: couldn't load specified math lib(s), fallback to Math::BigInt::Calc at /tmp/loop_over_bdir-11963-Z_z10U/DateTime-Format-Epoch-0.16-0/blib/lib/DateTime/Format/Epoch.pm line 13.
t/201_load.t .... ok
Math::BigInt: couldn't load specified math lib(s), fallback to Math::BigInt::Calc at /tmp/loop_over_bdir-11963-Z_z10U/DateTime-Format-Epoch-0.16-0/blib/lib/DateTime/Format/Epoch.pm line 13.
t/202_format.t .. ok
Math::BigInt: couldn't load specified math lib(s), fallback to Math::BigInt::Calc at /tmp/loop_over_bdir-11963-Z_z10U/DateTime-Format-Epoch-0.16-0/blib/lib/DateTime/Format/Epoch.pm line 13.
Math::BigInt: couldn't load specified math lib(s), fallback to Math::BigInt::Calc at /tmp/loop_over_bdir-11963-Z_z10U/DateTime-Format-Epoch-0.16-0/blib/lib/DateTime/Format/Epoch/TAI64.pm line 13.
t/301_load.t .... ok
Math::BigInt: couldn't load specified math lib(s), fallback to Math::BigInt::Calc at /tmp/loop_over_bdir-11963-Z_z10U/DateTime-Format-Epoch-0.16-0/blib/lib/DateTime/Format/Epoch.pm line 13.
Math::BigInt: couldn't load specified math lib(s), fallback to Math::BigInt::Calc at /tmp/loop_over_bdir-11963-Z_z10U/DateTime-Format-Epoch-0.16-0/blib/lib/DateTime/Format/Epoch/TAI64.pm line 13.
t/302_format.t .. ok
Math::BigInt: couldn't load specified math lib(s), fallback to Math::BigInt::Calc at /tmp/loop_over_bdir-11963-Z_z10U/DateTime-Format-Epoch-0.16-0/blib/lib/DateTime/Format/Epoch.pm line 13.
Math::BigInt: couldn't load specified math lib(s), fallback to Math::BigInt::Calc at /tmp/loop_over_bdir-11963-Z_z10U/DateTime-Format-Epoch-0.16-0/blib/lib/DateTime/Format/Epoch/TAI64.pm line 13.
t/303_parse.t ... ok
Math::BigInt: couldn't load specified math lib(s), fallback to Math::BigInt::Calc at /tmp/loop_over_bdir-11963-Z_z10U/DateTime-Format-Epoch-0.16-0/blib/lib/DateTime/Format/Epoch.pm line 13.
t/401_load.t .... ok
Math::BigInt: couldn't load specified math lib(s), fallback to Math::BigInt::Calc at /tmp/loop_over_bdir-11963-Z_z10U/DateTime-Format-Epoch-0.16-0/blib/lib/DateTime/Format/Epoch.pm line 13.
t/402_format.t .. ok
Math::BigInt: couldn't load specified math lib(s), fallback to Math::BigInt::Calc at /tmp/loop_over_bdir-11963-Z_z10U/DateTime-Format-Epoch-0.16-0/blib/lib/DateTime/Format/Epoch.pm line 13.
t/502_format.t .. ok
Math::BigInt: couldn't load specified math lib(s), fallback to Math::BigInt::Calc at /tmp/loop_over_bdir-11963-Z_z10U/DateTime-Format-Epoch-0.16-0/blib/lib/DateTime/Format/Epoch.pm line 13.
t/601_load.t .... ok
t/pod.t ......... ok
All tests successful.
Files=20, Tests=133, 6 wallclock secs ( 0.10 usr 0.16 sys + 2.37 cusr 0.58 csys = 3.21 CPU)
Result: PASS
------------------------------
PREREQUISITES
------------------------------
Prerequisite modules loaded:
requires:
Module Need Have
---------------- ------- ------------
DateTime 0.31 1.26
Math::BigInt 1.66 1.999715
Params::Validate 0 1.23
perl 5.00503 5.008003
warnings 0 1.03
build_requires:
Module Need Have
---------------- ------- ------------
Test::More 0 1.302013_016
------------------------------
ENVIRONMENT AND OTHER CONTEXT
------------------------------
Environment variables:
AUTOMATED_TESTING = 1
LANG = en_US.UTF-8
LANGUAGE = en_US:en
PATH = /usr/lib/ccache:/home/sand/bin:/usr/local/bin:/usr/lib/ccache:/usr/bin:/bin:/usr/games:/usr/local/perl/bin:/usr/X11/bin:/sbin:/usr/sbin
PERL5LIB =
PERL5OPT =
PERL5_CPANPLUS_IS_RUNNING = 11964
PERL5_CPAN_IS_RUNNING = 11964
PERL_CANARY_STABILITY_NOPROMPT = 1
PERL_MM_USE_DEFAULT = 1
SHELL = /usr/bin/zsh
TERM = screen
Perl special variables (and OS-specific diagnostics, for MSWin32):
$^X = /home/sand/src/perl/repoperls/installed-perls/perl/perl-5.8.3/109d/bin/perl
$UID/$EUID = 1005 / 1005
$GID = 1005 1005
$EGID = 1005 1005
Perl module toolchain versions installed:
Module Have
------------------- ------------
CPAN 2.12
CPAN::Meta 2.150005
Cwd 3.62
ExtUtils::CBuilder 0.280224
ExtUtils::Command 7.11_06
ExtUtils::Install 1.54
ExtUtils::MakeMaker 7.11_06
ExtUtils::Manifest 1.70
ExtUtils::ParseXS 3.30
File::Spec 3.62
JSON 2.90
JSON::PP 2.27300
Module::Build 0.42_17
Module::Signature 0.79
Parse::CPAN::Meta 1.4417
Test::Harness 3.36
Test::More 1.302013_016
YAML 1.15
YAML::Syck 1.29
version 0.9916
--
Summary of my perl5 (revision 5.0 version 8 subversion 3) configuration:
Platform:
osname=linux, osvers=4.3.0-1-amd64, archname=x86_64-linux-thread-multi-ld
uname='linux k83 4.3.0-1-amd64 #1 smp debian 4.3.3-7 (2016-01-19) x86_64 gnulinux '
config_args='-Dprefix=/home/sand/src/perl/repoperls/installed-perls/perl/perl-5.8.3/109d -Dmyhostname=k83 -Dinstallusrbinperl=n -Uversiononly -Dusedevel -des -Ui_db -Dlibswanted=cl pthread socket inet nsl gdbm dbm malloc dl ld sun m crypt sec util c cposix posix ucb BSD gdbm_compat -Duseithreads -Duselongdouble -DDEBUGGING=-g'
hint=recommended, useposix=true, d_sigaction=define
usethreads=define use5005threads=undef useithreads=define usemultiplicity=define
useperlio=define d_sfio=undef uselargefiles=define usesocks=undef
use64bitint=define use64bitall=define uselongdouble=define
usemymalloc=n, bincompat5005=undef
Compiler:
cc='cc', ccflags ='-D_REENTRANT -D_GNU_SOURCE -fno-strict-aliasing -I/usr/local/include -D_LARGEFILE_SOURCE -D_FILE_OFFSET_BITS=64',
optimize='-O2',
cppflags='-D_REENTRANT -D_GNU_SOURCE -fno-strict-aliasing -I/usr/local/include'
ccversion='', gccversion='5.3.1 20160121', gccosandvers=''
intsize=4, longsize=8, ptrsize=8, doublesize=8, byteorder=12345678
d_longlong=define, longlongsize=8, d_longdbl=define, longdblsize=16
ivtype='long', ivsize=8, nvtype='long double', nvsize=16, Off_t='off_t', lseeksize=8
alignbytes=16, prototype=define
Linker and Libraries:
ld='cc', ldflags =' -L/usr/local/lib'
libpth=/usr/local/lib /lib/x86_64-linux-gnu /lib/../lib /usr/lib/x86_64-linux-gnu /usr/lib/../lib /lib /usr/lib
libs=-lpthread -lnsl -lgdbm -ldl -lm -lcrypt -lutil -lc -lgdbm_compat
perllibs=-lpthread -lnsl -ldl -lm -lcrypt -lutil -lc -lgdbm_compat
libc=libc-2.21.so, so=so, useshrplib=false, libperl=libperl.a
gnulibc_version='2.21'
Dynamic Linking:
dlsrc=dl_dlopen.xs, dlext=so, d_dlsymun=undef, ccdlflags='-rdynamic'
cccdlflags='-fpic', lddlflags='-shared -L/usr/local/lib'
Characteristics of this binary (from libperl):
Compile-time options: MULTIPLICITY USE_ITHREADS USE_64_BIT_INT USE_64_BIT_ALL USE_LONG_DOUBLE USE_LARGE_FILES PERL_IMPLICIT_CONTEXT
Locally applied patches:
Devel::PatchPerl 1.40
Built under linux
Compiled at Feb 27 2016 09:24:41
%ENV:
PERL5LIB=""
PERL5OPT=""
PERL5_CPANPLUS_IS_RUNNING="11964"
PERL5_CPAN_IS_RUNNING="11964"
PERL_CANARY_STABILITY_NOPROMPT="1"
PERL_MM_USE_DEFAULT="1"
@INC:
/home/sand/src/perl/repoperls/installed-perls/perl/perl-5.8.3/109d/lib/5.8.3/x86_64-linux-thread-multi-ld
/home/sand/src/perl/repoperls/installed-perls/perl/perl-5.8.3/109d/lib/5.8.3
/home/sand/src/perl/repoperls/installed-perls/perl/perl-5.8.3/109d/lib/site_perl/5.8.3/x86_64-linux-thread-multi-ld
/home/sand/src/perl/repoperls/installed-perls/perl/perl-5.8.3/109d/lib/site_perl/5.8.3
/home/sand/src/perl/repoperls/installed-perls/perl/perl-5.8.3/109d/lib/site_perl
.