Promise-XS v0.20 Perl 5 v5.39.2 x86_64-dragonfly-thread-multi

Status
Pass
From
Carlos Guevara
Dist
Promise-XS v0.20
Platform
Perl 5 v5.39.2 x86_64-dragonfly-thread-multi
Date
2023-08-18 14:23:15
ID
c54670ba-3dd2-11ee-a95e-0edcf14f5598
This distribution has been tested as part of the CPAN Testers
project, supporting the Perl programming language.  See
http://wiki.cpantesters.org/ for more information or email
questions to cpan-testers-discuss@perl.org


--
Dear Felipe Gasper,

This is a computer-generated report for Promise-XS-0.20
on perl 5.39.2, created by CPAN-Reporter-1.2019.

Thank you for uploading your work to CPAN.  Congratulations!
All tests were successful.

Sections of this report:

    * Tester comments
    * Program output
    * Prerequisites
    * Environment and other context

------------------------------
TESTER COMMENTS
------------------------------

Additional comments from tester:

this report is from an automated smoke testing program
and was not reviewed by a human for accuracy

------------------------------
PROGRAM OUTPUT
------------------------------

Output from '/usr/bin/make test':

"/home/cpan/bin/perl/bin/perl5.39.2" -MExtUtils::Command::MM -e 'cp_nonempty' -- XS.bs blib/arch/auto/Promise/XS/XS.bs 644
PERL_DL_NONLAZY=1 "/home/cpan/bin/perl/bin/perl5.39.2" "-MExtUtils::Command::MM" "-MTest::Harness" "-e" "undef *Test::Harness::Switches; test_harness(0, 'blib/lib', 'blib/arch')" t/*.t
t/alias.t ........................ ok
t/anyevent.t ..................... skipped: Can't locate AnyEvent.pm in @INC (you may need to install the AnyEvent module) (@INC entries checked: /home/cpan/.cpan/build/Promise-XS-0.20-0/blib/lib /home/cpan/.cpan/build/Promise-XS-0.20-0/blib/arch /home/cpan/bin/perl/lib/site_perl/5.39.2/x86_64-dragonfly-thread-multi /home/cpan/bin/perl/lib/site_perl/5.39.2 /home/cpan/bin/perl/lib/5.39.2/x86_64-dragonfly-thread-multi /home/cpan/bin/perl/lib/5.39.2 .) at t/anyevent.t line 7.
t/aplus.t ........................ skipped: Can't locate AnyEvent.pm in @INC (you may need to install the AnyEvent module) (@INC entries checked: /home/cpan/.cpan/build/Promise-XS-0.20-0/blib/lib /home/cpan/.cpan/build/Promise-XS-0.20-0/blib/arch /home/cpan/bin/perl/lib/site_perl/5.39.2/x86_64-dragonfly-thread-multi /home/cpan/bin/perl/lib/site_perl/5.39.2 /home/cpan/bin/perl/lib/5.39.2/x86_64-dragonfly-thread-multi /home/cpan/bin/perl/lib/5.39.2 .) at t/aplus.t line 6.
# Future::AsyncAwait 0.65
Promise::XS::Promise: Unhandled rejection: Late oopsie
Promise::XS::Promise: Unhandled rejection: Oopsie
t/async_await.t .................. ok
t/async_await__several_awaits.t .. ok
t/async_await__simple.t .......... ok
t/async_await_hold_ref.t ......... skipped: No Future::AsyncAwait
# Future::AsyncAwait 0.65
t/async_await_version.t .......... ok
t/await_wait__anyevent.t ......... skipped: Can’t run test: Can't locate AnyEvent.pm in @INC (you may need to install the AnyEvent module) (@INC entries checked: /home/cpan/.cpan/build/Promise-XS-0.20-0/t/lib /home/cpan/.cpan/build/Promise-XS-0.20-0/blib/lib /home/cpan/.cpan/build/Promise-XS-0.20-0/blib/arch /home/cpan/bin/perl/lib/site_perl/5.39.2/x86_64-dragonfly-thread-multi /home/cpan/bin/perl/lib/site_perl/5.39.2 /home/cpan/bin/perl/lib/5.39.2/x86_64-dragonfly-thread-multi /home/cpan/bin/perl/lib/5.39.2 .) at (eval 8) line 1.
t/await_wait__ioasync.t .......... skipped: Can’t run test: Can't locate IO/Async/Loop.pm in @INC (you may need to install the IO::Async::Loop module) (@INC entries checked: /home/cpan/.cpan/build/Promise-XS-0.20-0/t/lib /home/cpan/.cpan/build/Promise-XS-0.20-0/blib/lib /home/cpan/.cpan/build/Promise-XS-0.20-0/blib/arch /home/cpan/bin/perl/lib/site_perl/5.39.2/x86_64-dragonfly-thread-multi /home/cpan/bin/perl/lib/site_perl/5.39.2 /home/cpan/bin/perl/lib/5.39.2/x86_64-dragonfly-thread-multi /home/cpan/bin/perl/lib/5.39.2 .) at (eval 8) line 1.
t/await_wait__mojo.t ............. ok
t/detect_memory_leaks.t .......... ok
t/finally.t ...................... ok
t/infinite_recursion.t ........... ok
t/ioasync.t ...................... skipped: Can't locate IO/Async/Loop.pm in @INC (you may need to install the IO::Async::Loop module) (@INC entries checked: /home/cpan/.cpan/build/Promise-XS-0.20-0/blib/lib /home/cpan/.cpan/build/Promise-XS-0.20-0/blib/arch /home/cpan/bin/perl/lib/site_perl/5.39.2/x86_64-dragonfly-thread-multi /home/cpan/bin/perl/lib/site_perl/5.39.2 /home/cpan/bin/perl/lib/5.39.2/x86_64-dragonfly-thread-multi /home/cpan/bin/perl/lib/5.39.2 .) at t/ioasync.t line 7.
# Mojolicious 9.33
t/mojo.t ......................... ok
t/multi_return.t ................. ok
t/no_leak_stashed_ref.t .......... ok
t/oserror.t ...................... ok
t/promise_all_race.t ............. ok
t/reject_undef.t ................. ok
t/subclass.t ..................... ok
t/sync.t ......................... ok
t/unhandled_rejection.t .......... ok
t/XSPromises.t ................... skipped: Can't locate AnyEvent.pm in @INC (you may need to install the AnyEvent module) (@INC entries checked: /home/cpan/.cpan/build/Promise-XS-0.20-0/blib/lib /home/cpan/.cpan/build/Promise-XS-0.20-0/blib/arch /home/cpan/bin/perl/lib/site_perl/5.39.2/x86_64-dragonfly-thread-multi /home/cpan/bin/perl/lib/site_perl/5.39.2 /home/cpan/bin/perl/lib/5.39.2/x86_64-dragonfly-thread-multi /home/cpan/bin/perl/lib/5.39.2 .) at t/XSPromises.t line 6.
All tests successful.
Files=25, Tests=76,  6 wallclock secs ( 0.15 usr  0.05 sys +  4.04 cusr  1.05 csys =  5.29 CPU)
Result: PASS

------------------------------
PREREQUISITES
------------------------------

Prerequisite modules loaded:

build_requires:

    Module                        Need Have    
    ----------------------------- ---- --------
    ExtUtils::MakeMaker           0    7.70    
    File::Temp                    0    0.2311  
    Test::Deep                    0    1.204   
    Test::FailWarnings            0    0.008   
    Test::More                    0    1.302195

configure_requires:

    Module                        Need Have    
    ----------------------------- ---- --------
    ExtUtils::MakeMaker::CPANfile 0.09 0.09    


------------------------------
ENVIRONMENT AND OTHER CONTEXT
------------------------------

Environment variables:

    AUTOMATED_TESTING = 1
    DATE_MANIP_TEST_DM5 = 1
    LC_ALL = C
    NONINTERACTIVE_TESTING = 1
    NO_NETWORK_TESTING = 1
    PATH = /home/cpan/bin/perl/bin:/home/cpan/bin:/sbin:/bin:/usr/sbin:/usr/bin:/usr/games:/usr/local/sbin:/usr/local/bin:/usr/pkg/sbin:/usr/pkg/bin:/home/cpan/bin
    PERL5LIB = 
    PERL5OPT = 
    PERL5_CPANPLUS_IS_RUNNING = 331640
    PERL5_CPAN_IS_RUNNING = 331640
    PERL_MM_USE_DEFAULT = 1
    PERL_USE_UNSAFE_INC = 1
    SHELL = /usr/local/bin/bash
    TERM = screen
    TMPDIR = /home/cpan/tmp

Perl special variables (and OS-specific diagnostics, for MSWin32):

    $^X = /home/cpan/bin/perl/bin/perl5.39.2
    $UID/$EUID = 1002 / 1002
    $GID = 1002 1002
    $EGID = 1002 1002

Perl module toolchain versions installed:

    Module              Have    
    ------------------- --------
    CPAN                2.36    
    CPAN::Meta          2.150010
    Cwd                 3.90    
    ExtUtils::CBuilder  0.280239
    ExtUtils::Command   7.70    
    ExtUtils::Install   2.22    
    ExtUtils::MakeMaker 7.70    
    ExtUtils::Manifest  1.75    
    ExtUtils::ParseXS   3.51    
    File::Spec          3.90    
    JSON                4.10    
    JSON::PP            4.16    
    Module::Build       0.4234  
    Module::Signature   n/a     
    Parse::CPAN::Meta   2.150010
    Test2               1.302195
    Test::Harness       3.47    
    Test::More          1.302195
    YAML                1.30    
    YAML::Syck          1.34    
    version             0.9929  


--

Summary of my perl5 (revision 5 version 39 subversion 2) configuration:
  Commit id: e179186c5615abd615cc50f3b6cd0a7210026f54
  Platform:
    osname=dragonfly
    osvers=6.4-release
    archname=x86_64-dragonfly-thread-multi
    uname='dragonfly cjg-dragonfly6 6.4-release dragonfly v6.4.0-release #54: fri dec 30 09:06:50 pst 2022 root@pkgbox64.dragonflybsd.org:usrobjusrsrcsysx86_64_generic x86_64 '
    config_args='-des -Dprefix=/home/cpan/bin/perl -Dscriptdir=/home/cpan/bin/perl/bin -Dusedevel -Duse64bitall -Duseithreads'
    hint=recommended
    useposix=true
    d_sigaction=define
    useithreads=define
    usemultiplicity=define
    use64bitint=define
    use64bitall=define
    uselongdouble=undef
    usemymalloc=n
    default_inc_excludes_dot=define
  Compiler:
    cc='cc'
    ccflags ='-DHAS_FPSETMASK -DHAS_FLOATINGPOINT_H -fwrapv -fno-strict-aliasing -pipe -fstack-protector-strong -I/usr/local/include -D_FORTIFY_SOURCE=2'
    optimize='-O2'
    cppflags='-DHAS_FPSETMASK -DHAS_FLOATINGPOINT_H -fwrapv -fno-strict-aliasing -pipe -fstack-protector-strong -I/usr/local/include'
    ccversion=''
    gccversion='8.3 [DragonFly] Release/2019-02-22'
    gccosandvers=''
    intsize=4
    longsize=8
    ptrsize=8
    doublesize=8
    byteorder=12345678
    doublekind=3
    d_longlong=define
    longlongsize=8
    d_longdbl=define
    longdblsize=16
    longdblkind=3
    ivtype='long'
    ivsize=8
    nvtype='double'
    nvsize=8
    Off_t='off_t'
    lseeksize=8
    alignbytes=8
    prototype=define
  Linker and Libraries:
    ld='cc'
    ldflags ='-pthread -Wl,-E  -fstack-protector-strong -L/usr/local/lib'
    libpth=/usr/lib /usr/local/lib
    libs=-lpthread -ldl -lm -lcrypt -lutil -lc
    perllibs=-lpthread -ldl -lm -lcrypt -lutil -lc
    libc=
    so=so
    useshrplib=false
    libperl=libperl.a
    gnulibc_version=''
  Dynamic Linking:
    dlsrc=dl_dlopen.xs
    dlext=so
    d_dlsymun=undef
    ccdlflags=' '
    cccdlflags='-DPIC -fPIC'
    lddlflags='-shared  -L/usr/local/lib -fstack-protector-strong'


Characteristics of this binary (from libperl): 
  Compile-time options:
    HAS_LONG_DOUBLE
    HAS_STRTOLD
    HAS_TIMES
    MULTIPLICITY
    PERLIO_LAYERS
    PERL_COPY_ON_WRITE
    PERL_DONT_CREATE_GVSV
    PERL_HASH_FUNC_SIPHASH13
    PERL_HASH_USE_SBOX32
    PERL_MALLOC_WRAP
    PERL_OP_PARENT
    PERL_PRESERVE_IVUV
    PERL_USE_DEVEL
    PERL_USE_SAFE_PUTENV
    USE_64_BIT_ALL
    USE_64_BIT_INT
    USE_ITHREADS
    USE_LARGE_FILES
    USE_LOCALE
    USE_LOCALE_COLLATE
    USE_LOCALE_CTYPE
    USE_LOCALE_NUMERIC
    USE_LOCALE_TIME
    USE_PERLIO
    USE_PERL_ATOF
    USE_REENTRANT_API
    USE_THREAD_SAFE_LOCALE
  Built under dragonfly
  Compiled at Aug 18 2023 02:01:22
  %ENV:
    PERL5LIB=""
    PERL5OPT=""
    PERL5_CPANPLUS_IS_RUNNING="331640"
    PERL5_CPAN_IS_RUNNING="331640"
    PERL_MM_USE_DEFAULT="1"
    PERL_USE_UNSAFE_INC="1"
  @INC:
    /home/cpan/bin/perl/lib/site_perl/5.39.2/x86_64-dragonfly-thread-multi
    /home/cpan/bin/perl/lib/site_perl/5.39.2
    /home/cpan/bin/perl/lib/5.39.2/x86_64-dragonfly-thread-multi
    /home/cpan/bin/perl/lib/5.39.2
    .