Back
From: metabase:user:30ae4450-2aae-11df-837a-5e0a49663a4f
Subject: PASS Template-Plugin-Bootstrap-Pagination-0.002000 v5.14.3
Date: 2014-11-09T14:35:14Z
This distribution has been tested as part of the CPAN Testers
project, supporting the Perl programming language. See
http://wiki.cpantesters.org/ for more information or email
questions to cpan-testers-discuss@perl.org
--
Dear Manfred Stock,
This is a computer-generated report for Template-Plugin-Bootstrap-Pagination-0.002000
on perl 5.14.3, created by CPAN-Reporter-1.2010_01.
Thank you for uploading your work to CPAN. Congratulations!
All tests were successful.
Sections of this report:
* Tester comments
* Program output
* Prerequisites
* Environment and other context
------------------------------
TESTER COMMENTS
------------------------------
Additional comments from tester:
this report is from an automated smoke testing program
and was not reviewed by a human for accuracy
------------------------------
PROGRAM OUTPUT
------------------------------
Output from 'C:\strawberry5143\perl\bin\perl.exe ./Build test':
t/00-compile.t ............................ ok
#
#
# Generated by Dist::Zilla::Plugin::ReportVersions::Tiny v1.10
# perl: 5.014003 (wanted any version) on MSWin32 from C:\strawberry5143\perl\bin\perl.exe
#
# Carp => 1.26 (want any version)
# Data::Page => 2.02 (want any version)
# File::Find => 1.19 (want any version)
# File::Temp => 0.22 (want any version)
# HTML::Entities => 3.69 (want any version)
# MRO::Compat => 0.11 (want any version)
# Module::Build => 0.4003 (want 0.3601)
# Scalar::Util => 1.25 (want any version)
# Template => 2.24 (want any version)
# Template::Exception => 2.7 (want any version)
# Template::Plugin => 2.7 (want any version)
# Test::Exception => 0.31 (want any version)
# Test::More => 0.98 (want 0.94)
# parent => 0.225 (want any version)
# strict => 1.04 (want any version)
# warnings => 1.12 (want any version)
#
# Thanks for using my code. I hope it works for you.
# If not, please try and include this output in the bug report.
# That will help me reproduce the issue and solve your problem.
#
t/000-report-versions-tiny.t .............. ok
t/author-critic.t ......................... skipped: these tests are for testing by the author
t/author-test-eol.t ....................... skipped: these tests are for testing by the author
t/release-cpan-changes.t .................. skipped: these tests are for release candidate testing
t/release-distmeta.t ...................... skipped: these tests are for release candidate testing
t/release-pod-coverage.t .................. skipped: these tests are for release candidate testing
t/release-pod-syntax.t .................... skipped: these tests are for release candidate testing
t/template.plugin.bootstrap.pagination.t .. ok
All tests successful.
Files=9, Tests=12, 1 wallclock secs ( 0.09 usr + 0.00 sys = 0.09 CPU)
Result: PASS
------------------------------
PREREQUISITES
------------------------------
Prerequisite modules loaded:
requires:
Module Need Have
------------------- ------ ------
Carp 0 1.26
HTML::Entities 0 3.69
MRO::Compat 0 0.11
parent 0 0.225
Scalar::Util 0 1.25
strict 0 1.04
Template::Exception 0 2.7
Template::Plugin 0 2.7
warnings 0 1.12
build_requires:
Module Need Have
------------------- ------ ------
Data::Page 0 2.02
File::Find 0 1.19
File::Temp 0 0.22
Module::Build 0.3601 0.4003
Template 0 2.24
Test::Exception 0 0.31
Test::More 0.94 0.98
configure_requires:
Module Need Have
------------------- ------ ------
Module::Build 0.3601 0.4003
------------------------------
ENVIRONMENT AND OTHER CONTEXT
------------------------------
Environment variables:
AUTOMATED_TESTING = 1
COMSPEC = C:\WINDOWS\system32\cmd.exe
NUMBER_OF_PROCESSORS = 1
PATH = C:\Program Files\Far Manager\;C:\IM\ImageMagick-6.8.2-Q16;C:\WINDOWS\system32;C:\WINDOWS;C:\WINDOWS\System32\Wbem;C:\strawberry5143\c\bin;C:\strawberry5143\perl\site\bin;C:\strawberry5143\perl\bin
PERL5LIB =
PERL5OPT =
PERL5_CPANPLUS_IS_RUNNING = 13444
PERL5_CPAN_IS_RUNNING = 13444
PERL5_CPAN_IS_RUNNING_IN_RECURSION = 232,13444
PERL_CR_SMOKER_CURRENT = Template-Plugin-Bootstrap-Pagination-0.002000
PERL_EXTUTILS_AUTOINSTALL = --defaultdeps
PERL_MM_USE_DEFAULT = 1
PROCESSOR_IDENTIFIER = x86 Family 18 Model 1 Stepping 0, AuthenticAMD
TEMP = C:\DOCUME~1\c\LOCALS~1\Temp
TERM = dumb
Perl special variables (and OS-specific diagnostics, for MSWin32):
$^X = C:\strawberry5143\perl\bin\perl.exe
$UID/$EUID = 0 / 0
$GID = 0
$EGID = 0
Win32::GetOSName = WinXP/.Net
Win32::GetOSVersion = Service Pack 3, 5, 1, 2600, 2, 3, 0, 256, 1
Win32::FsType = NTFS
Win32::IsAdminUser = 1
Perl module toolchain versions installed:
Module Have
------------------- --------
CPAN 1.9800
CPAN::Meta 2.120921
Cwd 3.36
ExtUtils::CBuilder 0.280205
ExtUtils::Command 1.17
ExtUtils::Install 1.56
ExtUtils::MakeMaker 6.62
ExtUtils::Manifest 1.61
ExtUtils::ParseXS 3.15
File::Spec 3.33
JSON 2.53
JSON::PP 2.27200
Module::Build 0.4003
Module::Signature 0.68
Parse::CPAN::Meta 1.4404
Test::Harness 3.25
Test::More 0.98
YAML 0.84
YAML::Syck 1.22
version 0.9901
--
Summary of my perl5 (revision 5 version 14 subversion 3) configuration:
Platform:
osname=MSWin32, osvers=4.0, archname=MSWin32-x86-multi-thread
uname='Win32 strawberry-perl 5.14.3.1 #1 Wed Oct 17 22:51:55 2012 i386'
config_args='undef'
hint=recommended, useposix=true, d_sigaction=undef
useithreads=define, usemultiplicity=define
useperlio=define, d_sfio=undef, uselargefiles=define, usesocks=undef
use64bitint=undef, use64bitall=undef, uselongdouble=undef
usemymalloc=n, bincompat5005=undef
Compiler:
cc='gcc', ccflags =' -s -O2 -DWIN32 -DPERL_TEXTMODE_SCRIPTS -DPERL_IMPLICIT_CONTEXT -DPERL_IMPLICIT_SYS -fno-strict-aliasing -mms-bitfields',
optimize='-s -O2',
cppflags='-DWIN32'
ccversion='', gccversion='4.6.3', gccosandvers=''
intsize=4, longsize=4, ptrsize=4, doublesize=8, byteorder=1234
d_longlong=undef, longlongsize=8, d_longdbl=define, longdblsize=12
ivtype='long', ivsize=4, nvtype='double', nvsize=8, Off_t='long long', lseeksize=8
alignbytes=8, prototype=define
Linker and Libraries:
ld='g++', ldflags ='-s -L"C:\strawberry5143\perl\lib\CORE" -L"C:\strawberry5143\c\lib"'
libpth=C:\strawberry5143\c\lib C:\strawberry5143\c\i686-w64-mingw32\lib
libs=-lmoldname -lkernel32 -luser32 -lgdi32 -lwinspool -lcomdlg32 -ladvapi32 -lshell32 -lole32 -loleaut32 -lnetapi32 -luuid -lws2_32 -lmpr -lwinmm -lversion -lodbc32 -lodbccp32 -lcomctl32
perllibs=-lmoldname -lkernel32 -luser32 -lgdi32 -lwinspool -lcomdlg32 -ladvapi32 -lshell32 -lole32 -loleaut32 -lnetapi32 -luuid -lws2_32 -lmpr -lwinmm -lversion -lodbc32 -lodbccp32 -lcomctl32
libc=, so=dll, useshrplib=true, libperl=libperl514.a
gnulibc_version=''
Dynamic Linking:
dlsrc=dl_win32.xs, dlext=dll, d_dlsymun=undef, ccdlflags=' '
cccdlflags=' ', lddlflags='-mdll -s -L"C:\strawberry5143\perl\lib\CORE" -L"C:\strawberry5143\c\lib"'
Characteristics of this binary (from libperl):
Compile-time options: MULTIPLICITY PERL_DONT_CREATE_GVSV
PERL_IMPLICIT_CONTEXT PERL_IMPLICIT_SYS
PERL_MALLOC_WRAP PERL_PRESERVE_IVUV PL_OP_SLAB_ALLOC
USE_ITHREADS USE_LARGE_FILES USE_PERLIO
USE_PERL_ATOF
Built under MSWin32
Compiled at Oct 17 2012 23:05:06
%ENV:
PERL5_CPANPLUS_IS_RUNNING="13444"
PERL5_CPAN_IS_RUNNING="13444"
PERL5_CPAN_IS_RUNNING_IN_RECURSION="232,13444"
PERL_CR_SMOKER_CURRENT="Template-Plugin-Bootstrap-Pagination-0.002000"
PERL_EXTUTILS_AUTOINSTALL="--defaultdeps"
PERL_MM_USE_DEFAULT="1"
@INC:
C:/strawberry5143/perl/site/lib
C:/strawberry5143/perl/vendor/lib
C:/strawberry5143/perl/lib
.