Net-Async-Github v0.013 Perl 5 v5.18.2 amd64-freebsd

Status
Pass
From
Slaven Rezić
Dist
Net-Async-Github v0.013
Platform
Perl 5 v5.18.2 amd64-freebsd
Date
2023-12-30 01:07:15
ID
c57b8a3e-a6af-11ee-8f43-2a1d6e8775ea
This distribution has been tested as part of the CPAN Testers
project, supporting the Perl programming language.  See
http://wiki.cpantesters.org/ for more information or email
questions to cpan-testers-discuss@perl.org


--
Dear Tom Molesworth,

This is a computer-generated report for Net-Async-Github-0.013
on perl 5.18.2, created by CPAN-Reporter-1.2019.

Thank you for uploading your work to CPAN.  Congratulations!
All tests were successful.

Sections of this report:

    * Tester comments
    * Program output
    * Prerequisites
    * Environment and other context

------------------------------
TESTER COMMENTS
------------------------------

Additional comments from tester:

none provided

------------------------------
PROGRAM OUTPUT
------------------------------

Output from '/usr/bin/make test':

Skip blib/lib/auto/share/dist/Net-Async-Github/endpoints.json (unchanged)
PERL_DL_NONLAZY=1 "/usr/perl5.18.2/bin/perl" "-MExtUtils::Command::MM" "-MTest::Harness" "-e" "undef *Test::Harness::Switches; test_harness(0, 'blib/lib', 'blib/arch')" t/*.t
t/00-check-deps.t ...... ok
t/00-compile.t ......... ok
# 
# Versions for all modules listed in MYMETA.json (including optional ones):
# 
# === Configure Requires ===
# 
#     Module                  Want Have
#     ----------------------- ---- ----
#     ExtUtils::MakeMaker      any 7.70
#     File::ShareDir::Install 0.06 0.14
# 
# === Build Requires ===
# 
#     Module              Want Have
#     ------------------- ---- ----
#     ExtUtils::MakeMaker  any 7.70
# 
# === Test Requires ===
# 
#     Module               Want     Have
#     ------------------- ----- --------
#     ExtUtils::MakeMaker   any     7.70
#     File::Spec            any     3.75
#     IO::Handle            any     1.51
#     IPC::Open3            any     1.13
#     Test::CheckDeps     0.010    0.010
#     Test::More           0.94 1.302198
# 
# === Test Recommends ===
# 
#     Module         Want     Have
#     ---------- -------- --------
#     CPAN::Meta 2.120900 2.150010
# 
# === Runtime Requires ===
# 
#     Module                    Want     Have
#     --------------------- -------- --------
#     Adapter::Async             any    0.019
#     Cache::LRU                0.04     0.04
#     Dir::Self                  any     0.11
#     File::ShareDir           1.118    1.118
#     Future                    0.47     0.50
#     IO::Async::Notifier       0.78    0.802
#     IO::Async::SSL            0.22     0.22
#     JSON::MaybeUTF8          2.000    2.000
#     JSON::MaybeXS         1.004003 1.004005
#     Log::Any                 1.709    1.716
#     Net::Async::HTTP          0.48     0.49
#     Net::Async::WebSocket      any     0.13
#     Path::Tiny               0.118    0.144
#     Ryu                      2.007    3.004
#     Ryu::Async               0.019    0.019
#     Syntax::Keyword::Try      0.21     0.28
#     Time::Moment              0.44     0.44
#     URI                       5.09     5.21
#     URI::Template             0.24     0.24
#     Variable::Disposition      any    0.004
#     indirect                   any     0.39
# 
t/00-report-prereqs.t .. ok
All tests successful.
Files=3, Tests=42,  1 wallclock secs ( 0.00 usr  0.02 sys +  0.51 cusr  0.14 csys =  0.67 CPU)
Result: PASS

------------------------------
PREREQUISITES
------------------------------

Prerequisite modules loaded:

requires:

    Module                  Need     Have    
    ----------------------- -------- --------
    Adapter::Async          0        0.019   
    Cache::LRU              0.04     0.04    
    Dir::Self               0        0.11    
    File::ShareDir          1.118    1.118   
    Future                  0.47     0.50    
    indirect                0        0.39    
    IO::Async::Notifier     0.78     0.802   
    IO::Async::SSL          0.22     0.22    
    JSON::MaybeUTF8         2.000    2.000   
    JSON::MaybeXS           1.004003 1.004005
    Log::Any                1.709    1.716   
    Net::Async::HTTP        0.48     0.49    
    Net::Async::WebSocket   0        0.13    
    Path::Tiny              0.118    0.144   
    Ryu                     2.007    3.004   
    Ryu::Async              0.019    0.019   
    Syntax::Keyword::Try    0.21     0.28    
    Time::Moment            0.44     0.44    
    URI                     5.09     5.21    
    URI::Template           0.24     0.24    
    Variable::Disposition   0        0.004   

build_requires:

    Module                  Need     Have    
    ----------------------- -------- --------
    ExtUtils::MakeMaker     0        7.70    
    File::Spec              0        3.75    
    IO::Handle              0        1.51    
    IPC::Open3              0        1.13    
    Test::CheckDeps         0.010    0.010   
    Test::More              0.94     1.302198

configure_requires:

    Module                  Need     Have    
    ----------------------- -------- --------
    ExtUtils::MakeMaker     0        7.70    
    File::ShareDir::Install 0.06     0.14    

opt_build_requires:

    Module                  Need     Have    
    ----------------------- -------- --------
    CPAN::Meta              2.120900 2.150010


------------------------------
ENVIRONMENT AND OTHER CONTEXT
------------------------------

Environment variables:

    LC_ALL = de_DE.ISO8859-1
    PATH = /usr/local/bin:/usr/bin:/bin:/usr/local/sbin:/usr/sbin:/sbin:/home/cpansand/bin/freebsd9.3:/home/cpansand/bin/sh:/home/cpansand/bin:/usr/games:/home/cpansand/devel:/usr/home/eserte/src/srezic-misc/scripts
    PERL5LIB = 
    PERL5OPT = 
    PERL5_CPANPLUS_IS_RUNNING = 89853
    PERL5_CPAN_IS_RUNNING = 89853
    PERL5_CPAN_IS_RUNNING_IN_RECURSION = 89253,89853
    PERLDOC = -MPod::Perldoc::ToTextOverstrike
    PERL_BATCH = yes
    PERL_CANARY_STABILITY_NOPROMPT = 1
    PERL_CPAN_REPORTER_CONFIG = /var/tmp/cpansmoker-1023/2023123002/cpanreporter_000_config.ini
    PERL_EXTUTILS_AUTOINSTALL = --defaultdeps
    PERL_USE_UNSAFE_INC = 1
    SHELL = /usr/local/bin/zsh
    TERM = screen
    TMPDIR = /var/tmp/cpansmoker-1023/2023123002

Perl special variables (and OS-specific diagnostics, for MSWin32):

    $^X = /usr/perl5.18.2/bin/perl
    $UID/$EUID = 1023 / 1023
    $GID = 1023 1023
    $EGID = 1023 1023

Perl module toolchain versions installed:

    Module              Have    
    ------------------- --------
    CPAN                2.36    
    CPAN::Meta          2.150010
    Cwd                 3.75    
    ExtUtils::CBuilder  0.280236
    ExtUtils::Command   7.70    
    ExtUtils::Install   2.22    
    ExtUtils::MakeMaker 7.70    
    ExtUtils::Manifest  1.75    
    ExtUtils::ParseXS   3.51    
    File::Spec          3.75    
    JSON                4.10    
    JSON::PP            4.16    
    Module::Build       0.4234  
    Module::Signature   0.88    
    Parse::CPAN::Meta   2.150010
    Test2               1.302198
    Test::Harness       3.47    
    Test::More          1.302198
    YAML                1.30    
    YAML::Syck          1.34    
    version             0.9929  


--

Summary of my perl5 (revision 5 version 18 subversion 2) configuration:
   
  Platform:
    osname=freebsd, osvers=9.2-release-p4, archname=amd64-freebsd
    uname='freebsd cvrsnica-freebsd-92 9.2-release-p4 freebsd 9.2-release-p4 #0: tue apr 8 18:08:22 utc 2014 root@amd64-builder.daemonology.net:usrobjusrsrcsysgeneric amd64 '
    config_args='-ds -e -Dprefix=/usr/perl5.18.2'
    hint=recommended, useposix=true, d_sigaction=define
    useithreads=undef, usemultiplicity=undef
    useperlio=define, d_sfio=undef, uselargefiles=define, usesocks=undef
    use64bitint=define, use64bitall=define, uselongdouble=undef
    usemymalloc=n, bincompat5005=undef
  Compiler:
    cc='cc', ccflags ='-DHAS_FPSETMASK -DHAS_FLOATINGPOINT_H -fno-strict-aliasing -pipe -fstack-protector -I/usr/local/include',
    optimize='-O',
    cppflags='-DHAS_FPSETMASK -DHAS_FLOATINGPOINT_H -fno-strict-aliasing -pipe -fstack-protector -I/usr/local/include'
    ccversion='', gccversion='4.2.1 20070831 patched [FreeBSD]', gccosandvers=''
    intsize=4, longsize=8, ptrsize=8, doublesize=8, byteorder=12345678
    d_longlong=define, longlongsize=8, d_longdbl=define, longdblsize=16
    ivtype='long', ivsize=8, nvtype='double', nvsize=8, Off_t='off_t', lseeksize=8
    alignbytes=8, prototype=define
  Linker and Libraries:
    ld='cc', ldflags ='-Wl,-E  -fstack-protector -L/usr/local/lib'
    libpth=/usr/lib /usr/local/lib
    libs=-lgdbm -lm -lcrypt -lutil -lc
    perllibs=-lm -lcrypt -lutil -lc
    libc=, so=so, useshrplib=false, libperl=libperl.a
    gnulibc_version=''
  Dynamic Linking:
    dlsrc=dl_dlopen.xs, dlext=so, d_dlsymun=undef, ccdlflags=' '
    cccdlflags='-DPIC -fPIC', lddlflags='-shared  -L/usr/local/lib -fstack-protector'


Characteristics of this binary (from libperl): 
  Compile-time options: HAS_TIMES PERLIO_LAYERS PERL_DONT_CREATE_GVSV
                        PERL_HASH_FUNC_ONE_AT_A_TIME_HARD PERL_MALLOC_WRAP
                        PERL_PRESERVE_IVUV PERL_SAWAMPERSAND USE_64_BIT_ALL
                        USE_64_BIT_INT USE_LARGE_FILES USE_LOCALE
                        USE_LOCALE_COLLATE USE_LOCALE_CTYPE
                        USE_LOCALE_NUMERIC USE_PERLIO USE_PERL_ATOF
  Built under freebsd
  Compiled at May 16 2014 01:27:28
  %ENV:
    PERL5LIB=""
    PERL5OPT=""
    PERL5_CPANPLUS_IS_RUNNING="89853"
    PERL5_CPAN_IS_RUNNING="89853"
    PERL5_CPAN_IS_RUNNING_IN_RECURSION="89253,89853"
    PERLDOC="-MPod::Perldoc::ToTextOverstrike"
    PERL_BATCH="yes"
    PERL_CANARY_STABILITY_NOPROMPT="1"
    PERL_CPAN_REPORTER_CONFIG="/var/tmp/cpansmoker-1023/2023123002/cpanreporter_000_config.ini"
    PERL_EXTUTILS_AUTOINSTALL="--defaultdeps"
    PERL_USE_UNSAFE_INC="1"
  @INC:
    /usr/perl5.18.2/lib/site_perl/5.18.2/amd64-freebsd
    /usr/perl5.18.2/lib/site_perl/5.18.2
    /usr/perl5.18.2/lib/5.18.2/amd64-freebsd
    /usr/perl5.18.2/lib/5.18.2
    .