Back
From: metabase:user:314402c4-2aae-11df-837a-5e0a49663a4f
Subject: PASS MRS-Client-1.0.1 v5.22.3 GNU/Linux
Date: 2017-01-31T17:50:36Z
This distribution has been tested as part of the CPAN Testers
project, supporting the Perl programming language. See
http://wiki.cpantesters.org/ for more information or email
questions to cpan-testers-discuss@perl.org
--
Dear Martin Senger,
This is a computer-generated report for MRS-Client-1.0.1
on perl 5.22.3, created by CPAN-Reporter-1.2018.
Thank you for uploading your work to CPAN. Congratulations!
All tests were successful.
Sections of this report:
* Tester comments
* Program output
* Prerequisites
* Environment and other context
------------------------------
TESTER COMMENTS
------------------------------
Additional comments from tester:
none provided
------------------------------
PROGRAM OUTPUT
------------------------------
Output from '/usr/bin/make test':
PERL_DL_NONLAZY=1 "/opt/perl-5.22.3/bin/perl5.22.3" "-MExtUtils::Command::MM" "-MTest::Harness" "-e" "undef *Test::Harness::Switches; test_harness(0, 'blib/lib', 'blib/arch')" t/*.t
Possible precedence issue with control flow operator at lib/MRS/Client/Blast.pm line 269.
Unescaped left brace in regex is deprecated, passed through in regex; marked by <-- HERE in m/\${ <-- HERE JOBID}/ at lib/MRS/Client/Blast.pm line 409.
Unescaped left brace in regex is deprecated, passed through in regex; marked by <-- HERE in m/\${ <-- HERE SEQDESC}/ at lib/MRS/Client/Blast.pm line 411.
Unescaped left brace in regex is deprecated, passed through in regex; marked by <-- HERE in m/\${ <-- HERE SEQDESC}/ at lib/MRS/Client/Blast.pm line 413.
Unescaped left brace in regex is deprecated, passed through in regex; marked by <-- HERE in m/\${ <-- HERE SEQDESC}/ at lib/MRS/Client/Blast.pm line 415.
Unescaped left brace in regex is deprecated, passed through in regex; marked by <-- HERE in m/\${ <-- HERE DB}/ at lib/MRS/Client/Blast.pm line 417.
Unescaped left brace in regex is deprecated, passed through in regex; marked by <-- HERE in m/\${ <-- HERE SEQLEN}/ at lib/MRS/Client/Blast.pm line 418.
Unescaped left brace in regex is deprecated, passed through in regex; marked by <-- HERE in m/\${ <-- HERE PARMATRIX}/ at lib/MRS/Client/Blast.pm line 419.
Unescaped left brace in regex is deprecated, passed through in regex; marked by <-- HERE in m/\${ <-- HERE PAREXPECT}/ at lib/MRS/Client/Blast.pm line 420.
Unescaped left brace in regex is deprecated, passed through in regex; marked by <-- HERE in m/\${ <-- HERE PARGAPOPEN}/ at lib/MRS/Client/Blast.pm line 421.
Unescaped left brace in regex is deprecated, passed through in regex; marked by <-- HERE in m/\${ <-- HERE PARGAPEXTEND}/ at lib/MRS/Client/Blast.pm line 422.
Unescaped left brace in regex is deprecated, passed through in regex; marked by <-- HERE in m/\${ <-- HERE PARFILTER}/ at lib/MRS/Client/Blast.pm line 423.
Unescaped left brace in regex is deprecated, passed through in regex; marked by <-- HERE in m/\${ <-- HERE DBCOUNT}/ at lib/MRS/Client/Blast.pm line 425.
Unescaped left brace in regex is deprecated, passed through in regex; marked by <-- HERE in m/\${ <-- HERE DBLENGTH}/ at lib/MRS/Client/Blast.pm line 426.
Unescaped left brace in regex is deprecated, passed through in regex; marked by <-- HERE in m/\${ <-- HERE DBSPACE}/ at lib/MRS/Client/Blast.pm line 427.
Unescaped left brace in regex is deprecated, passed through in regex; marked by <-- HERE in m/\${ <-- HERE KAPPA}/ at lib/MRS/Client/Blast.pm line 428.
Unescaped left brace in regex is deprecated, passed through in regex; marked by <-- HERE in m/\${ <-- HERE LAMBDA}/ at lib/MRS/Client/Blast.pm line 429.
Unescaped left brace in regex is deprecated, passed through in regex; marked by <-- HERE in m/\${ <-- HERE ENTROPY}/ at lib/MRS/Client/Blast.pm line 430.
Unescaped left brace in regex is deprecated, passed through in regex; marked by <-- HERE in m/\${ <-- HERE HITNR}/ at lib/MRS/Client/Blast.pm line 439.
Unescaped left brace in regex is deprecated, passed through in regex; marked by <-- HERE in m/\${ <-- HERE HITID}/ at lib/MRS/Client/Blast.pm line 440.
Unescaped left brace in regex is deprecated, passed through in regex; marked by <-- HERE in m/\${ <-- HERE HITSEQID}/ at lib/MRS/Client/Blast.pm line 442.
Unescaped left brace in regex is deprecated, passed through in regex; marked by <-- HERE in m/\${ <-- HERE HITSEQID}/ at lib/MRS/Client/Blast.pm line 444.
Unescaped left brace in regex is deprecated, passed through in regex; marked by <-- HERE in m/\${ <-- HERE HITSUBLEN}/ at lib/MRS/Client/Blast.pm line 447.
Unescaped left brace in regex is deprecated, passed through in regex; marked by <-- HERE in m/\${ <-- HERE HSPNR}/ at lib/MRS/Client/Blast.pm line 456.
Unescaped left brace in regex is deprecated, passed through in regex; marked by <-- HERE in m/\${ <-- HERE HSPBITSCORE}/ at lib/MRS/Client/Blast.pm line 457.
Unescaped left brace in regex is deprecated, passed through in regex; marked by <-- HERE in m/\${ <-- HERE HSPSCORE}/ at lib/MRS/Client/Blast.pm line 458.
Unescaped left brace in regex is deprecated, passed through in regex; marked by <-- HERE in m/\${ <-- HERE HSPEXPECT}/ at lib/MRS/Client/Blast.pm line 459.
Unescaped left brace in regex is deprecated, passed through in regex; marked by <-- HERE in m/\${ <-- HERE HSPIDENTITY}/ at lib/MRS/Client/Blast.pm line 460.
Unescaped left brace in regex is deprecated, passed through in regex; marked by <-- HERE in m/\${ <-- HERE HSPPOSITIVE}/ at lib/MRS/Client/Blast.pm line 461.
Unescaped left brace in regex is deprecated, passed through in regex; marked by <-- HERE in m/\${ <-- HERE HSPMIDLINE}/ at lib/MRS/Client/Blast.pm line 462.
Unescaped left brace in regex is deprecated, passed through in regex; marked by <-- HERE in m/\${ <-- HERE HSPQFROM}/ at lib/MRS/Client/Blast.pm line 484.
Unescaped left brace in regex is deprecated, passed through in regex; marked by <-- HERE in m/\${ <-- HERE HSPQTO}/ at lib/MRS/Client/Blast.pm line 485.
Unescaped left brace in regex is deprecated, passed through in regex; marked by <-- HERE in m/\${ <-- HERE HSPHFROM}/ at lib/MRS/Client/Blast.pm line 486.
Unescaped left brace in regex is deprecated, passed through in regex; marked by <-- HERE in m/\${ <-- HERE HSPHTO}/ at lib/MRS/Client/Blast.pm line 487.
Unescaped left brace in regex is deprecated, passed through in regex; marked by <-- HERE in m/\${ <-- HERE HSPALIGNLEN}/ at lib/MRS/Client/Blast.pm line 488.
Unescaped left brace in regex is deprecated, passed through in regex; marked by <-- HERE in m/\${ <-- HERE HSPQALIGN}/ at lib/MRS/Client/Blast.pm line 489.
Unescaped left brace in regex is deprecated, passed through in regex; marked by <-- HERE in m/\${ <-- HERE HSPSUBALIGN}/ at lib/MRS/Client/Blast.pm line 490.
Unescaped left brace in regex is deprecated, passed through in regex; marked by <-- HERE in m/\${ <-- HERE LOCATION}/ at lib/MRS/Client.pm line 221.
Unescaped left brace in regex is deprecated, passed through in regex; marked by <-- HERE in m/\${ <-- HERE SERVICE}/ at lib/MRS/Client.pm line 222.
Possible precedence issue with control flow operator at lib/MRS/Client/Blast.pm line 269.
Unescaped left brace in regex is deprecated, passed through in regex; marked by <-- HERE in m/\${ <-- HERE JOBID}/ at lib/MRS/Client/Blast.pm line 409.
Unescaped left brace in regex is deprecated, passed through in regex; marked by <-- HERE in m/\${ <-- HERE SEQDESC}/ at lib/MRS/Client/Blast.pm line 411.
Unescaped left brace in regex is deprecated, passed through in regex; marked by <-- HERE in m/\${ <-- HERE SEQDESC}/ at lib/MRS/Client/Blast.pm line 413.
Unescaped left brace in regex is deprecated, passed through in regex; marked by <-- HERE in m/\${ <-- HERE SEQDESC}/ at lib/MRS/Client/Blast.pm line 415.
Unescaped left brace in regex is deprecated, passed through in regex; marked by <-- HERE in m/\${ <-- HERE DB}/ at lib/MRS/Client/Blast.pm line 417.
Unescaped left brace in regex is deprecated, passed through in regex; marked by <-- HERE in m/\${ <-- HERE SEQLEN}/ at lib/MRS/Client/Blast.pm line 418.
Unescaped left brace in regex is deprecated, passed through in regex; marked by <-- HERE in m/\${ <-- HERE PARMATRIX}/ at lib/MRS/Client/Blast.pm line 419.
Unescaped left brace in regex is deprecated, passed through in regex; marked by <-- HERE in m/\${ <-- HERE PAREXPECT}/ at lib/MRS/Client/Blast.pm line 420.
Unescaped left brace in regex is deprecated, passed through in regex; marked by <-- HERE in m/\${ <-- HERE PARGAPOPEN}/ at lib/MRS/Client/Blast.pm line 421.
Unescaped left brace in regex is deprecated, passed through in regex; marked by <-- HERE in m/\${ <-- HERE PARGAPEXTEND}/ at lib/MRS/Client/Blast.pm line 422.
Unescaped left brace in regex is deprecated, passed through in regex; marked by <-- HERE in m/\${ <-- HERE PARFILTER}/ at lib/MRS/Client/Blast.pm line 423.
Unescaped left brace in regex is deprecated, passed through in regex; marked by <-- HERE in m/\${ <-- HERE DBCOUNT}/ at lib/MRS/Client/Blast.pm line 425.
Unescaped left brace in regex is deprecated, passed through in regex; marked by <-- HERE in m/\${ <-- HERE DBLENGTH}/ at lib/MRS/Client/Blast.pm line 426.
Unescaped left brace in regex is deprecated, passed through in regex; marked by <-- HERE in m/\${ <-- HERE DBSPACE}/ at lib/MRS/Client/Blast.pm line 427.
Unescaped left brace in regex is deprecated, passed through in regex; marked by <-- HERE in m/\${ <-- HERE KAPPA}/ at lib/MRS/Client/Blast.pm line 428.
Unescaped left brace in regex is deprecated, passed through in regex; marked by <-- HERE in m/\${ <-- HERE LAMBDA}/ at lib/MRS/Client/Blast.pm line 429.
Unescaped left brace in regex is deprecated, passed through in regex; marked by <-- HERE in m/\${ <-- HERE ENTROPY}/ at lib/MRS/Client/Blast.pm line 430.
Unescaped left brace in regex is deprecated, passed through in regex; marked by <-- HERE in m/\${ <-- HERE HITNR}/ at lib/MRS/Client/Blast.pm line 439.
Unescaped left brace in regex is deprecated, passed through in regex; marked by <-- HERE in m/\${ <-- HERE HITID}/ at lib/MRS/Client/Blast.pm line 440.
Unescaped left brace in regex is deprecated, passed through in regex; marked by <-- HERE in m/\${ <-- HERE HITSEQID}/ at lib/MRS/Client/Blast.pm line 442.
Unescaped left brace in regex is deprecated, passed through in regex; marked by <-- HERE in m/\${ <-- HERE HITSEQID}/ at lib/MRS/Client/Blast.pm line 444.
Unescaped left brace in regex is deprecated, passed through in regex; marked by <-- HERE in m/\${ <-- HERE HITSUBLEN}/ at lib/MRS/Client/Blast.pm line 447.
Unescaped left brace in regex is deprecated, passed through in regex; marked by <-- HERE in m/\${ <-- HERE HSPNR}/ at lib/MRS/Client/Blast.pm line 456.
Unescaped left brace in regex is deprecated, passed through in regex; marked by <-- HERE in m/\${ <-- HERE HSPBITSCORE}/ at lib/MRS/Client/Blast.pm line 457.
Unescaped left brace in regex is deprecated, passed through in regex; marked by <-- HERE in m/\${ <-- HERE HSPSCORE}/ at lib/MRS/Client/Blast.pm line 458.
Unescaped left brace in regex is deprecated, passed through in regex; marked by <-- HERE in m/\${ <-- HERE HSPEXPECT}/ at lib/MRS/Client/Blast.pm line 459.
Unescaped left brace in regex is deprecated, passed through in regex; marked by <-- HERE in m/\${ <-- HERE HSPIDENTITY}/ at lib/MRS/Client/Blast.pm line 460.
Unescaped left brace in regex is deprecated, passed through in regex; marked by <-- HERE in m/\${ <-- HERE HSPPOSITIVE}/ at lib/MRS/Client/Blast.pm line 461.
Unescaped left brace in regex is deprecated, passed through in regex; marked by <-- HERE in m/\${ <-- HERE HSPMIDLINE}/ at lib/MRS/Client/Blast.pm line 462.
Unescaped left brace in regex is deprecated, passed through in regex; marked by <-- HERE in m/\${ <-- HERE HSPQFROM}/ at lib/MRS/Client/Blast.pm line 484.
Unescaped left brace in regex is deprecated, passed through in regex; marked by <-- HERE in m/\${ <-- HERE HSPQTO}/ at lib/MRS/Client/Blast.pm line 485.
Unescaped left brace in regex is deprecated, passed through in regex; marked by <-- HERE in m/\${ <-- HERE HSPHFROM}/ at lib/MRS/Client/Blast.pm line 486.
Unescaped left brace in regex is deprecated, passed through in regex; marked by <-- HERE in m/\${ <-- HERE HSPHTO}/ at lib/MRS/Client/Blast.pm line 487.
Unescaped left brace in regex is deprecated, passed through in regex; marked by <-- HERE in m/\${ <-- HERE HSPALIGNLEN}/ at lib/MRS/Client/Blast.pm line 488.
Unescaped left brace in regex is deprecated, passed through in regex; marked by <-- HERE in m/\${ <-- HERE HSPQALIGN}/ at lib/MRS/Client/Blast.pm line 489.
Unescaped left brace in regex is deprecated, passed through in regex; marked by <-- HERE in m/\${ <-- HERE HSPSUBALIGN}/ at lib/MRS/Client/Blast.pm line 490.
t/00-compile.t .......... ok
Possible precedence issue with control flow operator at /home/cpansand/.cpan/build/2017013115/MRS-Client-1.0.1-0/blib/lib/MRS/Client/Blast.pm line 269.
Unescaped left brace in regex is deprecated, passed through in regex; marked by <-- HERE in m/\${ <-- HERE JOBID}/ at /home/cpansand/.cpan/build/2017013115/MRS-Client-1.0.1-0/blib/lib/MRS/Client/Blast.pm line 409.
Unescaped left brace in regex is deprecated, passed through in regex; marked by <-- HERE in m/\${ <-- HERE SEQDESC}/ at /home/cpansand/.cpan/build/2017013115/MRS-Client-1.0.1-0/blib/lib/MRS/Client/Blast.pm line 411.
Unescaped left brace in regex is deprecated, passed through in regex; marked by <-- HERE in m/\${ <-- HERE SEQDESC}/ at /home/cpansand/.cpan/build/2017013115/MRS-Client-1.0.1-0/blib/lib/MRS/Client/Blast.pm line 413.
Unescaped left brace in regex is deprecated, passed through in regex; marked by <-- HERE in m/\${ <-- HERE SEQDESC}/ at /home/cpansand/.cpan/build/2017013115/MRS-Client-1.0.1-0/blib/lib/MRS/Client/Blast.pm line 415.
Unescaped left brace in regex is deprecated, passed through in regex; marked by <-- HERE in m/\${ <-- HERE DB}/ at /home/cpansand/.cpan/build/2017013115/MRS-Client-1.0.1-0/blib/lib/MRS/Client/Blast.pm line 417.
Unescaped left brace in regex is deprecated, passed through in regex; marked by <-- HERE in m/\${ <-- HERE SEQLEN}/ at /home/cpansand/.cpan/build/2017013115/MRS-Client-1.0.1-0/blib/lib/MRS/Client/Blast.pm line 418.
Unescaped left brace in regex is deprecated, passed through in regex; marked by <-- HERE in m/\${ <-- HERE PARMATRIX}/ at /home/cpansand/.cpan/build/2017013115/MRS-Client-1.0.1-0/blib/lib/MRS/Client/Blast.pm line 419.
Unescaped left brace in regex is deprecated, passed through in regex; marked by <-- HERE in m/\${ <-- HERE PAREXPECT}/ at /home/cpansand/.cpan/build/2017013115/MRS-Client-1.0.1-0/blib/lib/MRS/Client/Blast.pm line 420.
Unescaped left brace in regex is deprecated, passed through in regex; marked by <-- HERE in m/\${ <-- HERE PARGAPOPEN}/ at /home/cpansand/.cpan/build/2017013115/MRS-Client-1.0.1-0/blib/lib/MRS/Client/Blast.pm line 421.
Unescaped left brace in regex is deprecated, passed through in regex; marked by <-- HERE in m/\${ <-- HERE PARGAPEXTEND}/ at /home/cpansand/.cpan/build/2017013115/MRS-Client-1.0.1-0/blib/lib/MRS/Client/Blast.pm line 422.
Unescaped left brace in regex is deprecated, passed through in regex; marked by <-- HERE in m/\${ <-- HERE PARFILTER}/ at /home/cpansand/.cpan/build/2017013115/MRS-Client-1.0.1-0/blib/lib/MRS/Client/Blast.pm line 423.
Unescaped left brace in regex is deprecated, passed through in regex; marked by <-- HERE in m/\${ <-- HERE DBCOUNT}/ at /home/cpansand/.cpan/build/2017013115/MRS-Client-1.0.1-0/blib/lib/MRS/Client/Blast.pm line 425.
Unescaped left brace in regex is deprecated, passed through in regex; marked by <-- HERE in m/\${ <-- HERE DBLENGTH}/ at /home/cpansand/.cpan/build/2017013115/MRS-Client-1.0.1-0/blib/lib/MRS/Client/Blast.pm line 426.
Unescaped left brace in regex is deprecated, passed through in regex; marked by <-- HERE in m/\${ <-- HERE DBSPACE}/ at /home/cpansand/.cpan/build/2017013115/MRS-Client-1.0.1-0/blib/lib/MRS/Client/Blast.pm line 427.
Unescaped left brace in regex is deprecated, passed through in regex; marked by <-- HERE in m/\${ <-- HERE KAPPA}/ at /home/cpansand/.cpan/build/2017013115/MRS-Client-1.0.1-0/blib/lib/MRS/Client/Blast.pm line 428.
Unescaped left brace in regex is deprecated, passed through in regex; marked by <-- HERE in m/\${ <-- HERE LAMBDA}/ at /home/cpansand/.cpan/build/2017013115/MRS-Client-1.0.1-0/blib/lib/MRS/Client/Blast.pm line 429.
Unescaped left brace in regex is deprecated, passed through in regex; marked by <-- HERE in m/\${ <-- HERE ENTROPY}/ at /home/cpansand/.cpan/build/2017013115/MRS-Client-1.0.1-0/blib/lib/MRS/Client/Blast.pm line 430.
Unescaped left brace in regex is deprecated, passed through in regex; marked by <-- HERE in m/\${ <-- HERE HITNR}/ at /home/cpansand/.cpan/build/2017013115/MRS-Client-1.0.1-0/blib/lib/MRS/Client/Blast.pm line 439.
Unescaped left brace in regex is deprecated, passed through in regex; marked by <-- HERE in m/\${ <-- HERE HITID}/ at /home/cpansand/.cpan/build/2017013115/MRS-Client-1.0.1-0/blib/lib/MRS/Client/Blast.pm line 440.
Unescaped left brace in regex is deprecated, passed through in regex; marked by <-- HERE in m/\${ <-- HERE HITSEQID}/ at /home/cpansand/.cpan/build/2017013115/MRS-Client-1.0.1-0/blib/lib/MRS/Client/Blast.pm line 442.
Unescaped left brace in regex is deprecated, passed through in regex; marked by <-- HERE in m/\${ <-- HERE HITSEQID}/ at /home/cpansand/.cpan/build/2017013115/MRS-Client-1.0.1-0/blib/lib/MRS/Client/Blast.pm line 444.
Unescaped left brace in regex is deprecated, passed through in regex; marked by <-- HERE in m/\${ <-- HERE HITSUBLEN}/ at /home/cpansand/.cpan/build/2017013115/MRS-Client-1.0.1-0/blib/lib/MRS/Client/Blast.pm line 447.
Unescaped left brace in regex is deprecated, passed through in regex; marked by <-- HERE in m/\${ <-- HERE HSPNR}/ at /home/cpansand/.cpan/build/2017013115/MRS-Client-1.0.1-0/blib/lib/MRS/Client/Blast.pm line 456.
Unescaped left brace in regex is deprecated, passed through in regex; marked by <-- HERE in m/\${ <-- HERE HSPBITSCORE}/ at /home/cpansand/.cpan/build/2017013115/MRS-Client-1.0.1-0/blib/lib/MRS/Client/Blast.pm line 457.
Unescaped left brace in regex is deprecated, passed through in regex; marked by <-- HERE in m/\${ <-- HERE HSPSCORE}/ at /home/cpansand/.cpan/build/2017013115/MRS-Client-1.0.1-0/blib/lib/MRS/Client/Blast.pm line 458.
Unescaped left brace in regex is deprecated, passed through in regex; marked by <-- HERE in m/\${ <-- HERE HSPEXPECT}/ at /home/cpansand/.cpan/build/2017013115/MRS-Client-1.0.1-0/blib/lib/MRS/Client/Blast.pm line 459.
Unescaped left brace in regex is deprecated, passed through in regex; marked by <-- HERE in m/\${ <-- HERE HSPIDENTITY}/ at /home/cpansand/.cpan/build/2017013115/MRS-Client-1.0.1-0/blib/lib/MRS/Client/Blast.pm line 460.
Unescaped left brace in regex is deprecated, passed through in regex; marked by <-- HERE in m/\${ <-- HERE HSPPOSITIVE}/ at /home/cpansand/.cpan/build/2017013115/MRS-Client-1.0.1-0/blib/lib/MRS/Client/Blast.pm line 461.
Unescaped left brace in regex is deprecated, passed through in regex; marked by <-- HERE in m/\${ <-- HERE HSPMIDLINE}/ at /home/cpansand/.cpan/build/2017013115/MRS-Client-1.0.1-0/blib/lib/MRS/Client/Blast.pm line 462.
Unescaped left brace in regex is deprecated, passed through in regex; marked by <-- HERE in m/\${ <-- HERE HSPQFROM}/ at /home/cpansand/.cpan/build/2017013115/MRS-Client-1.0.1-0/blib/lib/MRS/Client/Blast.pm line 484.
Unescaped left brace in regex is deprecated, passed through in regex; marked by <-- HERE in m/\${ <-- HERE HSPQTO}/ at /home/cpansand/.cpan/build/2017013115/MRS-Client-1.0.1-0/blib/lib/MRS/Client/Blast.pm line 485.
Unescaped left brace in regex is deprecated, passed through in regex; marked by <-- HERE in m/\${ <-- HERE HSPHFROM}/ at /home/cpansand/.cpan/build/2017013115/MRS-Client-1.0.1-0/blib/lib/MRS/Client/Blast.pm line 486.
Unescaped left brace in regex is deprecated, passed through in regex; marked by <-- HERE in m/\${ <-- HERE HSPHTO}/ at /home/cpansand/.cpan/build/2017013115/MRS-Client-1.0.1-0/blib/lib/MRS/Client/Blast.pm line 487.
Unescaped left brace in regex is deprecated, passed through in regex; marked by <-- HERE in m/\${ <-- HERE HSPALIGNLEN}/ at /home/cpansand/.cpan/build/2017013115/MRS-Client-1.0.1-0/blib/lib/MRS/Client/Blast.pm line 488.
Unescaped left brace in regex is deprecated, passed through in regex; marked by <-- HERE in m/\${ <-- HERE HSPQALIGN}/ at /home/cpansand/.cpan/build/2017013115/MRS-Client-1.0.1-0/blib/lib/MRS/Client/Blast.pm line 489.
Unescaped left brace in regex is deprecated, passed through in regex; marked by <-- HERE in m/\${ <-- HERE HSPSUBALIGN}/ at /home/cpansand/.cpan/build/2017013115/MRS-Client-1.0.1-0/blib/lib/MRS/Client/Blast.pm line 490.
Unescaped left brace in regex is deprecated, passed through in regex; marked by <-- HERE in m/\${ <-- HERE LOCATION}/ at /home/cpansand/.cpan/build/2017013115/MRS-Client-1.0.1-0/blib/lib/MRS/Client.pm line 221.
Unescaped left brace in regex is deprecated, passed through in regex; marked by <-- HERE in m/\${ <-- HERE SERVICE}/ at /home/cpansand/.cpan/build/2017013115/MRS-Client-1.0.1-0/blib/lib/MRS/Client.pm line 222.
# Testing MRS::Client 1.0.1, Perl v5.22.3, /opt/perl-5.22.3/bin/perl5.22.3
t/00-load.t ............. ok
Possible precedence issue with control flow operator at /home/cpansand/.cpan/build/2017013115/MRS-Client-1.0.1-0/blib/lib/MRS/Client/Blast.pm line 269.
Unescaped left brace in regex is deprecated, passed through in regex; marked by <-- HERE in m/\${ <-- HERE JOBID}/ at /home/cpansand/.cpan/build/2017013115/MRS-Client-1.0.1-0/blib/lib/MRS/Client/Blast.pm line 409.
Unescaped left brace in regex is deprecated, passed through in regex; marked by <-- HERE in m/\${ <-- HERE SEQDESC}/ at /home/cpansand/.cpan/build/2017013115/MRS-Client-1.0.1-0/blib/lib/MRS/Client/Blast.pm line 411.
Unescaped left brace in regex is deprecated, passed through in regex; marked by <-- HERE in m/\${ <-- HERE SEQDESC}/ at /home/cpansand/.cpan/build/2017013115/MRS-Client-1.0.1-0/blib/lib/MRS/Client/Blast.pm line 413.
Unescaped left brace in regex is deprecated, passed through in regex; marked by <-- HERE in m/\${ <-- HERE SEQDESC}/ at /home/cpansand/.cpan/build/2017013115/MRS-Client-1.0.1-0/blib/lib/MRS/Client/Blast.pm line 415.
Unescaped left brace in regex is deprecated, passed through in regex; marked by <-- HERE in m/\${ <-- HERE DB}/ at /home/cpansand/.cpan/build/2017013115/MRS-Client-1.0.1-0/blib/lib/MRS/Client/Blast.pm line 417.
Unescaped left brace in regex is deprecated, passed through in regex; marked by <-- HERE in m/\${ <-- HERE SEQLEN}/ at /home/cpansand/.cpan/build/2017013115/MRS-Client-1.0.1-0/blib/lib/MRS/Client/Blast.pm line 418.
Unescaped left brace in regex is deprecated, passed through in regex; marked by <-- HERE in m/\${ <-- HERE PARMATRIX}/ at /home/cpansand/.cpan/build/2017013115/MRS-Client-1.0.1-0/blib/lib/MRS/Client/Blast.pm line 419.
Unescaped left brace in regex is deprecated, passed through in regex; marked by <-- HERE in m/\${ <-- HERE PAREXPECT}/ at /home/cpansand/.cpan/build/2017013115/MRS-Client-1.0.1-0/blib/lib/MRS/Client/Blast.pm line 420.
Unescaped left brace in regex is deprecated, passed through in regex; marked by <-- HERE in m/\${ <-- HERE PARGAPOPEN}/ at /home/cpansand/.cpan/build/2017013115/MRS-Client-1.0.1-0/blib/lib/MRS/Client/Blast.pm line 421.
Unescaped left brace in regex is deprecated, passed through in regex; marked by <-- HERE in m/\${ <-- HERE PARGAPEXTEND}/ at /home/cpansand/.cpan/build/2017013115/MRS-Client-1.0.1-0/blib/lib/MRS/Client/Blast.pm line 422.
Unescaped left brace in regex is deprecated, passed through in regex; marked by <-- HERE in m/\${ <-- HERE PARFILTER}/ at /home/cpansand/.cpan/build/2017013115/MRS-Client-1.0.1-0/blib/lib/MRS/Client/Blast.pm line 423.
Unescaped left brace in regex is deprecated, passed through in regex; marked by <-- HERE in m/\${ <-- HERE DBCOUNT}/ at /home/cpansand/.cpan/build/2017013115/MRS-Client-1.0.1-0/blib/lib/MRS/Client/Blast.pm line 425.
Unescaped left brace in regex is deprecated, passed through in regex; marked by <-- HERE in m/\${ <-- HERE DBLENGTH}/ at /home/cpansand/.cpan/build/2017013115/MRS-Client-1.0.1-0/blib/lib/MRS/Client/Blast.pm line 426.
Unescaped left brace in regex is deprecated, passed through in regex; marked by <-- HERE in m/\${ <-- HERE DBSPACE}/ at /home/cpansand/.cpan/build/2017013115/MRS-Client-1.0.1-0/blib/lib/MRS/Client/Blast.pm line 427.
Unescaped left brace in regex is deprecated, passed through in regex; marked by <-- HERE in m/\${ <-- HERE KAPPA}/ at /home/cpansand/.cpan/build/2017013115/MRS-Client-1.0.1-0/blib/lib/MRS/Client/Blast.pm line 428.
Unescaped left brace in regex is deprecated, passed through in regex; marked by <-- HERE in m/\${ <-- HERE LAMBDA}/ at /home/cpansand/.cpan/build/2017013115/MRS-Client-1.0.1-0/blib/lib/MRS/Client/Blast.pm line 429.
Unescaped left brace in regex is deprecated, passed through in regex; marked by <-- HERE in m/\${ <-- HERE ENTROPY}/ at /home/cpansand/.cpan/build/2017013115/MRS-Client-1.0.1-0/blib/lib/MRS/Client/Blast.pm line 430.
Unescaped left brace in regex is deprecated, passed through in regex; marked by <-- HERE in m/\${ <-- HERE HITNR}/ at /home/cpansand/.cpan/build/2017013115/MRS-Client-1.0.1-0/blib/lib/MRS/Client/Blast.pm line 439.
Unescaped left brace in regex is deprecated, passed through in regex; marked by <-- HERE in m/\${ <-- HERE HITID}/ at /home/cpansand/.cpan/build/2017013115/MRS-Client-1.0.1-0/blib/lib/MRS/Client/Blast.pm line 440.
Unescaped left brace in regex is deprecated, passed through in regex; marked by <-- HERE in m/\${ <-- HERE HITSEQID}/ at /home/cpansand/.cpan/build/2017013115/MRS-Client-1.0.1-0/blib/lib/MRS/Client/Blast.pm line 442.
Unescaped left brace in regex is deprecated, passed through in regex; marked by <-- HERE in m/\${ <-- HERE HITSEQID}/ at /home/cpansand/.cpan/build/2017013115/MRS-Client-1.0.1-0/blib/lib/MRS/Client/Blast.pm line 444.
Unescaped left brace in regex is deprecated, passed through in regex; marked by <-- HERE in m/\${ <-- HERE HITSUBLEN}/ at /home/cpansand/.cpan/build/2017013115/MRS-Client-1.0.1-0/blib/lib/MRS/Client/Blast.pm line 447.
Unescaped left brace in regex is deprecated, passed through in regex; marked by <-- HERE in m/\${ <-- HERE HSPNR}/ at /home/cpansand/.cpan/build/2017013115/MRS-Client-1.0.1-0/blib/lib/MRS/Client/Blast.pm line 456.
Unescaped left brace in regex is deprecated, passed through in regex; marked by <-- HERE in m/\${ <-- HERE HSPBITSCORE}/ at /home/cpansand/.cpan/build/2017013115/MRS-Client-1.0.1-0/blib/lib/MRS/Client/Blast.pm line 457.
Unescaped left brace in regex is deprecated, passed through in regex; marked by <-- HERE in m/\${ <-- HERE HSPSCORE}/ at /home/cpansand/.cpan/build/2017013115/MRS-Client-1.0.1-0/blib/lib/MRS/Client/Blast.pm line 458.
Unescaped left brace in regex is deprecated, passed through in regex; marked by <-- HERE in m/\${ <-- HERE HSPEXPECT}/ at /home/cpansand/.cpan/build/2017013115/MRS-Client-1.0.1-0/blib/lib/MRS/Client/Blast.pm line 459.
Unescaped left brace in regex is deprecated, passed through in regex; marked by <-- HERE in m/\${ <-- HERE HSPIDENTITY}/ at /home/cpansand/.cpan/build/2017013115/MRS-Client-1.0.1-0/blib/lib/MRS/Client/Blast.pm line 460.
Unescaped left brace in regex is deprecated, passed through in regex; marked by <-- HERE in m/\${ <-- HERE HSPPOSITIVE}/ at /home/cpansand/.cpan/build/2017013115/MRS-Client-1.0.1-0/blib/lib/MRS/Client/Blast.pm line 461.
Unescaped left brace in regex is deprecated, passed through in regex; marked by <-- HERE in m/\${ <-- HERE HSPMIDLINE}/ at /home/cpansand/.cpan/build/2017013115/MRS-Client-1.0.1-0/blib/lib/MRS/Client/Blast.pm line 462.
Unescaped left brace in regex is deprecated, passed through in regex; marked by <-- HERE in m/\${ <-- HERE HSPQFROM}/ at /home/cpansand/.cpan/build/2017013115/MRS-Client-1.0.1-0/blib/lib/MRS/Client/Blast.pm line 484.
Unescaped left brace in regex is deprecated, passed through in regex; marked by <-- HERE in m/\${ <-- HERE HSPQTO}/ at /home/cpansand/.cpan/build/2017013115/MRS-Client-1.0.1-0/blib/lib/MRS/Client/Blast.pm line 485.
Unescaped left brace in regex is deprecated, passed through in regex; marked by <-- HERE in m/\${ <-- HERE HSPHFROM}/ at /home/cpansand/.cpan/build/2017013115/MRS-Client-1.0.1-0/blib/lib/MRS/Client/Blast.pm line 486.
Unescaped left brace in regex is deprecated, passed through in regex; marked by <-- HERE in m/\${ <-- HERE HSPHTO}/ at /home/cpansand/.cpan/build/2017013115/MRS-Client-1.0.1-0/blib/lib/MRS/Client/Blast.pm line 487.
Unescaped left brace in regex is deprecated, passed through in regex; marked by <-- HERE in m/\${ <-- HERE HSPALIGNLEN}/ at /home/cpansand/.cpan/build/2017013115/MRS-Client-1.0.1-0/blib/lib/MRS/Client/Blast.pm line 488.
Unescaped left brace in regex is deprecated, passed through in regex; marked by <-- HERE in m/\${ <-- HERE HSPQALIGN}/ at /home/cpansand/.cpan/build/2017013115/MRS-Client-1.0.1-0/blib/lib/MRS/Client/Blast.pm line 489.
Unescaped left brace in regex is deprecated, passed through in regex; marked by <-- HERE in m/\${ <-- HERE HSPSUBALIGN}/ at /home/cpansand/.cpan/build/2017013115/MRS-Client-1.0.1-0/blib/lib/MRS/Client/Blast.pm line 490.
Unescaped left brace in regex is deprecated, passed through in regex; marked by <-- HERE in m/\${ <-- HERE LOCATION}/ at /home/cpansand/.cpan/build/2017013115/MRS-Client-1.0.1-0/blib/lib/MRS/Client.pm line 221.
Unescaped left brace in regex is deprecated, passed through in regex; marked by <-- HERE in m/\${ <-- HERE SERVICE}/ at /home/cpansand/.cpan/build/2017013115/MRS-Client-1.0.1-0/blib/lib/MRS/Client.pm line 222.
# Data manipulation
t/01-data.t ............. ok
Possible precedence issue with control flow operator at /home/cpansand/.cpan/build/2017013115/MRS-Client-1.0.1-0/blib/lib/MRS/Client/Blast.pm line 269.
Unescaped left brace in regex is deprecated, passed through in regex; marked by <-- HERE in m/\${ <-- HERE JOBID}/ at /home/cpansand/.cpan/build/2017013115/MRS-Client-1.0.1-0/blib/lib/MRS/Client/Blast.pm line 409.
Unescaped left brace in regex is deprecated, passed through in regex; marked by <-- HERE in m/\${ <-- HERE SEQDESC}/ at /home/cpansand/.cpan/build/2017013115/MRS-Client-1.0.1-0/blib/lib/MRS/Client/Blast.pm line 411.
Unescaped left brace in regex is deprecated, passed through in regex; marked by <-- HERE in m/\${ <-- HERE SEQDESC}/ at /home/cpansand/.cpan/build/2017013115/MRS-Client-1.0.1-0/blib/lib/MRS/Client/Blast.pm line 413.
Unescaped left brace in regex is deprecated, passed through in regex; marked by <-- HERE in m/\${ <-- HERE SEQDESC}/ at /home/cpansand/.cpan/build/2017013115/MRS-Client-1.0.1-0/blib/lib/MRS/Client/Blast.pm line 415.
Unescaped left brace in regex is deprecated, passed through in regex; marked by <-- HERE in m/\${ <-- HERE DB}/ at /home/cpansand/.cpan/build/2017013115/MRS-Client-1.0.1-0/blib/lib/MRS/Client/Blast.pm line 417.
Unescaped left brace in regex is deprecated, passed through in regex; marked by <-- HERE in m/\${ <-- HERE SEQLEN}/ at /home/cpansand/.cpan/build/2017013115/MRS-Client-1.0.1-0/blib/lib/MRS/Client/Blast.pm line 418.
Unescaped left brace in regex is deprecated, passed through in regex; marked by <-- HERE in m/\${ <-- HERE PARMATRIX}/ at /home/cpansand/.cpan/build/2017013115/MRS-Client-1.0.1-0/blib/lib/MRS/Client/Blast.pm line 419.
Unescaped left brace in regex is deprecated, passed through in regex; marked by <-- HERE in m/\${ <-- HERE PAREXPECT}/ at /home/cpansand/.cpan/build/2017013115/MRS-Client-1.0.1-0/blib/lib/MRS/Client/Blast.pm line 420.
Unescaped left brace in regex is deprecated, passed through in regex; marked by <-- HERE in m/\${ <-- HERE PARGAPOPEN}/ at /home/cpansand/.cpan/build/2017013115/MRS-Client-1.0.1-0/blib/lib/MRS/Client/Blast.pm line 421.
Unescaped left brace in regex is deprecated, passed through in regex; marked by <-- HERE in m/\${ <-- HERE PARGAPEXTEND}/ at /home/cpansand/.cpan/build/2017013115/MRS-Client-1.0.1-0/blib/lib/MRS/Client/Blast.pm line 422.
Unescaped left brace in regex is deprecated, passed through in regex; marked by <-- HERE in m/\${ <-- HERE PARFILTER}/ at /home/cpansand/.cpan/build/2017013115/MRS-Client-1.0.1-0/blib/lib/MRS/Client/Blast.pm line 423.
Unescaped left brace in regex is deprecated, passed through in regex; marked by <-- HERE in m/\${ <-- HERE DBCOUNT}/ at /home/cpansand/.cpan/build/2017013115/MRS-Client-1.0.1-0/blib/lib/MRS/Client/Blast.pm line 425.
Unescaped left brace in regex is deprecated, passed through in regex; marked by <-- HERE in m/\${ <-- HERE DBLENGTH}/ at /home/cpansand/.cpan/build/2017013115/MRS-Client-1.0.1-0/blib/lib/MRS/Client/Blast.pm line 426.
Unescaped left brace in regex is deprecated, passed through in regex; marked by <-- HERE in m/\${ <-- HERE DBSPACE}/ at /home/cpansand/.cpan/build/2017013115/MRS-Client-1.0.1-0/blib/lib/MRS/Client/Blast.pm line 427.
Unescaped left brace in regex is deprecated, passed through in regex; marked by <-- HERE in m/\${ <-- HERE KAPPA}/ at /home/cpansand/.cpan/build/2017013115/MRS-Client-1.0.1-0/blib/lib/MRS/Client/Blast.pm line 428.
Unescaped left brace in regex is deprecated, passed through in regex; marked by <-- HERE in m/\${ <-- HERE LAMBDA}/ at /home/cpansand/.cpan/build/2017013115/MRS-Client-1.0.1-0/blib/lib/MRS/Client/Blast.pm line 429.
Unescaped left brace in regex is deprecated, passed through in regex; marked by <-- HERE in m/\${ <-- HERE ENTROPY}/ at /home/cpansand/.cpan/build/2017013115/MRS-Client-1.0.1-0/blib/lib/MRS/Client/Blast.pm line 430.
Unescaped left brace in regex is deprecated, passed through in regex; marked by <-- HERE in m/\${ <-- HERE HITNR}/ at /home/cpansand/.cpan/build/2017013115/MRS-Client-1.0.1-0/blib/lib/MRS/Client/Blast.pm line 439.
Unescaped left brace in regex is deprecated, passed through in regex; marked by <-- HERE in m/\${ <-- HERE HITID}/ at /home/cpansand/.cpan/build/2017013115/MRS-Client-1.0.1-0/blib/lib/MRS/Client/Blast.pm line 440.
Unescaped left brace in regex is deprecated, passed through in regex; marked by <-- HERE in m/\${ <-- HERE HITSEQID}/ at /home/cpansand/.cpan/build/2017013115/MRS-Client-1.0.1-0/blib/lib/MRS/Client/Blast.pm line 442.
Unescaped left brace in regex is deprecated, passed through in regex; marked by <-- HERE in m/\${ <-- HERE HITSEQID}/ at /home/cpansand/.cpan/build/2017013115/MRS-Client-1.0.1-0/blib/lib/MRS/Client/Blast.pm line 444.
Unescaped left brace in regex is deprecated, passed through in regex; marked by <-- HERE in m/\${ <-- HERE HITSUBLEN}/ at /home/cpansand/.cpan/build/2017013115/MRS-Client-1.0.1-0/blib/lib/MRS/Client/Blast.pm line 447.
Unescaped left brace in regex is deprecated, passed through in regex; marked by <-- HERE in m/\${ <-- HERE HSPNR}/ at /home/cpansand/.cpan/build/2017013115/MRS-Client-1.0.1-0/blib/lib/MRS/Client/Blast.pm line 456.
Unescaped left brace in regex is deprecated, passed through in regex; marked by <-- HERE in m/\${ <-- HERE HSPBITSCORE}/ at /home/cpansand/.cpan/build/2017013115/MRS-Client-1.0.1-0/blib/lib/MRS/Client/Blast.pm line 457.
Unescaped left brace in regex is deprecated, passed through in regex; marked by <-- HERE in m/\${ <-- HERE HSPSCORE}/ at /home/cpansand/.cpan/build/2017013115/MRS-Client-1.0.1-0/blib/lib/MRS/Client/Blast.pm line 458.
Unescaped left brace in regex is deprecated, passed through in regex; marked by <-- HERE in m/\${ <-- HERE HSPEXPECT}/ at /home/cpansand/.cpan/build/2017013115/MRS-Client-1.0.1-0/blib/lib/MRS/Client/Blast.pm line 459.
Unescaped left brace in regex is deprecated, passed through in regex; marked by <-- HERE in m/\${ <-- HERE HSPIDENTITY}/ at /home/cpansand/.cpan/build/2017013115/MRS-Client-1.0.1-0/blib/lib/MRS/Client/Blast.pm line 460.
Unescaped left brace in regex is deprecated, passed through in regex; marked by <-- HERE in m/\${ <-- HERE HSPPOSITIVE}/ at /home/cpansand/.cpan/build/2017013115/MRS-Client-1.0.1-0/blib/lib/MRS/Client/Blast.pm line 461.
Unescaped left brace in regex is deprecated, passed through in regex; marked by <-- HERE in m/\${ <-- HERE HSPMIDLINE}/ at /home/cpansand/.cpan/build/2017013115/MRS-Client-1.0.1-0/blib/lib/MRS/Client/Blast.pm line 462.
Unescaped left brace in regex is deprecated, passed through in regex; marked by <-- HERE in m/\${ <-- HERE HSPQFROM}/ at /home/cpansand/.cpan/build/2017013115/MRS-Client-1.0.1-0/blib/lib/MRS/Client/Blast.pm line 484.
Unescaped left brace in regex is deprecated, passed through in regex; marked by <-- HERE in m/\${ <-- HERE HSPQTO}/ at /home/cpansand/.cpan/build/2017013115/MRS-Client-1.0.1-0/blib/lib/MRS/Client/Blast.pm line 485.
Unescaped left brace in regex is deprecated, passed through in regex; marked by <-- HERE in m/\${ <-- HERE HSPHFROM}/ at /home/cpansand/.cpan/build/2017013115/MRS-Client-1.0.1-0/blib/lib/MRS/Client/Blast.pm line 486.
Unescaped left brace in regex is deprecated, passed through in regex; marked by <-- HERE in m/\${ <-- HERE HSPHTO}/ at /home/cpansand/.cpan/build/2017013115/MRS-Client-1.0.1-0/blib/lib/MRS/Client/Blast.pm line 487.
Unescaped left brace in regex is deprecated, passed through in regex; marked by <-- HERE in m/\${ <-- HERE HSPALIGNLEN}/ at /home/cpansand/.cpan/build/2017013115/MRS-Client-1.0.1-0/blib/lib/MRS/Client/Blast.pm line 488.
Unescaped left brace in regex is deprecated, passed through in regex; marked by <-- HERE in m/\${ <-- HERE HSPQALIGN}/ at /home/cpansand/.cpan/build/2017013115/MRS-Client-1.0.1-0/blib/lib/MRS/Client/Blast.pm line 489.
Unescaped left brace in regex is deprecated, passed through in regex; marked by <-- HERE in m/\${ <-- HERE HSPSUBALIGN}/ at /home/cpansand/.cpan/build/2017013115/MRS-Client-1.0.1-0/blib/lib/MRS/Client/Blast.pm line 490.
Unescaped left brace in regex is deprecated, passed through in regex; marked by <-- HERE in m/\${ <-- HERE LOCATION}/ at /home/cpansand/.cpan/build/2017013115/MRS-Client-1.0.1-0/blib/lib/MRS/Client.pm line 221.
Unescaped left brace in regex is deprecated, passed through in regex; marked by <-- HERE in m/\${ <-- HERE SERVICE}/ at /home/cpansand/.cpan/build/2017013115/MRS-Client-1.0.1-0/blib/lib/MRS/Client.pm line 222.
# Setting host and endpoints
t/02-endpoint.t ......... ok
t/03-network.t .......... skipped: these tests are for testing by the author (when AUTHOR_TESTING=1)
Possible precedence issue with control flow operator at /home/cpansand/.cpan/build/2017013115/MRS-Client-1.0.1-0/blib/lib/MRS/Client/Blast.pm line 269.
Unescaped left brace in regex is deprecated, passed through in regex; marked by <-- HERE in m/\${ <-- HERE JOBID}/ at /home/cpansand/.cpan/build/2017013115/MRS-Client-1.0.1-0/blib/lib/MRS/Client/Blast.pm line 409.
Unescaped left brace in regex is deprecated, passed through in regex; marked by <-- HERE in m/\${ <-- HERE SEQDESC}/ at /home/cpansand/.cpan/build/2017013115/MRS-Client-1.0.1-0/blib/lib/MRS/Client/Blast.pm line 411.
Unescaped left brace in regex is deprecated, passed through in regex; marked by <-- HERE in m/\${ <-- HERE SEQDESC}/ at /home/cpansand/.cpan/build/2017013115/MRS-Client-1.0.1-0/blib/lib/MRS/Client/Blast.pm line 413.
Unescaped left brace in regex is deprecated, passed through in regex; marked by <-- HERE in m/\${ <-- HERE SEQDESC}/ at /home/cpansand/.cpan/build/2017013115/MRS-Client-1.0.1-0/blib/lib/MRS/Client/Blast.pm line 415.
Unescaped left brace in regex is deprecated, passed through in regex; marked by <-- HERE in m/\${ <-- HERE DB}/ at /home/cpansand/.cpan/build/2017013115/MRS-Client-1.0.1-0/blib/lib/MRS/Client/Blast.pm line 417.
Unescaped left brace in regex is deprecated, passed through in regex; marked by <-- HERE in m/\${ <-- HERE SEQLEN}/ at /home/cpansand/.cpan/build/2017013115/MRS-Client-1.0.1-0/blib/lib/MRS/Client/Blast.pm line 418.
Unescaped left brace in regex is deprecated, passed through in regex; marked by <-- HERE in m/\${ <-- HERE PARMATRIX}/ at /home/cpansand/.cpan/build/2017013115/MRS-Client-1.0.1-0/blib/lib/MRS/Client/Blast.pm line 419.
Unescaped left brace in regex is deprecated, passed through in regex; marked by <-- HERE in m/\${ <-- HERE PAREXPECT}/ at /home/cpansand/.cpan/build/2017013115/MRS-Client-1.0.1-0/blib/lib/MRS/Client/Blast.pm line 420.
Unescaped left brace in regex is deprecated, passed through in regex; marked by <-- HERE in m/\${ <-- HERE PARGAPOPEN}/ at /home/cpansand/.cpan/build/2017013115/MRS-Client-1.0.1-0/blib/lib/MRS/Client/Blast.pm line 421.
Unescaped left brace in regex is deprecated, passed through in regex; marked by <-- HERE in m/\${ <-- HERE PARGAPEXTEND}/ at /home/cpansand/.cpan/build/2017013115/MRS-Client-1.0.1-0/blib/lib/MRS/Client/Blast.pm line 422.
Unescaped left brace in regex is deprecated, passed through in regex; marked by <-- HERE in m/\${ <-- HERE PARFILTER}/ at /home/cpansand/.cpan/build/2017013115/MRS-Client-1.0.1-0/blib/lib/MRS/Client/Blast.pm line 423.
Unescaped left brace in regex is deprecated, passed through in regex; marked by <-- HERE in m/\${ <-- HERE DBCOUNT}/ at /home/cpansand/.cpan/build/2017013115/MRS-Client-1.0.1-0/blib/lib/MRS/Client/Blast.pm line 425.
Unescaped left brace in regex is deprecated, passed through in regex; marked by <-- HERE in m/\${ <-- HERE DBLENGTH}/ at /home/cpansand/.cpan/build/2017013115/MRS-Client-1.0.1-0/blib/lib/MRS/Client/Blast.pm line 426.
Unescaped left brace in regex is deprecated, passed through in regex; marked by <-- HERE in m/\${ <-- HERE DBSPACE}/ at /home/cpansand/.cpan/build/2017013115/MRS-Client-1.0.1-0/blib/lib/MRS/Client/Blast.pm line 427.
Unescaped left brace in regex is deprecated, passed through in regex; marked by <-- HERE in m/\${ <-- HERE KAPPA}/ at /home/cpansand/.cpan/build/2017013115/MRS-Client-1.0.1-0/blib/lib/MRS/Client/Blast.pm line 428.
Unescaped left brace in regex is deprecated, passed through in regex; marked by <-- HERE in m/\${ <-- HERE LAMBDA}/ at /home/cpansand/.cpan/build/2017013115/MRS-Client-1.0.1-0/blib/lib/MRS/Client/Blast.pm line 429.
Unescaped left brace in regex is deprecated, passed through in regex; marked by <-- HERE in m/\${ <-- HERE ENTROPY}/ at /home/cpansand/.cpan/build/2017013115/MRS-Client-1.0.1-0/blib/lib/MRS/Client/Blast.pm line 430.
Unescaped left brace in regex is deprecated, passed through in regex; marked by <-- HERE in m/\${ <-- HERE HITNR}/ at /home/cpansand/.cpan/build/2017013115/MRS-Client-1.0.1-0/blib/lib/MRS/Client/Blast.pm line 439.
Unescaped left brace in regex is deprecated, passed through in regex; marked by <-- HERE in m/\${ <-- HERE HITID}/ at /home/cpansand/.cpan/build/2017013115/MRS-Client-1.0.1-0/blib/lib/MRS/Client/Blast.pm line 440.
Unescaped left brace in regex is deprecated, passed through in regex; marked by <-- HERE in m/\${ <-- HERE HITSEQID}/ at /home/cpansand/.cpan/build/2017013115/MRS-Client-1.0.1-0/blib/lib/MRS/Client/Blast.pm line 442.
Unescaped left brace in regex is deprecated, passed through in regex; marked by <-- HERE in m/\${ <-- HERE HITSEQID}/ at /home/cpansand/.cpan/build/2017013115/MRS-Client-1.0.1-0/blib/lib/MRS/Client/Blast.pm line 444.
Unescaped left brace in regex is deprecated, passed through in regex; marked by <-- HERE in m/\${ <-- HERE HITSUBLEN}/ at /home/cpansand/.cpan/build/2017013115/MRS-Client-1.0.1-0/blib/lib/MRS/Client/Blast.pm line 447.
Unescaped left brace in regex is deprecated, passed through in regex; marked by <-- HERE in m/\${ <-- HERE HSPNR}/ at /home/cpansand/.cpan/build/2017013115/MRS-Client-1.0.1-0/blib/lib/MRS/Client/Blast.pm line 456.
Unescaped left brace in regex is deprecated, passed through in regex; marked by <-- HERE in m/\${ <-- HERE HSPBITSCORE}/ at /home/cpansand/.cpan/build/2017013115/MRS-Client-1.0.1-0/blib/lib/MRS/Client/Blast.pm line 457.
Unescaped left brace in regex is deprecated, passed through in regex; marked by <-- HERE in m/\${ <-- HERE HSPSCORE}/ at /home/cpansand/.cpan/build/2017013115/MRS-Client-1.0.1-0/blib/lib/MRS/Client/Blast.pm line 458.
Unescaped left brace in regex is deprecated, passed through in regex; marked by <-- HERE in m/\${ <-- HERE HSPEXPECT}/ at /home/cpansand/.cpan/build/2017013115/MRS-Client-1.0.1-0/blib/lib/MRS/Client/Blast.pm line 459.
Unescaped left brace in regex is deprecated, passed through in regex; marked by <-- HERE in m/\${ <-- HERE HSPIDENTITY}/ at /home/cpansand/.cpan/build/2017013115/MRS-Client-1.0.1-0/blib/lib/MRS/Client/Blast.pm line 460.
Unescaped left brace in regex is deprecated, passed through in regex; marked by <-- HERE in m/\${ <-- HERE HSPPOSITIVE}/ at /home/cpansand/.cpan/build/2017013115/MRS-Client-1.0.1-0/blib/lib/MRS/Client/Blast.pm line 461.
Unescaped left brace in regex is deprecated, passed through in regex; marked by <-- HERE in m/\${ <-- HERE HSPMIDLINE}/ at /home/cpansand/.cpan/build/2017013115/MRS-Client-1.0.1-0/blib/lib/MRS/Client/Blast.pm line 462.
Unescaped left brace in regex is deprecated, passed through in regex; marked by <-- HERE in m/\${ <-- HERE HSPQFROM}/ at /home/cpansand/.cpan/build/2017013115/MRS-Client-1.0.1-0/blib/lib/MRS/Client/Blast.pm line 484.
Unescaped left brace in regex is deprecated, passed through in regex; marked by <-- HERE in m/\${ <-- HERE HSPQTO}/ at /home/cpansand/.cpan/build/2017013115/MRS-Client-1.0.1-0/blib/lib/MRS/Client/Blast.pm line 485.
Unescaped left brace in regex is deprecated, passed through in regex; marked by <-- HERE in m/\${ <-- HERE HSPHFROM}/ at /home/cpansand/.cpan/build/2017013115/MRS-Client-1.0.1-0/blib/lib/MRS/Client/Blast.pm line 486.
Unescaped left brace in regex is deprecated, passed through in regex; marked by <-- HERE in m/\${ <-- HERE HSPHTO}/ at /home/cpansand/.cpan/build/2017013115/MRS-Client-1.0.1-0/blib/lib/MRS/Client/Blast.pm line 487.
Unescaped left brace in regex is deprecated, passed through in regex; marked by <-- HERE in m/\${ <-- HERE HSPALIGNLEN}/ at /home/cpansand/.cpan/build/2017013115/MRS-Client-1.0.1-0/blib/lib/MRS/Client/Blast.pm line 488.
Unescaped left brace in regex is deprecated, passed through in regex; marked by <-- HERE in m/\${ <-- HERE HSPQALIGN}/ at /home/cpansand/.cpan/build/2017013115/MRS-Client-1.0.1-0/blib/lib/MRS/Client/Blast.pm line 489.
Unescaped left brace in regex is deprecated, passed through in regex; marked by <-- HERE in m/\${ <-- HERE HSPSUBALIGN}/ at /home/cpansand/.cpan/build/2017013115/MRS-Client-1.0.1-0/blib/lib/MRS/Client/Blast.pm line 490.
Unescaped left brace in regex is deprecated, passed through in regex; marked by <-- HERE in m/\${ <-- HERE LOCATION}/ at /home/cpansand/.cpan/build/2017013115/MRS-Client-1.0.1-0/blib/lib/MRS/Client.pm line 221.
Unescaped left brace in regex is deprecated, passed through in regex; marked by <-- HERE in m/\${ <-- HERE SERVICE}/ at /home/cpansand/.cpan/build/2017013115/MRS-Client-1.0.1-0/blib/lib/MRS/Client.pm line 222.
# Manipulation of hyperlinks
t/04-links.t ............ ok
t/author-critic.t ....... skipped: these tests are for testing by the author
t/author-pod-spell.t .... skipped: these tests are for testing by the author
t/release-eol.t ......... skipped: these tests are for release candidate testing
t/release-no-tabs.t ..... skipped: these tests are for release candidate testing
t/release-pod-syntax.t .. skipped: these tests are for release candidate testing
All tests successful.
Files=11, Tests=113, 4 wallclock secs ( 0.08 usr 0.02 sys + 3.14 cusr 0.48 csys = 3.72 CPU)
Result: PASS
------------------------------
PREREQUISITES
------------------------------
Prerequisite modules loaded:
requires:
Module Need Have
--------------------------------- ---- --------
base 0 2.23
Carp 0 1.38
constant 0 1.33
Data::Dumper 0 2.161
File::Basename 0 2.85
FindBin 0 1.51
Getopt::Std 0 1.11
Math::BigInt 0 1.999808
overload 0 1.26
strict 0 1.09
vars 0 1.03
warnings 0 1.34
XML::Compile::SOAP11 2.26 3.21
XML::Compile::Transport::SOAPHTTP 0 3.21
XML::Compile::WSDL11 0 3.06
build_requires:
Module Need Have
--------------------------------- ---- --------
File::Find 0 1.29
File::Spec 0 3.62
File::Temp 0 0.2304
Test::More 0 1.302075
configure_requires:
Module Need Have
--------------------------------- ---- --------
ExtUtils::MakeMaker 6.30 7.24
------------------------------
ENVIRONMENT AND OTHER CONTEXT
------------------------------
Environment variables:
LANG = en_US.UTF-8
PATH = /usr/local/bin:/usr/bin:/bin:/usr/local/sbin:/usr/sbin:/sbin:/home/cpansand/bin/linux-gnu:/home/cpansand/bin/sh:/home/cpansand/bin:/usr/games:/home/cpansand/devel:/home/eserte/src/srezic-misc/scripts
PERL5LIB =
PERL5OPT =
PERL5_CPANPLUS_IS_RUNNING = 31405
PERL5_CPAN_IS_RUNNING = 31405
PERL5_CPAN_IS_RUNNING_IN_RECURSION = 6501,31405
PERLDOC = -MPod::Perldoc::ToTextOverstrike
PERL_BATCH = yes
PERL_CANARY_STABILITY_NOPROMPT = 1
PERL_CPAN_REPORTER_CONFIG = /var/tmp/cpansmoker-1002/2017013115/cpanreporter_000_config.ini
PERL_EXTUTILS_AUTOINSTALL = --defaultdeps
SHELL = /bin/zsh
TERM = screen
TMPDIR = /var/tmp/cpansmoker-1002/2017013115
Perl special variables (and OS-specific diagnostics, for MSWin32):
$^X = /opt/perl-5.22.3/bin/perl5.22.3
$UID/$EUID = 1002 / 1002
$GID = 1002 1002
$EGID = 1002 1002
Perl module toolchain versions installed:
Module Have
------------------- --------
CPAN 2.14
CPAN::Meta 2.150010
Cwd 3.62
ExtUtils::CBuilder 0.280224
ExtUtils::Command 7.24
ExtUtils::Install 2.04
ExtUtils::MakeMaker 7.24
ExtUtils::Manifest 1.70
ExtUtils::ParseXS 3.30
File::Spec 3.62
JSON 2.90
JSON::PP 2.27400
Module::Build 0.4220
Module::Signature 0.81
Parse::CPAN::Meta 2.150010
Test::Harness 3.36
Test::More 1.302075
YAML 1.21
YAML::Syck 1.29
version 0.9917
--
Summary of my perl5 (revision 5 version 22 subversion 3) configuration:
Platform:
osname=linux, osvers=4.4.0-59-generic, archname=x86_64-linux
uname='linux prod3.bbbike.org 4.4.0-59-generic #80-ubuntu smp fri jan 6 17:47:47 utc 2017 x86_64 x86_64 x86_64 gnulinux '
config_args='-ds -e -Dprefix=/opt/perl-5.22.3 -Dcf_email=srezic@cpan.org'
hint=recommended, useposix=true, d_sigaction=define
useithreads=undef, usemultiplicity=undef
use64bitint=define, use64bitall=define, uselongdouble=undef
usemymalloc=n, bincompat5005=undef
Compiler:
cc='cc', ccflags ='-fwrapv -fno-strict-aliasing -pipe -fstack-protector-strong -I/usr/local/include -D_LARGEFILE_SOURCE -D_FILE_OFFSET_BITS=64',
optimize='-O2',
cppflags='-fwrapv -fno-strict-aliasing -pipe -fstack-protector-strong -I/usr/local/include'
ccversion='', gccversion='5.4.0 20160609', gccosandvers=''
intsize=4, longsize=8, ptrsize=8, doublesize=8, byteorder=12345678, doublekind=3
d_longlong=define, longlongsize=8, d_longdbl=define, longdblsize=16, longdblkind=3
ivtype='long', ivsize=8, nvtype='double', nvsize=8, Off_t='off_t', lseeksize=8
alignbytes=8, prototype=define
Linker and Libraries:
ld='cc', ldflags =' -fstack-protector-strong -L/usr/local/lib'
libpth=/usr/local/lib /usr/lib/gcc/x86_64-linux-gnu/5/include-fixed /usr/include/x86_64-linux-gnu /usr/lib /lib/x86_64-linux-gnu /lib/../lib /usr/lib/x86_64-linux-gnu /usr/lib/../lib /lib
libs=-lpthread -lnsl -lgdbm -ldb -ldl -lm -lcrypt -lutil -lc -lgdbm_compat
perllibs=-lpthread -lnsl -ldl -lm -lcrypt -lutil -lc
libc=libc-2.23.so, so=so, useshrplib=false, libperl=libperl.a
gnulibc_version='2.23'
Dynamic Linking:
dlsrc=dl_dlopen.xs, dlext=so, d_dlsymun=undef, ccdlflags='-Wl,-E'
cccdlflags='-fPIC', lddlflags='-shared -O2 -L/usr/local/lib -fstack-protector-strong'
Characteristics of this binary (from libperl):
Compile-time options: HAS_TIMES PERLIO_LAYERS PERL_DONT_CREATE_GVSV
PERL_HASH_FUNC_ONE_AT_A_TIME_HARD PERL_MALLOC_WRAP
PERL_NEW_COPY_ON_WRITE PERL_PRESERVE_IVUV
USE_64_BIT_ALL USE_64_BIT_INT USE_LARGE_FILES
USE_LOCALE USE_LOCALE_COLLATE USE_LOCALE_CTYPE
USE_LOCALE_NUMERIC USE_LOCALE_TIME USE_PERLIO
USE_PERL_ATOF
Built under linux
Compiled at Jan 14 2017 21:01:24
%ENV:
PERL5LIB=""
PERL5OPT=""
PERL5_CPANPLUS_IS_RUNNING="31405"
PERL5_CPAN_IS_RUNNING="31405"
PERL5_CPAN_IS_RUNNING_IN_RECURSION="6501,31405"
PERLDOC="-MPod::Perldoc::ToTextOverstrike"
PERL_BATCH="yes"
PERL_CANARY_STABILITY_NOPROMPT="1"
PERL_CPAN_REPORTER_CONFIG="/var/tmp/cpansmoker-1002/2017013115/cpanreporter_000_config.ini"
PERL_EXTUTILS_AUTOINSTALL="--defaultdeps"
@INC:
/opt/perl-5.22.3/lib/site_perl/5.22.3/x86_64-linux
/opt/perl-5.22.3/lib/site_perl/5.22.3
/opt/perl-5.22.3/lib/5.22.3/x86_64-linux
/opt/perl-5.22.3/lib/5.22.3
.