Report for XML-XPathScript-1.54

Back
From: metabase:user:e3434da8-b236-11df-85ca-0247c6d74bde
Subject: PASS XML-XPathScript-1.54 v5.14.0 GNU/Linux
Date: 2011-09-10T12:09:45Z

This distribution has been tested as part of the CPAN Testers
project, supporting the Perl programming language.  See
http://wiki.cpantesters.org/ for more information or email
questions to cpan-testers-discuss@perl.org


--
Dear Yanick Champoux,

This is a computer-generated report for XML-XPathScript-1.54
on perl 5.14.0, created by CPAN-Reporter-1.1902.

Thank you for uploading your work to CPAN.  Congratulations!
All tests were successful.

Sections of this report:

    * Tester comments
    * Program output
    * Prerequisites
    * Environment and other context

------------------------------
TESTER COMMENTS
------------------------------

Additional comments from tester:

this report is from an automated smoke testing program
and was not reviewed by a human for accuracy

------------------------------
PROGRAM OUTPUT
------------------------------

Output from './Build test':

t/00build.t .................... ok
t/01basic.t .................... ok
t/02interpolate.t .............. ok
t/03general.t .................. ok
t/04unicode.t .................. ok
t/05textnode.t ................. ok
t/06testcode.t ................. ok
t/07stylesheetcallbacks.t ...... ok
t/08document.t ................. ok
t/09argencoding.t .............. ok
t/10comments.t ................. ok
t/11new_interface.t ............ ok
t/12template.t ................. ok
t/13samples.t .................. ok
t/14transform.t ................ ok
t/15stylesheet_dependencies.t .. ok
t/16stylesheet_arguments.t ..... ok
t/17xml_loading.t .............. ok
t/18tag.t ...................... ok
t/21processor.t ................ ok
t/22stylesheet.t ............... ok
t/24content.t .................. ok
t/25stylesheetlines.t .......... ok
t/26bxpath.t ................... skipped: B::XPath not installed
t/27template_import.t .......... ok
t/40axkit.t .................... skipped: AxKit needed
t/50tomkit.t ................... skipped: TomKit needed
t/99signature.t ................ skipped: Set TEST_AUTHOR in your environment to enable these tests
All tests successful.
Files=28, Tests=116,  5 wallclock secs ( 0.12 usr  0.05 sys +  1.85 cusr  0.47 csys =  2.49 CPU)
Result: PASS

------------------------------
PREREQUISITES
------------------------------

Prerequisite modules loaded:

requires:

    Module         Need Have    
    -------------- ---- --------
    Carp           0    1.20    
    Clone          0    0.31    
    Data::Dumper   0    2.130_02
    File::Basename 0    2.82    
    IO::File       0    1.15    
    Readonly       0    1.03    
    Scalar::Util   0    1.23    
    Symbol         0    1.07    
    XML::LibXML    0    1.87    

build_requires:

    Module         Need Have    
    -------------- ---- --------
    File::Find     0    1.19    
    File::Spec     0    3.33    


------------------------------
ENVIRONMENT AND OTHER CONTEXT
------------------------------

Environment variables:

    AUTOMATED_TESTING = 1
    LANG = en_US.UTF-8
    LC_COLLATE = C
    LC_MONETARY = nl_NL.utf8
    PATH = /home/tester/perl5/perlbrew/bin:/home/tester/perl5/perlbrew/perls/perl-5.15.1/bin:/usr/lib64/qt-3.3/bin:/usr/lib64/ccache:/usr/local/bin:/bin:/usr/bin:/usr/local/sbin:/usr/sbin:/sbin:/home/tester/bin:/home/tester/bin
    PATH_WITHOUT_PERLBREW = /usr/lib64/qt-3.3/bin:/usr/lib64/ccache:/usr/local/bin:/bin:/usr/bin:/usr/local/sbin:/usr/sbin:/sbin:/home/tester/bin
    PERL5LIB = /home/perl5140/.cpan/build/XML-LibXML-1.87-VXWVnD/blib/arch:/home/perl5140/.cpan/build/XML-LibXML-1.87-VXWVnD/blib/lib:/home/perl5140/.cpan/build/XML-SAX-0.99-a3EP_E/blib/arch:/home/perl5140/.cpan/build/XML-SAX-0.99-a3EP_E/blib/lib:/home/perl5140/.cpan/build/XML-SAX-Base-1.06-Ni1U3o/blib/arch:/home/perl5140/.cpan/build/XML-SAX-Base-1.06-Ni1U3o/blib/lib:/home/perl5140/.cpan/build/XML-NamespaceSupport-1.11-hhDqXX/blib/arch:/home/perl5140/.cpan/build/XML-NamespaceSupport-1.11-hhDqXX/blib/lib:/home/perl5140/.cpan/build/Clone-0.31-a12VR0/blib/arch:/home/perl5140/.cpan/build/Clone-0.31-a12VR0/blib/lib:/home/perl5140/.cpan/build/Readonly-1.03-5ynni4/blib/arch:/home/perl5140/.cpan/build/Readonly-1.03-5ynni4/blib/lib
    PERL5OPT = 
    PERL5_CPANPLUS_IS_RUNNING = 11083
    PERL5_CPAN_IS_RUNNING = 11083
    PERL5_CPAN_IS_RUNNING_IN_RECURSION = 25521,11083
    PERLBREW_PATH = /home/tester/perl5/perlbrew/bin:/home/tester/perl5/perlbrew/perls/perl-5.15.1/bin
    PERLBREW_PERL = perl-5.15.1
    PERLBREW_ROOT = /home/tester/perl5/perlbrew
    PERLBREW_VERSION = 0.15
    PERL_CR_SMOKER_CURRENT = XML-XPathScript-1.54
    PERL_EXTUTILS_AUTOINSTALL = --defaultdeps
    PERL_MM_USE_DEFAULT = 1
    SHELL = /bin/bash
    TERM = screen

Perl special variables (and OS-specific diagnostics, for MSWin32):

    $^X = /home/perl5140/testing/perl-5.14.0/bin/perl5.14.0
    $UID/$EUID = 509 / 509
    $GID = 509 509
    $EGID = 509 509

Perl module toolchain versions installed:

    Module              Have    
    ------------------- --------
    CPAN                1.9600  
    Cwd                 3.36    
    ExtUtils::CBuilder  0.280203
    ExtUtils::Command   1.17    
    ExtUtils::Install   1.56    
    ExtUtils::MakeMaker 6.57_05 
    ExtUtils::Manifest  1.58    
    ExtUtils::ParseXS   2.2210  
    File::Spec          3.33    
    Module::Build       0.3800  
    Module::Signature   n/a     
    Test::Harness       3.23    
    Test::More          0.98    
    YAML                0.73    
    YAML::Syck          1.17    
    version             0.91    


--

Summary of my perl5 (revision 5 version 14 subversion 0) configuration:
   
  Platform:
    osname=linux, osvers=2.6.35.11-83.fc14.x86_64, archname=x86_64-linux-thread-multi
    uname='linux firenze.fritz.box 2.6.35.11-83.fc14.x86_64 #1 smp mon feb 7 07:06:44 utc 2011 x86_64 x86_64 x86_64 gnulinux '
    config_args='-Dprefix=/home/perl5140/testing/perl-5.14.0 -Dusethreads -Dusedevel -des'
    hint=recommended, useposix=true, d_sigaction=define
    useithreads=define, usemultiplicity=define
    useperlio=define, d_sfio=undef, uselargefiles=define, usesocks=undef
    use64bitint=define, use64bitall=define, uselongdouble=undef
    usemymalloc=n, bincompat5005=undef
  Compiler:
    cc='cc', ccflags ='-D_REENTRANT -D_GNU_SOURCE -fno-strict-aliasing -pipe -fstack-protector -I/usr/local/include -D_LARGEFILE_SOURCE -D_FILE_OFFSET_BITS=64',
    optimize='-O2',
    cppflags='-D_REENTRANT -D_GNU_SOURCE -fno-strict-aliasing -pipe -fstack-protector -I/usr/local/include'
    ccversion='', gccversion='4.5.1 20100924 (Red Hat 4.5.1-4)', gccosandvers=''
    intsize=4, longsize=8, ptrsize=8, doublesize=8, byteorder=12345678
    d_longlong=define, longlongsize=8, d_longdbl=define, longdblsize=16
    ivtype='long', ivsize=8, nvtype='double', nvsize=8, Off_t='off_t', lseeksize=8
    alignbytes=8, prototype=define
  Linker and Libraries:
    ld='cc', ldflags =' -fstack-protector -L/usr/local/lib'
    libpth=/usr/local/lib /lib/../lib64 /usr/lib/../lib64 /lib /usr/lib /lib64 /usr/lib64 /usr/local/lib64
    libs=-lnsl -lgdbm -ldb -ldl -lm -lcrypt -lutil -lpthread -lc -lgdbm_compat
    perllibs=-lnsl -ldl -lm -lcrypt -lutil -lpthread -lc
    libc=, so=so, useshrplib=false, libperl=libperl.a
    gnulibc_version='2.13'
  Dynamic Linking:
    dlsrc=dl_dlopen.xs, dlext=so, d_dlsymun=undef, ccdlflags='-Wl,-E'
    cccdlflags='-fPIC', lddlflags='-shared -O2 -L/usr/local/lib -fstack-protector'


Characteristics of this binary (from libperl): 
  Compile-time options: MULTIPLICITY PERL_DONT_CREATE_GVSV
                        PERL_IMPLICIT_CONTEXT PERL_MALLOC_WRAP
                        PERL_PRESERVE_IVUV PERL_USE_DEVEL USE_64_BIT_ALL
                        USE_64_BIT_INT USE_ITHREADS USE_LARGE_FILES
                        USE_PERLIO USE_PERL_ATOF USE_REENTRANT_API
  Built under linux
  Compiled at Jun 14 2011 08:32:54
  %ENV:
    PERL5LIB="/home/perl5140/.cpan/build/XML-LibXML-1.87-VXWVnD/blib/arch:/home/perl5140/.cpan/build/XML-LibXML-1.87-VXWVnD/blib/lib:/home/perl5140/.cpan/build/XML-SAX-0.99-a3EP_E/blib/arch:/home/perl5140/.cpan/build/XML-SAX-0.99-a3EP_E/blib/lib:/home/perl5140/.cpan/build/XML-SAX-Base-1.06-Ni1U3o/blib/arch:/home/perl5140/.cpan/build/XML-SAX-Base-1.06-Ni1U3o/blib/lib:/home/perl5140/.cpan/build/XML-NamespaceSupport-1.11-hhDqXX/blib/arch:/home/perl5140/.cpan/build/XML-NamespaceSupport-1.11-hhDqXX/blib/lib:/home/perl5140/.cpan/build/Clone-0.31-a12VR0/blib/arch:/home/perl5140/.cpan/build/Clone-0.31-a12VR0/blib/lib:/home/perl5140/.cpan/build/Readonly-1.03-5ynni4/blib/arch:/home/perl5140/.cpan/build/Readonly-1.03-5ynni4/blib/lib"
    PERL5OPT=""
    PERL5_CPANPLUS_IS_RUNNING="11083"
    PERL5_CPAN_IS_RUNNING="11083"
    PERL5_CPAN_IS_RUNNING_IN_RECURSION="25521,11083"
    PERLBREW_PATH="/home/tester/perl5/perlbrew/bin:/home/tester/perl5/perlbrew/perls/perl-5.15.1/bin"
    PERLBREW_PERL="perl-5.15.1"
    PERLBREW_ROOT="/home/tester/perl5/perlbrew"
    PERLBREW_VERSION="0.15"
    PERL_CR_SMOKER_CURRENT="XML-XPathScript-1.54"
    PERL_EXTUTILS_AUTOINSTALL="--defaultdeps"
    PERL_MM_USE_DEFAULT="1"
  @INC:
    /home/perl5140/.cpan/build/XML-LibXML-1.87-VXWVnD/blib/arch
    /home/perl5140/.cpan/build/XML-LibXML-1.87-VXWVnD/blib/lib
    /home/perl5140/.cpan/build/XML-SAX-0.99-a3EP_E/blib/arch
    /home/perl5140/.cpan/build/XML-SAX-0.99-a3EP_E/blib/lib
    /home/perl5140/.cpan/build/XML-SAX-Base-1.06-Ni1U3o/blib/arch
    /home/perl5140/.cpan/build/XML-SAX-Base-1.06-Ni1U3o/blib/lib
    /home/perl5140/.cpan/build/XML-NamespaceSupport-1.11-hhDqXX/blib/arch
    /home/perl5140/.cpan/build/XML-NamespaceSupport-1.11-hhDqXX/blib/lib
    /home/perl5140/.cpan/build/Clone-0.31-a12VR0/blib/arch
    /home/perl5140/.cpan/build/Clone-0.31-a12VR0/blib/lib
    /home/perl5140/.cpan/build/Readonly-1.03-5ynni4/blib/arch
    /home/perl5140/.cpan/build/Readonly-1.03-5ynni4/blib/lib
    /home/perl5140/testing/perl-5.14.0/lib/site_perl/5.14.0/x86_64-linux-thread-multi
    /home/perl5140/testing/perl-5.14.0/lib/site_perl/5.14.0
    /home/perl5140/testing/perl-5.14.0/lib/5.14.0/x86_64-linux-thread-multi
    /home/perl5140/testing/perl-5.14.0/lib/5.14.0
    .