Back
From: metabase:user:9f734a10-6fd4-11e3-9e33-93dec9be1d12
Subject: PASS libwww-perl-6.05 v5.18.1 GNU/Linux
Date: 2013-12-28T15:28:59Z
This distribution has been tested as part of the CPAN Testers
project, supporting the Perl programming language. See
http://wiki.cpantesters.org/ for more information or email
questions to cpan-testers-discuss@perl.org
--
Dear GAAS,
This is a computer-generated report for libwww-perl-6.05
on perl 5.18.1, created by App::cpanminus::reporter 0.10 (1.7001).
Thank you for uploading your work to CPAN. Congratulations!
All tests were successful.
Sections of this report:
* Tester comments
* Program output
* Prerequisites
* Environment and other context
------------------------------
TESTER COMMENTS
------------------------------
Additional comments from tester:
none provided
------------------------------
PROGRAM OUTPUT
------------------------------
Output from '':
Building and testing libwww-perl-6.05
cp lib/LWP/UserAgent.pm blib/lib/LWP/UserAgent.pm
cp lib/LWP/Protocol/mailto.pm blib/lib/LWP/Protocol/mailto.pm
cp lib/LWP/RobotUA.pm blib/lib/LWP/RobotUA.pm
cp lib/LWP/Authen/Ntlm.pm blib/lib/LWP/Authen/Ntlm.pm
cp lwpcook.pod blib/lib/lwpcook.pod
cp lwptut.pod blib/lib/lwptut.pod
cp lib/LWP/Protocol/http.pm blib/lib/LWP/Protocol/http.pm
cp lib/LWP/Protocol.pm blib/lib/LWP/Protocol.pm
cp lib/LWP.pm blib/lib/LWP.pm
cp lib/LWP/Protocol/cpan.pm blib/lib/LWP/Protocol/cpan.pm
cp lib/LWP/Protocol/nntp.pm blib/lib/LWP/Protocol/nntp.pm
cp lib/LWP/Authen/Digest.pm blib/lib/LWP/Authen/Digest.pm
cp lib/LWP/Protocol/nogo.pm blib/lib/LWP/Protocol/nogo.pm
cp lib/LWP/DebugFile.pm blib/lib/LWP/DebugFile.pm
cp lib/LWP/Protocol/data.pm blib/lib/LWP/Protocol/data.pm
cp lib/LWP/Protocol/ftp.pm blib/lib/LWP/Protocol/ftp.pm
cp lib/LWP/ConnCache.pm blib/lib/LWP/ConnCache.pm
cp lib/LWP/Debug.pm blib/lib/LWP/Debug.pm
cp lib/LWP/Protocol/loopback.pm blib/lib/LWP/Protocol/loopback.pm
cp lib/LWP/Authen/Basic.pm blib/lib/LWP/Authen/Basic.pm
cp lib/LWP/Protocol/gopher.pm blib/lib/LWP/Protocol/gopher.pm
cp lib/LWP/Protocol/GHTTP.pm blib/lib/LWP/Protocol/GHTTP.pm
cp lib/LWP/Simple.pm blib/lib/LWP/Simple.pm
cp lib/LWP/MemberMixin.pm blib/lib/LWP/MemberMixin.pm
cp lib/LWP/Protocol/file.pm blib/lib/LWP/Protocol/file.pm
cp bin/lwp-mirror blib/script/lwp-mirror
/home/perlacademy/perl5/perlbrew/perls/perl-5.18.1/bin/perl -MExtUtils::MY -e 'MY->fixin(shift)' -- blib/script/lwp-mirror
cp bin/lwp-dump blib/script/lwp-dump
/home/perlacademy/perl5/perlbrew/perls/perl-5.18.1/bin/perl -MExtUtils::MY -e 'MY->fixin(shift)' -- blib/script/lwp-dump
cp bin/lwp-download blib/script/lwp-download
/home/perlacademy/perl5/perlbrew/perls/perl-5.18.1/bin/perl -MExtUtils::MY -e 'MY->fixin(shift)' -- blib/script/lwp-download
cp bin/lwp-request blib/script/lwp-request
/home/perlacademy/perl5/perlbrew/perls/perl-5.18.1/bin/perl -MExtUtils::MY -e 'MY->fixin(shift)' -- blib/script/lwp-request
Manifying blib/man1/lwp-request.1
Manifying blib/man1/lwp-download.1
Manifying blib/man1/lwp-dump.1
Manifying blib/man1/lwp-mirror.1
Manifying blib/man3/LWP::Simple.3
Manifying blib/man3/LWP::ConnCache.3
Manifying blib/man3/LWP::Authen::Ntlm.3
Manifying blib/man3/LWP::Protocol.3
Manifying blib/man3/lwptut.3
Manifying blib/man3/LWP::UserAgent.3
Manifying blib/man3/LWP::MemberMixin.3
Manifying blib/man3/LWP::RobotUA.3
Manifying blib/man3/LWP.3
Manifying blib/man3/lwpcook.3
Manifying blib/man3/LWP::Debug.3
/home/perlacademy/perl5/perlbrew/perls/perl-5.18.1/bin/perl t/TEST 0
base/protocols.t ...... ok
base/ua.t ............. ok
robot/ua-get.t ........ ok
robot/ua.t ............ ok
local/autoload-get.t .. ok
local/autoload.t ...... ok
local/get.t ........... ok
local/http.t .......... ok
local/protosub.t ...... ok
All tests successful.
Files=9, Tests=125, 14 wallclock secs ( 0.05 usr 0.01 sys + 0.87 cusr 0.16 csys = 1.09 CPU)
Result: PASS
------------------------------
PREREQUISITES
------------------------------
Prerequisite modules loaded:
No requirements found
------------------------------
ENVIRONMENT AND OTHER CONTEXT
------------------------------
Environment variables:
LANG = de_DE.UTF-8
PATH = /home/perlacademy/perl5/perlbrew/bin:/home/perlacademy/perl5/perlbrew/perls/perl-5.18.1/bin:/usr/local/bin:/usr/bin:/bin:/usr/local/games:/usr/games
PERLBREW_BASHRC_VERSION = 0.67
PERLBREW_HOME = /home/perlacademy/.perlbrew
PERLBREW_MANPATH = /home/perlacademy/perl5/perlbrew/perls/perl-5.18.1/man
PERLBREW_PATH = /home/perlacademy/perl5/perlbrew/bin:/home/perlacademy/perl5/perlbrew/perls/perl-5.18.1/bin
PERLBREW_PERL = perl-5.18.1
PERLBREW_ROOT = /home/perlacademy/perl5/perlbrew
PERLBREW_VERSION = 0.67
SHELL = /bin/sh
TERM = xterm
Perl special variables (and OS-specific diagnostics, for MSWin32):
EGID = 1005 1005
EUID = 1005
EXECUTABLE_NAME = /home/perlacademy/perl5/perlbrew/perls/perl-5.18.1/bin/perl
GID = 1005 1005
UID = 1005
Perl module toolchain versions installed:
Module Have
------------------- --------
CPAN 2.00
CPAN::Meta 2.120921
Cwd 3.40
ExtUtils::CBuilder 0.280210
ExtUtils::Command 1.17
ExtUtils::Install 1.59
ExtUtils::MakeMaker 6.66
ExtUtils::Manifest 1.63
ExtUtils::ParseXS 3.18
File::Spec 3.40
JSON 2.90
JSON::PP 2.27202
Module::Build 0.4003
Module::Signature n/a
Parse::CPAN::Meta 1.4404
Test::Harness 3.26
Test::More 0.98
YAML n/a
YAML::Syck n/a
version 0.9902
--
Summary of my perl5 (revision 5 version 18 subversion 1) configuration:
Platform:
osname=linux, osvers=2.6.18-028stab092.1, archname=x86_64-linux
uname='linux lvps83-169-36-161.dedicated.hosteurope.de 2.6.18-028stab092.1 #1 smp wed jul 20 19:47:12 msd 2011 x86_64 gnulinux '
config_args='-de -Dprefix=/home/perlacademy/perl5/perlbrew/perls/perl-5.18.1 -Aeval:scriptdir=/home/perlacademy/perl5/perlbrew/perls/perl-5.18.1/bin'
hint=recommended, useposix=true, d_sigaction=define
useithreads=undef, usemultiplicity=undef
useperlio=define, d_sfio=undef, uselargefiles=define, usesocks=undef
use64bitint=define, use64bitall=define, uselongdouble=undef
usemymalloc=n, bincompat5005=undef
Compiler:
cc='cc', ccflags ='-fno-strict-aliasing -pipe -fstack-protector -I/usr/local/include -D_LARGEFILE_SOURCE -D_FILE_OFFSET_BITS=64',
optimize='-O2',
cppflags='-fno-strict-aliasing -pipe -fstack-protector -I/usr/local/include'
ccversion='', gccversion='4.4.3', gccosandvers=''
intsize=4, longsize=8, ptrsize=8, doublesize=8, byteorder=12345678
d_longlong=define, longlongsize=8, d_longdbl=define, longdblsize=16
ivtype='long', ivsize=8, nvtype='double', nvsize=8, Off_t='off_t', lseeksize=8
alignbytes=8, prototype=define
Linker and Libraries:
ld='cc', ldflags =' -fstack-protector -L/usr/local/lib'
libpth=/usr/local/lib /lib/../lib /usr/lib/../lib /lib /usr/lib /lib64 /usr/lib64
libs=-lnsl -ldl -lm -lcrypt -lutil -lc
perllibs=-lnsl -ldl -lm -lcrypt -lutil -lc
libc=/lib/libc-2.11.1.so, so=so, useshrplib=false, libperl=libperl.a
gnulibc_version='2.11.1'
Dynamic Linking:
dlsrc=dl_dlopen.xs, dlext=so, d_dlsymun=undef, ccdlflags='-Wl,-E'
cccdlflags='-fPIC', lddlflags='-shared -O2 -L/usr/local/lib -fstack-protector'
Characteristics of this binary (from libperl):
Compile-time options: HAS_TIMES PERLIO_LAYERS PERL_DONT_CREATE_GVSV
PERL_HASH_FUNC_ONE_AT_A_TIME_HARD PERL_MALLOC_WRAP
PERL_PRESERVE_IVUV PERL_SAWAMPERSAND USE_64_BIT_ALL
USE_64_BIT_INT USE_LARGE_FILES USE_LOCALE
USE_LOCALE_COLLATE USE_LOCALE_CTYPE
USE_LOCALE_NUMERIC USE_PERLIO USE_PERL_ATOF
Built under linux
Compiled at Dec 28 2013 16:04:31
%ENV:
PERLBREW_BASHRC_VERSION="0.67"
PERLBREW_HOME="/home/perlacademy/.perlbrew"
PERLBREW_MANPATH="/home/perlacademy/perl5/perlbrew/perls/perl-5.18.1/man"
PERLBREW_PATH="/home/perlacademy/perl5/perlbrew/bin:/home/perlacademy/perl5/perlbrew/perls/perl-5.18.1/bin"
PERLBREW_PERL="perl-5.18.1"
PERLBREW_ROOT="/home/perlacademy/perl5/perlbrew"
PERLBREW_VERSION="0.67"
@INC:
/home/perlacademy/perl5/perlbrew/perls/perl-5.18.1/lib/site_perl/5.18.1/x86_64-linux
/home/perlacademy/perl5/perlbrew/perls/perl-5.18.1/lib/site_perl/5.18.1
/home/perlacademy/perl5/perlbrew/perls/perl-5.18.1/lib/5.18.1/x86_64-linux
/home/perlacademy/perl5/perlbrew/perls/perl-5.18.1/lib/5.18.1
.