Report for MooseX-Getopt-Defanged-v1.18.0

Back
From: metabase:user:320bfe00-2aae-11df-837a-5e0a49663a4f
Subject: PASS MooseX-Getopt-Defanged-v1.18.0 v5.22.2 RC1 GNU/Linux
Date: 2016-04-15T19:39:30Z

This distribution has been tested as part of the CPAN Testers
project, supporting the Perl programming language.  See
http://wiki.cpantesters.org/ for more information or email
questions to cpan-testers-discuss@perl.org


--
Dear Elliot Shank,

This is a computer-generated report for MooseX-Getopt-Defanged-v1.18.0
on perl 5.22.2, created by CPAN-Reporter-1.2017.

Thank you for uploading your work to CPAN.  Congratulations!
All tests were successful.

Sections of this report:

    * Tester comments
    * Program output
    * Prerequisites
    * Environment and other context

------------------------------
TESTER COMMENTS
------------------------------

Additional comments from tester:

this report is from an automated smoke testing program
and was not reviewed by a human for accuracy

------------------------------
PROGRAM OUTPUT
------------------------------

Output from './Build test':

Passing a list of values to enum is deprecated. Enum values should be wrapped in an arrayref. at /home/sand/src/perl/repoperls/installed-perls/perl/v5.22.2-RC1/109d/lib/site_perl/5.22.2/Test/Compile/Internal.pm line 197.
	eval ' 
#line 197 "/home/sand/src/perl/repoperls/installed-perls/perl/v5.22.2-RC1/109d/lib/site_perl/5.22.2/Test/Compile/Internal.pm"
CORE::require($file); 
' called at /home/sand/src/perl/repoperls/installed-perls/perl/v5.22.2-RC1/109d/lib/site_perl/5.22.2/UNIVERSAL/require.pm line 99
	UNIVERSAL::require("MooseX::Getopt::Defanged::Meta::Attribute::Trait::_Getopt") called at /home/sand/src/perl/repoperls/installed-perls/perl/v5.22.2-RC1/109d/lib/site_perl/5.22.2/Test/Compile/Internal.pm line 197
	Test::Compile::Internal::__ANON__() called at /home/sand/src/perl/repoperls/installed-perls/perl/v5.22.2-RC1/109d/lib/site_perl/5.22.2/Test/Compile/Internal.pm line 316
	Test::Compile::Internal::_run_subprocess(Test::Compile::Internal=HASH(0x1f4f3a0), CODE(0x19c9008)) called at /home/sand/src/perl/repoperls/installed-perls/perl/v5.22.2-RC1/109d/lib/site_perl/5.22.2/Test/Compile/Internal.pm line 208
	Test::Compile::Internal::pm_file_compiles(Test::Compile::Internal=HASH(0x1f4f3a0), "blib/lib/MooseX/Getopt/Defanged/Meta/Attribute/Trait/_Getopt.pm") called at /home/sand/src/perl/repoperls/installed-perls/perl/v5.22.2-RC1/109d/lib/site_perl/5.22.2/Test/Compile.pm line 280
	Test::Compile::pm_file_ok("blib/lib/MooseX/Getopt/Defanged/Meta/Attribute/Trait/_Getopt.pm") called at /home/sand/src/perl/repoperls/installed-perls/perl/v5.22.2-RC1/109d/lib/site_perl/5.22.2/Test/Compile.pm line 222
	Test::Compile::all_pm_files_ok() called at t/00-use-ok.t line 15
t/00-use-ok.t ..................... ok
Passing a list of values to enum is deprecated. Enum values should be wrapped in an arrayref. at /home/sand/src/perl/repoperls/installed-perls/perl/v5.22.2-RC1/109d/lib/site_perl/5.22.2/Module/Runtime.pm line 317.
	Module::Runtime::require_module("MooseX::Getopt::Defanged::Meta::Attribute::Trait::_Getopt") called at /home/sand/src/perl/repoperls/installed-perls/perl/v5.22.2-RC1/109d/lib/site_perl/5.22.2/Module/Runtime.pm line 381
	eval {...} called at /home/sand/src/perl/repoperls/installed-perls/perl/v5.22.2-RC1/109d/lib/site_perl/5.22.2/Module/Runtime.pm line 381
	Module::Runtime::use_package_optimistically("MooseX::Getopt::Defanged::Meta::Attribute::Trait::_Getopt") called at /home/sand/src/perl/repoperls/installed-perls/perl/v5.22.2-RC1/109d/lib/site_perl/5.22.2/x86_64-linux-thread-multi-ld/Moose/Util.pm line 239
	Moose::Util::resolve_metaclass_alias("Attribute", "MooseX::Getopt::Defanged::Meta::Attribute::Trait::_Getopt", "trait", 1) called at /home/sand/src/perl/repoperls/installed-perls/perl/v5.22.2-RC1/109d/lib/site_perl/5.22.2/x86_64-linux-thread-multi-ld/Moose/Util.pm line 211
	Moose::Util::resolve_metatrait_alias("Attribute", "MooseX::Getopt::Defanged::Meta::Attribute::Trait::_Getopt") called at /home/sand/src/perl/repoperls/installed-perls/perl/v5.22.2-RC1/109d/lib/site_perl/5.22.2/x86_64-linux-thread-multi-ld/Moose/Meta/Attribute.pm line 38
	Moose::Meta::Attribute::try {...} () called at /home/sand/src/perl/repoperls/installed-perls/perl/v5.22.2-RC1/109d/lib/site_perl/5.22.2/Try/Tiny.pm line 90
	eval {...} called at /home/sand/src/perl/repoperls/installed-perls/perl/v5.22.2-RC1/109d/lib/site_perl/5.22.2/Try/Tiny.pm line 83
	Try::Tiny::try(CODE(0x380c4d8)) called at /home/sand/src/perl/repoperls/installed-perls/perl/v5.22.2-RC1/109d/lib/site_perl/5.22.2/x86_64-linux-thread-multi-ld/Moose/Meta/Attribute.pm line 39
	Moose::Meta::Attribute::does(Moose::Meta::Attribute=HASH(0x37fb530), "MooseX::Getopt::Defanged::Meta::Attribute::Trait::_Getopt") called at /tmp/loop_over_bdir-7501-lYWbBJ/MooseX-Getopt-Defanged-v1.18.0-0/blib/lib/MooseX/Getopt/Defanged.pm line 63
	MooseX::Getopt::Defanged::_getopt_get_option_attributes(MooseX::Getopt::Defanged::MinimalConsumer=HASH(0x37fb950)) called at /tmp/loop_over_bdir-7501-lYWbBJ/MooseX-Getopt-Defanged-v1.18.0-0/blib/lib/MooseX/Getopt/Defanged.pm line 95
	MooseX::Getopt::Defanged::_getopt_invoke_getopt_long(MooseX::Getopt::Defanged::MinimalConsumer=HASH(0x37fb950), ARRAY(0x1de9a08)) called at /tmp/loop_over_bdir-7501-lYWbBJ/MooseX-Getopt-Defanged-v1.18.0-0/blib/lib/MooseX/Getopt/Defanged.pm line 48
	MooseX::Getopt::Defanged::parse_command_line(MooseX::Getopt::Defanged::MinimalConsumer=HASH(0x37fb950), ARRAY(0x1de9a08)) called at t/getopt.t line 149
	MooseX::Getopt::Defanged::Test::test_3_can_parse_command_line_for_minimal_consumer(MooseX::Getopt::Defanged::Test=HASH(0x37c3830)) called at /home/sand/src/perl/repoperls/installed-perls/perl/v5.22.2-RC1/109d/lib/site_perl/5.22.2/Test/Class.pm line 293
	Test::Class::try {...} () called at /home/sand/src/perl/repoperls/installed-perls/perl/v5.22.2-RC1/109d/lib/site_perl/5.22.2/Try/Tiny.pm line 90
	eval {...} called at /home/sand/src/perl/repoperls/installed-perls/perl/v5.22.2-RC1/109d/lib/site_perl/5.22.2/Try/Tiny.pm line 83
	Try::Tiny::try(CODE(0x37dcc50), Try::Tiny::Catch=REF(0x3800e40)) called at /home/sand/src/perl/repoperls/installed-perls/perl/v5.22.2-RC1/109d/lib/site_perl/5.22.2/Test/Class.pm line 293
	Test::Class::_run_method(MooseX::Getopt::Defanged::Test=HASH(0x37c3830), "test_3_can_parse_command_line_for_minimal_consumer", ARRAY(0x223e388)) called at /home/sand/src/perl/repoperls/installed-perls/perl/v5.22.2-RC1/109d/lib/site_perl/5.22.2/Test/Class.pm line 395
	Test::Class::runtests("MooseX::Getopt::Defanged::Test") called at t/getopt.t line 113
t/getopt.t ........................ ok
Passing a list of values to enum is deprecated. Enum values should be wrapped in an arrayref. at /home/sand/src/perl/repoperls/installed-perls/perl/v5.22.2-RC1/109d/lib/site_perl/5.22.2/Module/Runtime.pm line 317.
	Module::Runtime::require_module("MooseX::Getopt::Defanged::Meta::Attribute::Trait::_Getopt") called at /home/sand/src/perl/repoperls/installed-perls/perl/v5.22.2-RC1/109d/lib/site_perl/5.22.2/Module/Runtime.pm line 381
	eval {...} called at /home/sand/src/perl/repoperls/installed-perls/perl/v5.22.2-RC1/109d/lib/site_perl/5.22.2/Module/Runtime.pm line 381
	Module::Runtime::use_package_optimistically("MooseX::Getopt::Defanged::Meta::Attribute::Trait::_Getopt") called at /home/sand/src/perl/repoperls/installed-perls/perl/v5.22.2-RC1/109d/lib/site_perl/5.22.2/x86_64-linux-thread-multi-ld/Moose/Util.pm line 239
	Moose::Util::resolve_metaclass_alias("Attribute", "MooseX::Getopt::Defanged::Meta::Attribute::Trait::_Getopt", "trait", 1) called at /home/sand/src/perl/repoperls/installed-perls/perl/v5.22.2-RC1/109d/lib/site_perl/5.22.2/x86_64-linux-thread-multi-ld/Moose/Util.pm line 211
	Moose::Util::resolve_metatrait_alias("Attribute", "MooseX::Getopt::Defanged::Meta::Attribute::Trait::_Getopt") called at /home/sand/src/perl/repoperls/installed-perls/perl/v5.22.2-RC1/109d/lib/site_perl/5.22.2/x86_64-linux-thread-multi-ld/Moose/Meta/Attribute.pm line 38
	Moose::Meta::Attribute::try {...} () called at /home/sand/src/perl/repoperls/installed-perls/perl/v5.22.2-RC1/109d/lib/site_perl/5.22.2/Try/Tiny.pm line 90
	eval {...} called at /home/sand/src/perl/repoperls/installed-perls/perl/v5.22.2-RC1/109d/lib/site_perl/5.22.2/Try/Tiny.pm line 83
	Try::Tiny::try(CODE(0x3be6ff0)) called at /home/sand/src/perl/repoperls/installed-perls/perl/v5.22.2-RC1/109d/lib/site_perl/5.22.2/x86_64-linux-thread-multi-ld/Moose/Meta/Attribute.pm line 39
	Moose::Meta::Attribute::does("Moose::Meta::Attribute", "MooseX::Getopt::Defanged::Meta::Attribute::Trait::_Getopt") called at /home/sand/src/perl/repoperls/installed-perls/perl/v5.22.2-RC1/109d/lib/site_perl/5.22.2/x86_64-linux-thread-multi-ld/Moose/Meta/Attribute.pm line 132
	Moose::Meta::Attribute::interpolate_class("Moose::Meta::Attribute", HASH(0x363eea0)) called at /home/sand/src/perl/repoperls/installed-perls/perl/v5.22.2-RC1/109d/lib/site_perl/5.22.2/x86_64-linux-thread-multi-ld/Moose/Meta/Attribute.pm line 98
	Moose::Meta::Attribute::interpolate_class_and_new("Moose::Meta::Attribute", "test3", "definition_context", HASH(0x41841e0), "traits", ARRAY(0x3bb2520), "is", "ro", ...) called at /home/sand/src/perl/repoperls/installed-perls/perl/v5.22.2-RC1/109d/lib/site_perl/5.22.2/x86_64-linux-thread-multi-ld/Moose/Meta/Class.pm line 711
	Moose::Meta::Class::_process_new_attribute(Moose::Meta::Class=HASH(0x3bb0530), "test3", "definition_context", HASH(0x41841e0), "traits", ARRAY(0x3bb2520), "is", "ro", ...) called at /home/sand/src/perl/repoperls/installed-perls/perl/v5.22.2-RC1/109d/lib/site_perl/5.22.2/x86_64-linux-thread-multi-ld/Moose/Meta/Class.pm line 704
	Moose::Meta::Class::_process_attribute(Moose::Meta::Class=HASH(0x3bb0530), "test3", "definition_context", HASH(0x41841e0), "traits", ARRAY(0x3bb2520), "is", "ro", ...) called at /home/sand/src/perl/repoperls/installed-perls/perl/v5.22.2-RC1/109d/lib/site_perl/5.22.2/x86_64-linux-thread-multi-ld/Moose/Meta/Class.pm line 568
	Moose::Meta::Class::add_attribute(Moose::Meta::Class=HASH(0x3bb0530), "test3", "definition_context", HASH(0x41841e0), "traits", ARRAY(0x3bb2520), "is", "ro", ...) called at /home/sand/src/perl/repoperls/installed-perls/perl/v5.22.2-RC1/109d/lib/site_perl/5.22.2/x86_64-linux-thread-multi-ld/Moose.pm line 74
	Moose::has(Moose::Meta::Class=HASH(0x3bb0530), "test3", "traits", ARRAY(0x3bb2520), "is", "ro", "isa", "Str") called at /home/sand/src/perl/repoperls/installed-perls/perl/v5.22.2-RC1/109d/lib/site_perl/5.22.2/x86_64-linux-thread-multi-ld/Moose/Exporter.pm line 419
	Moose::has("test3", "traits", ARRAY(0x3bb2520), "is", "ro", "isa", "Str") called at t/inheritance.d/lib/MooseX/Getopt/Defanged/BaseClass.pm line 13
	require MooseX/Getopt/Defanged/BaseClass.pm called at /home/sand/src/perl/repoperls/installed-perls/perl/v5.22.2-RC1/109d/lib/site_perl/5.22.2/Module/Runtime.pm line 317
	Module::Runtime::require_module("MooseX::Getopt::Defanged::BaseClass") called at /home/sand/src/perl/repoperls/installed-perls/perl/v5.22.2-RC1/109d/lib/site_perl/5.22.2/Module/Runtime.pm line 381
	eval {...} called at /home/sand/src/perl/repoperls/installed-perls/perl/v5.22.2-RC1/109d/lib/site_perl/5.22.2/Module/Runtime.pm line 381
	Module::Runtime::use_package_optimistically("MooseX::Getopt::Defanged::BaseClass") called at /home/sand/src/perl/repoperls/installed-perls/perl/v5.22.2-RC1/109d/lib/site_perl/5.22.2/x86_64-linux-thread-multi-ld/Moose/Util.pm line 352
	Moose::Util::_load_user_class("MooseX::Getopt::Defanged::BaseClass", undef) called at /home/sand/src/perl/repoperls/installed-perls/perl/v5.22.2-RC1/109d/lib/site_perl/5.22.2/x86_64-linux-thread-multi-ld/Moose/Meta/Class.pm line 556
	Moose::Meta::Class::superclasses(undef, "MooseX::Getopt::Defanged::BaseClass") called at /home/sand/src/perl/repoperls/installed-perls/perl/v5.22.2-RC1/109d/lib/site_perl/5.22.2/x86_64-linux-thread-multi-ld/Moose.pm line 53
	Moose::extends(Moose::Meta::Class=HASH(0x3a153e0), "MooseX::Getopt::Defanged::BaseClass") called at /home/sand/src/perl/repoperls/installed-perls/perl/v5.22.2-RC1/109d/lib/site_perl/5.22.2/x86_64-linux-thread-multi-ld/Moose/Exporter.pm line 419
	Moose::extends("MooseX::Getopt::Defanged::BaseClass") called at t/inheritance.d/lib/MooseX/Getopt/Defanged/SubClass.pm line 11
	require MooseX/Getopt/Defanged/SubClass.pm called at t/inheritance.t line 22
	main::BEGIN() called at /tmp/loop_over_bdir-7501-lYWbBJ/MooseX-Getopt-Defanged-v1.18.0-0/blib/lib/MooseX/Getopt/Defanged/Meta/Attribute/Trait/_Getopt.pm line 0
	eval {...} called at /tmp/loop_over_bdir-7501-lYWbBJ/MooseX-Getopt-Defanged-v1.18.0-0/blib/lib/MooseX/Getopt/Defanged/Meta/Attribute/Trait/_Getopt.pm line 0
t/inheritance.t ................... ok
Passing a list of values to enum is deprecated. Enum values should be wrapped in an arrayref. at /tmp/loop_over_bdir-7501-lYWbBJ/MooseX-Getopt-Defanged-v1.18.0-0/blib/lib/MooseX/Getopt/Defanged/Meta/Attribute/Trait/_Getopt.pm line 0.
	eval {...} called at /tmp/loop_over_bdir-7501-lYWbBJ/MooseX-Getopt-Defanged-v1.18.0-0/blib/lib/MooseX/Getopt/Defanged/Meta/Attribute/Trait/_Getopt.pm line 0
t/meta-attribute-trait-_getopt.t .. ok
All tests successful.
Files=4, Tests=380,  4 wallclock secs ( 0.08 usr  0.04 sys +  3.10 cusr  0.51 csys =  3.73 CPU)
Result: PASS

------------------------------
PREREQUISITES
------------------------------

Prerequisite modules loaded:

requires:

    Module                              Need Have        
    ----------------------------------- ---- ------------
    autodie                             0    2.29        
    English                             0    1.09        
    Exception::Class                    0    1.40        
    Exporter                            0    5.72        
    Getopt::Long                        0    2.45        
    Moose                               0.92 2.1704      
    Moose::Role                         0.92 2.1704      
    Moose::Util::TypeConstraints        0.92 2.1704      
    MooseX::Accessors::ReadWritePrivate 0    v1.4.0      
    MooseX::AttributeHelpers            0.2  0.25        
    MooseX::StrictConstructor           0.08 0.19        
    Readonly                            0    2.01        
    Scalar::Util                        0    1.45        
    strict                              0    1.09        
    utf8                                0    1.17        
    version                             0    0.9916      
    warnings                            0    1.34        

build_requires:

    Module                              Need Have        
    ----------------------------------- ---- ------------
    Carp                                0    1.38        
    File::Spec::Functions               0    3.62        
    lib                                 0    0.63        
    overload                            0    1.26        
    parent                              0    0.234       
    Test::Class                         0    0.50        
    Test::Compile                       0    v1.3.0      
    Test::Deep                          0    1.120       
    Test::Exception                     0    0.43        
    Test::Moose                         0    2.1704      
    Test::More                          0.88 1.302013_019

configure_requires:

    Module                              Need Have        
    ----------------------------------- ---- ------------
    Module::Build                       0.33 0.4216      


------------------------------
ENVIRONMENT AND OTHER CONTEXT
------------------------------

Environment variables:

    AUTOMATED_TESTING = 1
    LANG = en_US.UTF-8
    LANGUAGE = en_US:en
    PATH = /usr/lib/ccache:/home/sand/bin:/usr/local/bin:/usr/bin:/bin:/usr/games:/usr/local/perl/bin:/usr/X11/bin:/sbin:/usr/sbin
    PERL5LIB = /tmp/loop_over_bdir-7501-lYWbBJ/FusionInventory-Agent-2.3.17-0/blib/arch:/tmp/loop_over_bdir-7501-lYWbBJ/FusionInventory-Agent-2.3.17-0/blib/lib:/tmp/loop_over_bdir-7501-lYWbBJ/Alien-ActiveMQ-0.00005-0/blib/arch:/tmp/loop_over_bdir-7501-lYWbBJ/Alien-ActiveMQ-0.00005-0/blib/lib
    PERL5OPT = 
    PERL5_CPANPLUS_IS_RUNNING = 2771
    PERL5_CPAN_IS_RUNNING = 2771
    PERL_CANARY_STABILITY_NOPROMPT = 1
    PERL_MM_USE_DEFAULT = 1
    SHELL = /usr/bin/zsh
    TERM = screen

Perl special variables (and OS-specific diagnostics, for MSWin32):

    $^X = /tmp/basesmoker-reloperl-EmF0/bin/perl
    $UID/$EUID = 1005 / 1005
    $GID = 1005 1005
    $EGID = 1005 1005

Perl module toolchain versions installed:

    Module              Have        
    ------------------- ------------
    CPAN                2.12        
    CPAN::Meta          2.150005    
    Cwd                 3.62        
    ExtUtils::CBuilder  0.280224    
    ExtUtils::Command   7.10        
    ExtUtils::Install   2.04        
    ExtUtils::MakeMaker 7.10        
    ExtUtils::Manifest  1.70        
    ExtUtils::ParseXS   3.28        
    File::Spec          3.62        
    JSON                2.90        
    JSON::PP            2.27300     
    Module::Build       0.4216      
    Module::Signature   0.79        
    Parse::CPAN::Meta   1.4417      
    Test::Harness       3.36        
    Test::More          1.302013_019
    YAML                1.15        
    YAML::Syck          1.29        
    version             0.9916      


--

Summary of my perl5 (revision 5 version 22 subversion 2) configuration:
  Commit id: 1b027307a936ccbc52a7291729dae1c16f10576a
  Platform:
    osname=linux, osvers=4.3.0-1-amd64, archname=x86_64-linux-thread-multi-ld
    uname='linux k83 4.3.0-1-amd64 #1 smp debian 4.3.3-7 (2016-01-19) x86_64 gnulinux '
    config_args='-Dprefix=/home/sand/src/perl/repoperls/installed-perls/perl/v5.22.2-RC1/109d -Dmyhostname=k83 -Dinstallusrbinperl=n -Uversiononly -Dusedevel -des -Ui_db -Dlibswanted=cl pthread socket inet nsl gdbm dbm malloc dl ld sun m crypt sec util c cposix posix ucb BSD gdbm_compat -Duseithreads -Duselongdouble -DDEBUGGING=-g'
    hint=recommended, useposix=true, d_sigaction=define
    useithreads=define, usemultiplicity=define
    use64bitint=define, use64bitall=define, uselongdouble=define
    usemymalloc=n, bincompat5005=undef
  Compiler:
    cc='cc', ccflags ='-D_REENTRANT -D_GNU_SOURCE -fwrapv -fno-strict-aliasing -pipe -fstack-protector-strong -I/usr/local/include -D_LARGEFILE_SOURCE -D_FILE_OFFSET_BITS=64 -D_FORTIFY_SOURCE=2',
    optimize='-O2 -g',
    cppflags='-D_REENTRANT -D_GNU_SOURCE -fwrapv -fno-strict-aliasing -pipe -fstack-protector-strong -I/usr/local/include'
    ccversion='', gccversion='5.3.1 20160121', gccosandvers=''
    intsize=4, longsize=8, ptrsize=8, doublesize=8, byteorder=12345678, doublekind=3
    d_longlong=define, longlongsize=8, d_longdbl=define, longdblsize=16, longdblkind=3
    ivtype='long', ivsize=8, nvtype='long double', nvsize=16, Off_t='off_t', lseeksize=8
    alignbytes=16, prototype=define
  Linker and Libraries:
    ld='cc', ldflags =' -fstack-protector-strong -L/usr/local/lib'
    libpth=/usr/local/lib /usr/lib/gcc/x86_64-linux-gnu/5/include-fixed /usr/include/x86_64-linux-gnu /usr/lib /lib/x86_64-linux-gnu /lib/../lib /usr/lib/x86_64-linux-gnu /usr/lib/../lib /lib
    libs=-lpthread -lnsl -lgdbm -ldl -lm -lcrypt -lutil -lc -lgdbm_compat
    perllibs=-lpthread -lnsl -ldl -lm -lcrypt -lutil -lc
    libc=libc-2.21.so, so=so, useshrplib=false, libperl=libperl.a
    gnulibc_version='2.21'
  Dynamic Linking:
    dlsrc=dl_dlopen.xs, dlext=so, d_dlsymun=undef, ccdlflags='-Wl,-E'
    cccdlflags='-fPIC', lddlflags='-shared -O2 -g -L/usr/local/lib -fstack-protector-strong'


Characteristics of this binary (from libperl): 
  Compile-time options: HAS_TIMES MULTIPLICITY PERLIO_LAYERS
                        PERL_DONT_CREATE_GVSV
                        PERL_HASH_FUNC_ONE_AT_A_TIME_HARD
                        PERL_IMPLICIT_CONTEXT PERL_MALLOC_WRAP
                        PERL_NEW_COPY_ON_WRITE PERL_PRESERVE_IVUV
                        PERL_USE_DEVEL USE_64_BIT_ALL USE_64_BIT_INT
                        USE_ITHREADS USE_LARGE_FILES USE_LOCALE
                        USE_LOCALE_COLLATE USE_LOCALE_CTYPE
                        USE_LOCALE_NUMERIC USE_LOCALE_TIME USE_LONG_DOUBLE
                        USE_PERLIO USE_PERL_ATOF USE_REENTRANT_API
  Locally applied patches:
	RC1
  Built under linux
  Compiled at Apr 10 2016 23:45:52
  %ENV:
    PERL5LIB="/tmp/loop_over_bdir-7501-lYWbBJ/FusionInventory-Agent-2.3.17-0/blib/arch:/tmp/loop_over_bdir-7501-lYWbBJ/FusionInventory-Agent-2.3.17-0/blib/lib:/tmp/loop_over_bdir-7501-lYWbBJ/Alien-ActiveMQ-0.00005-0/blib/arch:/tmp/loop_over_bdir-7501-lYWbBJ/Alien-ActiveMQ-0.00005-0/blib/lib"
    PERL5OPT=""
    PERL5_CPANPLUS_IS_RUNNING="2771"
    PERL5_CPAN_IS_RUNNING="2771"
    PERL_CANARY_STABILITY_NOPROMPT="1"
    PERL_MM_USE_DEFAULT="1"
  @INC:
    /tmp/loop_over_bdir-7501-lYWbBJ/FusionInventory-Agent-2.3.17-0/blib/arch
    /tmp/loop_over_bdir-7501-lYWbBJ/FusionInventory-Agent-2.3.17-0/blib/lib
    /tmp/loop_over_bdir-7501-lYWbBJ/Alien-ActiveMQ-0.00005-0/blib/arch
    /tmp/loop_over_bdir-7501-lYWbBJ/Alien-ActiveMQ-0.00005-0/blib/lib
    /home/sand/src/perl/repoperls/installed-perls/perl/v5.22.2-RC1/109d/lib/site_perl/5.22.2/x86_64-linux-thread-multi-ld
    /home/sand/src/perl/repoperls/installed-perls/perl/v5.22.2-RC1/109d/lib/site_perl/5.22.2
    /home/sand/src/perl/repoperls/installed-perls/perl/v5.22.2-RC1/109d/lib/5.22.2/x86_64-linux-thread-multi-ld
    /home/sand/src/perl/repoperls/installed-perls/perl/v5.22.2-RC1/109d/lib/5.22.2
    .