App-SimulateReads v0.11 Perl 5 v5.27.6 x86_64-linux
- Status
- Pass
- From
- Serguei Trouchelle (STRO)
- Dist
-
App-SimulateReads v0.11
- Platform
- Perl 5 v5.27.6 x86_64-linux
- Date
- 2018-03-25 20:04:49
- ID
- c5f914e6-3067-11e8-bf3e-a6c643f789d6
This distribution has been tested as part of the CPAN Testers
project, supporting the Perl programming language. See
http://wiki.cpantesters.org/ for more information or email
questions to cpan-testers-discuss@perl.org
--
Dear Thiago Luiz Araujo Miller,
This is a computer-generated report for App-SimulateReads-0.11
on perl 5.27.6, created by CPAN-Reporter-1.2018.
Thank you for uploading your work to CPAN. Congratulations!
All tests were successful.
Sections of this report:
* Tester comments
* Program output
* Prerequisites
* Environment and other context
------------------------------
TESTER COMMENTS
------------------------------
Additional comments from tester:
this report is from an automated smoke testing program
and was not reviewed by a human for accuracy
------------------------------
PROGRAM OUTPUT
------------------------------
Output from '/usr/bin/make test':
Skip blib/lib/auto/share/dist/App-SimulateReads/quality_profile.db (unchanged)
Skip blib/lib/auto/share/dist/App-SimulateReads/quality_profile.sql (unchanged)
PERL_DL_NONLAZY=1 "/home/stro/perl/5.27.6/bin/perl" "-MExtUtils::Command::MM" "-MTest::Harness" "-e" "undef *Test::Harness::Switches; test_harness(0, 'blib/lib', 'blib/arch')" t/*.t
t/00-load.t ............ ok
t/author-critic.t ...... skipped: these tests are for testing by the author
t/author-pod-syntax.t .. skipped: these tests are for testing by the author
t/test_classes.t ....... ok
All tests successful.
Files=4, Tests=492, 5 wallclock secs ( 0.05 usr 0.00 sys + 1.38 cusr 0.06 csys = 1.49 CPU)
Result: PASS
------------------------------
PREREQUISITES
------------------------------
Prerequisite modules loaded:
requires:
Module Need Have
---------------------------- ----- --------
base 0 2.27
Carp 0 1.44
constant 0 1.33
Data::OptList 0 0.110
DBIx::Class::Core 0 0
DBIx::Class::Schema 0 0
feature 0 1.49
File::Cat 0 1.2
File::Path 0 2.15
Getopt::Long 0 2.5
Hook::AfterRuntime 0 0.005
if 0 0.0608
Import::Into 0 1.002005
IO::Compress::Gzip 0 2.074
IO::Uncompress::Gunzip 0 2.074
Math::Random 0.72 0.72
Module::Runtime 0 0.016
Moose 0 2.2010
Moose::Role 0 2.2010
Moose::Util::TypeConstraints 0 2.2010
MooseX::StrictConstructor 0 0.21
MooseX::UndefTolerant 0 0.21
namespace::autoclean 0 0.28
Parallel::ForkManager 1.19 1.19
Path::Class 0 0.37
perl 5.010 5.027006
PerlIO::gzip 0.19 0.20
Pod::Usage 0 1.69
Scalar::Util 0 1.50
Storable 2.51 2.65
strict 0 1.11
true 0 0.18
Try::Tiny 0 0.30
utf8 0 1.20
warnings 0 1.38
build_requires:
Module Need Have
---------------------------- ----- --------
autodie 0 2.29
Class::Data::Inheritable 0.08 0.08
ExtUtils::MakeMaker 0 7.34
Test::Class 0.50 0.50
Test::Most 0.35 0.35
Test::UseAllModules 0 0.17
configure_requires:
Module Need Have
---------------------------- ----- --------
ExtUtils::MakeMaker 0 7.34
File::ShareDir::Install 0.06 0.11
perl 5.010 5.027006
opt_build_requires:
Module Need Have
---------------------------- ----- --------
Test::Perl::Critic 0 1.03
Test::UseAllModules 0 0.17
------------------------------
ENVIRONMENT AND OTHER CONTEXT
------------------------------
Environment variables:
AUTOMATED_TESTING = 1
LANG = en_US.UTF-8
PATH = /usr/local/bin:/usr/bin:/bin:/usr/local/games:/usr/games
PERL5LIB =
PERL5OPT =
PERL5_CPANPLUS_IS_RUNNING = 4472
PERL5_CPAN_IS_RUNNING = 4472
PERL5_CPAN_IS_RUNNING_IN_RECURSION = 16951,4472
PERL_CR_SMOKER_CURRENT = App-SimulateReads-0.11
PERL_EXTUTILS_AUTOINSTALL = --defaultdeps
PERL_MM_USE_DEFAULT = 1
PERL_USE_UNSAFE_INC = 1
SHELL = /bin/bash
TERM = xterm
Perl special variables (and OS-specific diagnostics, for MSWin32):
$^X = /home/stro/perl/5.27.6/bin/perl
$UID/$EUID = 1000 / 1000
$GID = 1000 24 25 29 30 44 46 108 114 1000
$EGID = 1000 24 25 29 30 44 46 108 114 1000
Perl module toolchain versions installed:
Module Have
------------------- --------
CPAN 2.18
CPAN::Meta 2.150010
Cwd 3.74
ExtUtils::CBuilder 0.280229
ExtUtils::Command 7.34
ExtUtils::Install 2.14
ExtUtils::MakeMaker 7.34
ExtUtils::Manifest 1.70
ExtUtils::ParseXS 3.36
File::Spec 3.74
JSON 2.97001
JSON::PP 2.97001
Module::Build 0.4224
Module::Signature 0.81
Parse::CPAN::Meta 2.150010
Test::Harness 3.42
Test::More 1.302133
YAML 1.24
YAML::Syck 1.30
version 0.9918
--
Summary of my perl5 (revision 5 version 27 subversion 6) configuration:
Platform:
osname=linux
osvers=3.16.0-4-amd64
archname=x86_64-linux
uname='linux vm-debian-001 3.16.0-4-amd64 #1 smp debian 3.16.7-ckt11-1 (2015-05-24) x86_64 gnulinux '
config_args=''
hint=recommended
useposix=true
d_sigaction=define
useithreads=undef
usemultiplicity=undef
use64bitint=define
use64bitall=define
uselongdouble=undef
usemymalloc=n
default_inc_excludes_dot=define
bincompat5005=undef
Compiler:
cc='cc'
ccflags ='-fwrapv -fno-strict-aliasing -pipe -fstack-protector-strong -I/usr/local/include -D_LARGEFILE_SOURCE -D_FILE_OFFSET_BITS=64 -D_FORTIFY_SOURCE=2'
optimize='-O2'
cppflags='-fwrapv -fno-strict-aliasing -pipe -fstack-protector-strong -I/usr/local/include'
ccversion=''
gccversion='4.9.2'
gccosandvers=''
intsize=4
longsize=8
ptrsize=8
doublesize=8
byteorder=12345678
doublekind=3
d_longlong=define
longlongsize=8
d_longdbl=define
longdblsize=16
longdblkind=3
ivtype='long'
ivsize=8
nvtype='double'
nvsize=8
Off_t='off_t'
lseeksize=8
alignbytes=8
prototype=define
Linker and Libraries:
ld='cc'
ldflags =' -fstack-protector-strong -L/usr/local/lib'
libpth=/usr/local/lib /usr/lib/gcc/x86_64-linux-gnu/4.9/include-fixed /usr/include/x86_64-linux-gnu /usr/lib /lib/x86_64-linux-gnu /lib/../lib /usr/lib/x86_64-linux-gnu /usr/lib/../lib /lib
libs=-lpthread -lnsl -ldl -lm -lcrypt -lutil -lc
perllibs=-lpthread -lnsl -ldl -lm -lcrypt -lutil -lc
libc=libc-2.19.so
so=so
useshrplib=false
libperl=libperl.a
gnulibc_version='2.19'
Dynamic Linking:
dlsrc=dl_dlopen.xs
dlext=so
d_dlsymun=undef
ccdlflags='-Wl,-E'
cccdlflags='-fPIC'
lddlflags='-shared -O2 -L/usr/local/lib -fstack-protector-strong'
Characteristics of this binary (from libperl):
Compile-time options:
HAS_TIMES
PERLIO_LAYERS
PERL_COPY_ON_WRITE
PERL_DONT_CREATE_GVSV
PERL_MALLOC_WRAP
PERL_OP_PARENT
PERL_PRESERVE_IVUV
USE_64_BIT_ALL
USE_64_BIT_INT
USE_LARGE_FILES
USE_LOCALE
USE_LOCALE_COLLATE
USE_LOCALE_CTYPE
USE_LOCALE_NUMERIC
USE_LOCALE_TIME
USE_PERLIO
USE_PERL_ATOF
Built under linux
Compiled at Dec 17 2017 00:33:19
%ENV:
PERL5LIB=""
PERL5OPT=""
PERL5_CPANPLUS_IS_RUNNING="4472"
PERL5_CPAN_IS_RUNNING="4472"
PERL5_CPAN_IS_RUNNING_IN_RECURSION="16951,4472"
PERL_CR_SMOKER_CURRENT="App-SimulateReads-0.11"
PERL_EXTUTILS_AUTOINSTALL="--defaultdeps"
PERL_MM_USE_DEFAULT="1"
PERL_USE_UNSAFE_INC="1"
@INC:
/home/stro/perl/5.27.6/lib/site_perl/5.27.6/x86_64-linux
/home/stro/perl/5.27.6/lib/site_perl/5.27.6
/home/stro/perl/5.27.6/lib/5.27.6/x86_64-linux
/home/stro/perl/5.27.6/lib/5.27.6
.