Report for SOAP-Transport-JABBER-0.713

Back
From: metabase:user:313dc9fe-2aae-11df-837a-5e0a49663a4f
Subject: PASS SOAP-Transport-JABBER-0.713 v5.10.1 GNU/Linux
Date: 2010-10-28T16:02:32Z

This distribution has been tested as part of the CPAN Testers
project, supporting the Perl programming language.  See
http://wiki.cpantesters.org/ for more information or email
questions to cpan-testers-discuss@perl.org


--
Dear Martin Kutter,

This is a computer-generated report for SOAP-Transport-JABBER-0.713
on perl 5.10.1, created by CPAN-Reporter-1.1805.

Thank you for uploading your work to CPAN.  Congratulations!
All tests were successful.

Sections of this report:

    * Tester comments
    * Program output
    * Prerequisites
    * Environment and other context

------------------------------
TESTER COMMENTS
------------------------------

Additional comments from tester:

this report is from an automated smoke testing program
and was not reviewed by a human for accuracy

------------------------------
PROGRAM OUTPUT
------------------------------

Output from './Build test':

t/01_use.t ............ ok
t/096_characters.t .... skipped: (no reason given)
t/097_kwalitee.t ...... skipped: (no reason given)
t/098_pod.t ........... skipped: (no reason given)
t/099_pod_coverage.t .. skipped: (no reason given)
All tests successful.
Files=5, Tests=1,  0 wallclock secs ( 0.05 usr  0.01 sys +  0.24 cusr  0.07 csys =  0.37 CPU)
Result: PASS

------------------------------
PREREQUISITES
------------------------------

Prerequisite modules loaded:

requires:

    Module        Need   Have    
    ------------- ------ --------
    Net::Jabber   0      2.0     
    perl          v5.6.0 5.010001
    SOAP::Lite    0.711  0.712   

build_requires:

    Module        Need   Have    
    ------------- ------ --------
    Test::More    0      0.94    

configure_requires:

    Module        Need   Have    
    ------------- ------ --------
    Module::Build 0.36   0.3607  


------------------------------
ENVIRONMENT AND OTHER CONTEXT
------------------------------

Environment variables:

    AUTOMATED_TESTING = 1
    LANG = en_US.UTF-8
    PATH = /usr/local/sbin:/usr/local/bin:/usr/sbin:/usr/bin:/sbin:/bin:/usr/games
    PERL5LIB = /home/perl5101/.cpan/build/Net-Jabber-2.0-Tg0H5h/blib/arch:/home/perl5101/.cpan/build/Net-Jabber-2.0-Tg0H5h/blib/lib:/home/perl5101/.cpan/build/Net-XMPP-1.02-noqHuz/blib/arch:/home/perl5101/.cpan/build/Net-XMPP-1.02-noqHuz/blib/lib:/home/perl5101/.cpan/build/XML-Stream-1.23-eC5CXf/blib/arch:/home/perl5101/.cpan/build/XML-Stream-1.23-eC5CXf/blib/lib:/home/perl5101/.cpan/build/Authen-SASL-2.15-xB7mOv/blib/arch:/home/perl5101/.cpan/build/Authen-SASL-2.15-xB7mOv/blib/lib:/home/perl5101/.cpan/build/Digest-HMAC-1.02-TZMWK8/blib/arch:/home/perl5101/.cpan/build/Digest-HMAC-1.02-TZMWK8/blib/lib:/home/perl5101/.cpan/build/SOAP-Lite-0.712-t7vw1V/blib/arch:/home/perl5101/.cpan/build/SOAP-Lite-0.712-t7vw1V/blib/lib
    PERL5OPT = 
    PERL5_CPANPLUS_IS_RUNNING = 29898
    PERL5_CPAN_IS_RUNNING = 29898
    PERL5_CPAN_IS_RUNNING_IN_RECURSION = 4139,29898
    PERL_CR_SMOKER_CURRENT = SOAP-Transport-JABBER-0.713
    PERL_EXTUTILS_AUTOINSTALL = --defaultdeps
    PERL_MM_USE_DEFAULT = 1
    SHELL = /bin/bash
    TERM = xterm

Perl special variables (and OS-specific diagnostics, for MSWin32):

    $^X = /home/perl5101/perl/bin/perl
    $UID/$EUID = 1004 / 1004
    $GID = 1004 1004
    $EGID = 1004 1004

Perl module toolchain versions installed:

    Module              Have  
    ------------------- ------
    CPAN                1.9402
    Cwd                 3.31  
    ExtUtils::CBuilder  0.2703
    ExtUtils::Command   1.16  
    ExtUtils::Install   1.54  
    ExtUtils::MakeMaker 6.56  
    ExtUtils::Manifest  1.58  
    ExtUtils::ParseXS   2.2205
    File::Spec          3.31  
    Module::Build       0.3607
    Module::Signature   n/a   
    Test::Harness       3.21  
    Test::More          0.94  
    YAML                0.71  
    YAML::Syck          1.09  
    version             0.82  


--

Summary of my perl5 (revision 5 version 10 subversion 1) configuration:
   
  Platform:
    osname=linux, osvers=2.6.31-20-generic, archname=i686-linux-thread-multi
    uname='linux st47-laptop 2.6.31-20-generic #57-ubuntu smp mon feb 8 09:05:19 utc 2010 i686 gnulinux '
    config_args=''
    hint=previous, useposix=true, d_sigaction=define
    useithreads=define, usemultiplicity=define
    useperlio=define, d_sfio=undef, uselargefiles=define, usesocks=undef
    use64bitint=undef, use64bitall=undef, uselongdouble=undef
    usemymalloc=n, bincompat5005=undef
  Compiler:
    cc='cc', ccflags ='-D_REENTRANT -D_GNU_SOURCE -fno-strict-aliasing -pipe -fstack-protector -I/usr/local/include -D_LARGEFILE_SOURCE -D_FILE_OFFSET_BITS=64',
    optimize='-O2',
    cppflags='-D_REENTRANT -D_GNU_SOURCE -fno-strict-aliasing -pipe -fstack-protector -I/usr/local/include -D_REENTRANT -D_GNU_SOURCE -fno-strict-aliasing -pipe -fstack-protector -I/usr/local/include -D_LARGEFILE_SOURCE -D_FILE_OFFSET_BITS=64'
    ccversion='', gccversion='4.4.1', gccosandvers=''
    intsize=4, longsize=4, ptrsize=4, doublesize=8, byteorder=1234
    d_longlong=define, longlongsize=8, d_longdbl=define, longdblsize=12
    ivtype='long', ivsize=4, nvtype='double', nvsize=8, Off_t='off_t', lseeksize=8
    alignbytes=4, prototype=define
  Linker and Libraries:
    ld='cc', ldflags =' -fstack-protector -L/usr/local/lib'
    libpth=/usr/local/lib /lib /usr/lib
    libs=-lnsl -ldl -lm -lcrypt -lutil -lpthread -lc
    perllibs=-lnsl -ldl -lm -lcrypt -lutil -lpthread -lc
    libc=/lib/libc-2.10.1.so, so=so, useshrplib=false, libperl=libperl.a
    gnulibc_version='2.10.1'
  Dynamic Linking:
    dlsrc=dl_dlopen.xs, dlext=so, d_dlsymun=undef, ccdlflags='-Wl,-E'
    cccdlflags='-fPIC', lddlflags='-shared -O2 -L/usr/local/lib -fstack-protector'


Characteristics of this binary (from libperl): 
  Compile-time options: MULTIPLICITY PERL_DONT_CREATE_GVSV
                        PERL_IMPLICIT_CONTEXT PERL_MALLOC_WRAP USE_ITHREADS
                        USE_LARGE_FILES USE_PERLIO USE_REENTRANT_API
  Built under linux
  Compiled at Mar 12 2010 10:45:32
  %ENV:
    PERL5LIB="/home/perl5101/.cpan/build/Net-Jabber-2.0-Tg0H5h/blib/arch:/home/perl5101/.cpan/build/Net-Jabber-2.0-Tg0H5h/blib/lib:/home/perl5101/.cpan/build/Net-XMPP-1.02-noqHuz/blib/arch:/home/perl5101/.cpan/build/Net-XMPP-1.02-noqHuz/blib/lib:/home/perl5101/.cpan/build/XML-Stream-1.23-eC5CXf/blib/arch:/home/perl5101/.cpan/build/XML-Stream-1.23-eC5CXf/blib/lib:/home/perl5101/.cpan/build/Authen-SASL-2.15-xB7mOv/blib/arch:/home/perl5101/.cpan/build/Authen-SASL-2.15-xB7mOv/blib/lib:/home/perl5101/.cpan/build/Digest-HMAC-1.02-TZMWK8/blib/arch:/home/perl5101/.cpan/build/Digest-HMAC-1.02-TZMWK8/blib/lib:/home/perl5101/.cpan/build/SOAP-Lite-0.712-t7vw1V/blib/arch:/home/perl5101/.cpan/build/SOAP-Lite-0.712-t7vw1V/blib/lib"
    PERL5OPT=""
    PERL5_CPANPLUS_IS_RUNNING="29898"
    PERL5_CPAN_IS_RUNNING="29898"
    PERL5_CPAN_IS_RUNNING_IN_RECURSION="4139,29898"
    PERL_CR_SMOKER_CURRENT="SOAP-Transport-JABBER-0.713"
    PERL_EXTUTILS_AUTOINSTALL="--defaultdeps"
    PERL_MM_USE_DEFAULT="1"
  @INC:
    /home/perl5101/.cpan/build/Net-Jabber-2.0-Tg0H5h/blib/arch
    /home/perl5101/.cpan/build/Net-Jabber-2.0-Tg0H5h/blib/lib
    /home/perl5101/.cpan/build/Net-XMPP-1.02-noqHuz/blib/arch
    /home/perl5101/.cpan/build/Net-XMPP-1.02-noqHuz/blib/lib
    /home/perl5101/.cpan/build/XML-Stream-1.23-eC5CXf/blib/arch
    /home/perl5101/.cpan/build/XML-Stream-1.23-eC5CXf/blib/lib
    /home/perl5101/.cpan/build/Authen-SASL-2.15-xB7mOv/blib/arch
    /home/perl5101/.cpan/build/Authen-SASL-2.15-xB7mOv/blib/lib
    /home/perl5101/.cpan/build/Digest-HMAC-1.02-TZMWK8/blib/arch
    /home/perl5101/.cpan/build/Digest-HMAC-1.02-TZMWK8/blib/lib
    /home/perl5101/.cpan/build/SOAP-Lite-0.712-t7vw1V/blib/arch
    /home/perl5101/.cpan/build/SOAP-Lite-0.712-t7vw1V/blib/lib
    /home/perl5101/perl/lib/5.10.1
    /home/perl5101/perl/lib/5.10.1
    .