Report for Catalyst-View-Email-0.33

Back
From: metabase:user:320bfe00-2aae-11df-837a-5e0a49663a4f
Subject: PASS Catalyst-View-Email-0.33 v5.19.11 GNU/Linux
Date: 2014-03-22T21:56:08Z

This distribution has been tested as part of the CPAN Testers
project, supporting the Perl programming language.  See
http://wiki.cpantesters.org/ for more information or email
questions to cpan-testers-discuss@perl.org


--
Dear Devin Austin,

This is a computer-generated report for Catalyst-View-Email-0.33
on perl 5.19.11, created by CPAN-Reporter-1.2011.

Thank you for uploading your work to CPAN.  Congratulations!
All tests were successful.

Sections of this report:

    * Tester comments
    * Program output
    * Prerequisites
    * Environment and other context

------------------------------
TESTER COMMENTS
------------------------------

Additional comments from tester:

this report is from an automated smoke testing program
and was not reviewed by a human for accuracy

------------------------------
PROGRAM OUTPUT
------------------------------

Output from '/usr/bin/make test':

PERL_DL_NONLAZY=1 /tmp/basesmoker-reloperl-eZok/bin/perl "-MExtUtils::Command::MM" "-MTest::Harness" "-e" "undef *Test::Harness::Switches; test_harness(0, 'inc', 'blib/lib', 'blib/arch')" t/01use.t t/02pod.t t/04basic.t t/05template.t t/06config.t t/07mason.t
t/01use.t ....... ok
t/02pod.t ....... skipped: set TEST_POD to enable this test
require TestApp::View::Mason was successful but the package is not defined. at /home/sand/src/perl/repoperls/installed-perls/perl/v5.19.10-7-gb51c3e7/9980/lib/site_perl/5.19.11/Catalyst/Utils.pm line 314.
Class::MOP::load_class is deprecated at /home/sand/src/perl/repoperls/installed-perls/perl/v5.19.10-7-gb51c3e7/9980/lib/site_perl/5.19.11/x86_64-linux-thread-multi/Class/MOP.pm line 73.
	Class::MOP::load_class("Email::Sender::Transport::Test") called at /tmp/loop_over_bdir-1046-IeaZlv/Catalyst-View-Email-0.33-YSkuS4/blib/lib/Catalyst/View/Email.pm line 226
	Catalyst::View::Email::_build_mailer_obj(TestApp::View::Email=HASH(0x5a53998)) called at accessor Catalyst::View::Email::_mailer_obj (defined at /tmp/loop_over_bdir-1046-IeaZlv/Catalyst-View-Email-0.33-YSkuS4/blib/lib/Catalyst/View/Email.pm line 21) line 11
	Catalyst::View::Email::_mailer_obj(TestApp::View::Email=HASH(0x5a53998)) called at /tmp/loop_over_bdir-1046-IeaZlv/Catalyst-View-Email-0.33-YSkuS4/blib/lib/Catalyst/View/Email.pm line 299
	Catalyst::View::Email::process(TestApp::View::Email=HASH(0x5a53998), TestApp=HASH(0x5b42620)) called at /home/sand/src/perl/repoperls/installed-perls/perl/v5.19.10-7-gb51c3e7/9980/lib/site_perl/5.19.11/Catalyst/Action.pm line 65
	Catalyst::Action::execute(Catalyst::Action=HASH(0x5b4be58), TestApp::View::Email=HASH(0x5a53998), TestApp=HASH(0x5b42620)) called at /home/sand/src/perl/repoperls/installed-perls/perl/v5.19.10-7-gb51c3e7/9980/lib/site_perl/5.19.11/Catalyst.pm line 1734
	eval {...} called at /home/sand/src/perl/repoperls/installed-perls/perl/v5.19.10-7-gb51c3e7/9980/lib/site_perl/5.19.11/Catalyst.pm line 1734
	Catalyst::execute(TestApp=HASH(0x5b42620), "TestApp::View::Email", Catalyst::Action=HASH(0x5b4be58)) called at /home/sand/src/perl/repoperls/installed-perls/perl/v5.19.10-7-gb51c3e7/9980/lib/site_perl/5.19.11/Catalyst/Action.pm line 60
	Catalyst::Action::dispatch(Catalyst::Action=HASH(0x5b4be58), TestApp=HASH(0x5b42620)) called at /home/sand/src/perl/repoperls/installed-perls/perl/v5.19.10-7-gb51c3e7/9980/lib/site_perl/5.19.11/Catalyst/Dispatcher.pm line 258
	Catalyst::Dispatcher::_do_forward(Catalyst::Dispatcher=HASH(0x46e1a60), "forward", TestApp=HASH(0x5b42620), "TestApp::View::Email") called at /home/sand/src/perl/repoperls/installed-perls/perl/v5.19.10-7-gb51c3e7/9980/lib/site_perl/5.19.11/Catalyst/Dispatcher.pm line 238
	Catalyst::Dispatcher::forward(Catalyst::Dispatcher=HASH(0x46e1a60), TestApp=HASH(0x5b42620), "TestApp::View::Email") called at /home/sand/src/perl/repoperls/installed-perls/perl/v5.19.10-7-gb51c3e7/9980/lib/site_perl/5.19.11/Catalyst.pm line 397
	Catalyst::forward(TestApp=HASH(0x5b42620), "TestApp::View::Email") called at /tmp/loop_over_bdir-1046-IeaZlv/Catalyst-View-Email-0.33-YSkuS4/t/lib/TestApp/Controller/Root.pm line 26
	TestApp::Controller::Root::email(TestApp::Controller::Root=HASH(0x5a543b8), TestApp=HASH(0x5b42620)) called at /home/sand/src/perl/repoperls/installed-perls/perl/v5.19.10-7-gb51c3e7/9980/lib/site_perl/5.19.11/Catalyst/Action.pm line 65
	Catalyst::Action::execute(Catalyst::Action=HASH(0x5a91c20), TestApp::Controller::Root=HASH(0x5a543b8), TestApp=HASH(0x5b42620)) called at /home/sand/src/perl/repoperls/installed-perls/perl/v5.19.10-7-gb51c3e7/9980/lib/site_perl/5.19.11/Catalyst.pm line 1734
	eval {...} called at /home/sand/src/perl/repoperls/installed-perls/perl/v5.19.10-7-gb51c3e7/9980/lib/site_perl/5.19.11/Catalyst.pm line 1734
	Catalyst::execute(TestApp=HASH(0x5b42620), "TestApp::Controller::Root", Catalyst::Action=HASH(0x5a91c20)) called at /home/sand/src/perl/repoperls/installed-perls/perl/v5.19.10-7-gb51c3e7/9980/lib/site_perl/5.19.11/Catalyst/Action.pm line 60
	Catalyst::Action::dispatch(Catalyst::Action=HASH(0x5a91c20), TestApp=HASH(0x5b42620)) called at /home/sand/src/perl/repoperls/installed-perls/perl/v5.19.10-7-gb51c3e7/9980/lib/site_perl/5.19.11/Catalyst/Controller.pm line 161
	Catalyst::Controller::_ACTION(TestApp::Controller::Root=HASH(0x5a543b8), TestApp=HASH(0x5b42620)) called at /home/sand/src/perl/repoperls/installed-perls/perl/v5.19.10-7-gb51c3e7/9980/lib/site_perl/5.19.11/Catalyst/Action.pm line 65
	Catalyst::Action::execute(Catalyst::Action=HASH(0x5a91518), TestApp::Controller::Root=HASH(0x5a543b8), TestApp=HASH(0x5b42620)) called at /home/sand/src/perl/repoperls/installed-perls/perl/v5.19.10-7-gb51c3e7/9980/lib/site_perl/5.19.11/Catalyst.pm line 1734
	eval {...} called at /home/sand/src/perl/repoperls/installed-perls/perl/v5.19.10-7-gb51c3e7/9980/lib/site_perl/5.19.11/Catalyst.pm line 1734
	Catalyst::execute(TestApp=HASH(0x5b42620), "TestApp::Controller::Root", Catalyst::Action=HASH(0x5a91518)) called at /home/sand/src/perl/repoperls/installed-perls/perl/v5.19.10-7-gb51c3e7/9980/lib/site_perl/5.19.11/Catalyst/Action.pm line 60
	Catalyst::Action::dispatch(Catalyst::Action=HASH(0x5a91518), TestApp=HASH(0x5b42620)) called at /home/sand/src/perl/repoperls/installed-perls/perl/v5.19.10-7-gb51c3e7/9980/lib/site_perl/5.19.11/Catalyst/Dispatcher.pm line 258
	Catalyst::Dispatcher::_do_forward(Catalyst::Dispatcher=HASH(0x46e1a60), "forward", TestApp=HASH(0x5b42620), "_ACTION") called at /home/sand/src/perl/repoperls/installed-perls/perl/v5.19.10-7-gb51c3e7/9980/lib/site_perl/5.19.11/Catalyst/Dispatcher.pm line 238
	Catalyst::Dispatcher::forward(Catalyst::Dispatcher=HASH(0x46e1a60), TestApp=HASH(0x5b42620), "_ACTION") called at /home/sand/src/perl/repoperls/installed-perls/perl/v5.19.10-7-gb51c3e7/9980/lib/site_perl/5.19.11/Catalyst.pm line 397
	Catalyst::forward(TestApp=HASH(0x5b42620), "_ACTION") called at /home/sand/src/perl/repoperls/installed-perls/perl/v5.19.10-7-gb51c3e7/9980/lib/site_perl/5.19.11/Catalyst/Controller.pm line 135
	Catalyst::Controller::_DISPATCH(TestApp::Controller::Root=HASH(0x5a543b8), TestApp=HASH(0x5b42620)) called at /home/sand/src/perl/repoperls/installed-perls/perl/v5.19.10-7-gb51c3e7/9980/lib/site_perl/5.19.11/Catalyst/Action.pm line 65
	Catalyst::Action::execute(Catalyst::Action=HASH(0x5a8e8d8), TestApp::Controller::Root=HASH(0x5a543b8), TestApp=HASH(0x5b42620)) called at /home/sand/src/perl/repoperls/installed-perls/perl/v5.19.10-7-gb51c3e7/9980/lib/site_perl/5.19.11/Catalyst.pm line 1734
	eval {...} called at /home/sand/src/perl/repoperls/installed-perls/perl/v5.19.10-7-gb51c3e7/9980/lib/site_perl/5.19.11/Catalyst.pm line 1734
	Catalyst::execute(TestApp=HASH(0x5b42620), "TestApp::Controller::Root", Catalyst::Action=HASH(0x5a8e8d8)) called at /home/sand/src/perl/repoperls/installed-perls/perl/v5.19.10-7-gb51c3e7/9980/lib/site_perl/5.19.11/Catalyst/Action.pm line 60
	Catalyst::Action::dispatch(Catalyst::Action=HASH(0x5a8e8d8), TestApp=HASH(0x5b42620)) called at /home/sand/src/perl/repoperls/installed-perls/perl/v5.19.10-7-gb51c3e7/9980/lib/site_perl/5.19.11/Catalyst/Dispatcher.pm line 258
	Catalyst::Dispatcher::_do_forward(Catalyst::Dispatcher=HASH(0x46e1a60), "forward", TestApp=HASH(0x5b42620), "/root/_DISPATCH") called at /home/sand/src/perl/repoperls/installed-perls/perl/v5.19.10-7-gb51c3e7/9980/lib/site_perl/5.19.11/Catalyst/Dispatcher.pm line 238
	Catalyst::Dispatcher::forward(Catalyst::Dispatcher=HASH(0x46e1a60), TestApp=HASH(0x5b42620), "/root/_DISPATCH") called at /home/sand/src/perl/repoperls/installed-perls/perl/v5.19.10-7-gb51c3e7/9980/lib/site_perl/5.19.11/Catalyst.pm line 397
	Catalyst::forward(TestApp=HASH(0x5b42620), "/root/_DISPATCH") called at /home/sand/src/perl/repoperls/installed-perls/perl/v5.19.10-7-gb51c3e7/9980/lib/site_perl/5.19.11/Catalyst/Dispatcher.pm line 107
	Catalyst::Dispatcher::dispatch(Catalyst::Dispatcher=HASH(0x46e1a60), TestApp=HASH(0x5b42620)) called at /home/sand/src/perl/repoperls/installed-perls/perl/v5.19.10-7-gb51c3e7/9980/lib/site_perl/5.19.11/Catalyst.pm line 1680
	Catalyst::dispatch(TestApp=HASH(0x5b42620)) called at /home/sand/src/perl/repoperls/installed-perls/perl/v5.19.10-7-gb51c3e7/9980/lib/site_perl/5.19.11/Catalyst.pm line 2015
	Catalyst::try {...} () called at /home/sand/src/perl/repoperls/installed-perls/perl/v5.19.10-7-gb51c3e7/9980/lib/site_perl/5.19.11/Try/Tiny.pm line 81
	eval {...} called at /home/sand/src/perl/repoperls/installed-perls/perl/v5.19.10-7-gb51c3e7/9980/lib/site_perl/5.19.11/Try/Tiny.pm line 72
	Try::Tiny::try(CODE(0x5b3f2a8), Try::Tiny::Catch=REF(0x5b3f140)) called at /home/sand/src/perl/repoperls/installed-perls/perl/v5.19.10-7-gb51c3e7/9980/lib/site_perl/5.19.11/Catalyst.pm line 2024
	Catalyst::handle_request("TestApp", "env", HASH(0x55a23e0), "response_cb", CODE(0x5b3f170)) called at /home/sand/src/perl/repoperls/installed-perls/perl/v5.19.10-7-gb51c3e7/9980/lib/site_perl/5.19.11/Catalyst/Engine.pm line 797
	Catalyst::Engine::__ANON__(CODE(0x5b3f170)) called at /home/sand/src/perl/repoperls/installed-perls/perl/v5.19.10-7-gb51c3e7/9980/lib/site_perl/5.19.11/Plack/Middleware/HTTPExceptions.pm line 32
	Plack::Middleware::HTTPExceptions::try {...} () called at /home/sand/src/perl/repoperls/installed-perls/perl/v5.19.10-7-gb51c3e7/9980/lib/site_perl/5.19.11/Try/Tiny.pm line 81
	eval {...} called at /home/sand/src/perl/repoperls/installed-perls/perl/v5.19.10-7-gb51c3e7/9980/lib/site_perl/5.19.11/Try/Tiny.pm line 72
	Try::Tiny::try(CODE(0x5b3efd8), Try::Tiny::Catch=REF(0x5b3e570)) called at /home/sand/src/perl/repoperls/installed-perls/perl/v5.19.10-7-gb51c3e7/9980/lib/site_perl/5.19.11/Plack/Middleware/HTTPExceptions.pm line 41
	Plack::Middleware::HTTPExceptions::__ANON__(CODE(0x5b3eed0)) called at /home/sand/src/perl/repoperls/installed-perls/perl/v5.19.10-7-gb51c3e7/9980/lib/site_perl/5.19.11/Plack/Util.pm line 301
	Plack::Util::__ANON__(CODE(0x5b3edc8)) called at /home/sand/src/perl/repoperls/installed-perls/perl/v5.19.10-7-gb51c3e7/9980/lib/site_perl/5.19.11/Plack/Util.pm line 301
	Plack::Util::__ANON__(CODE(0x5b3ecc0)) called at /home/sand/src/perl/repoperls/installed-perls/perl/v5.19.10-7-gb51c3e7/9980/lib/site_perl/5.19.11/Plack/Util.pm line 301
	Plack::Util::__ANON__(CODE(0x5b3ec30)) called at /home/sand/src/perl/repoperls/installed-perls/perl/v5.19.10-7-gb51c3e7/9980/lib/site_perl/5.19.11/HTTP/Message/PSGI.pm line 100
	HTTP::Message::PSGI::res_from_psgi(CODE(0x5b3e438)) called at /home/sand/src/perl/repoperls/installed-perls/perl/v5.19.10-7-gb51c3e7/9980/lib/site_perl/5.19.11/HTTP/Message/PSGI.pm line 155
	HTTP::Response::from_psgi("HTTP::Response", CODE(0x5b3e438)) called at /home/sand/src/perl/repoperls/installed-perls/perl/v5.19.10-7-gb51c3e7/9980/lib/site_perl/5.19.11/Plack/Test/MockHTTP.pm line 24
	Plack::Test::MockHTTP::try {...} () called at /home/sand/src/perl/repoperls/installed-perls/perl/v5.19.10-7-gb51c3e7/9980/lib/site_perl/5.19.11/Try/Tiny.pm line 79
	eval {...} called at /home/sand/src/perl/repoperls/installed-perls/perl/v5.19.10-7-gb51c3e7/9980/lib/site_perl/5.19.11/Try/Tiny.pm line 72
	Try::Tiny::try(CODE(0x55b9a20), Try::Tiny::Catch=REF(0x5a59528)) called at /home/sand/src/perl/repoperls/installed-perls/perl/v5.19.10-7-gb51c3e7/9980/lib/site_perl/5.19.11/Plack/Test/MockHTTP.pm line 27
	Plack::Test::MockHTTP::request(Plack::Test::MockHTTP=HASH(0x5aac458), HTTP::Request=HASH(0x5aa24f8)) called at /home/sand/src/perl/repoperls/installed-perls/perl/v5.19.10-7-gb51c3e7/9980/lib/site_perl/5.19.11/Plack/Test.pm line 38
	Plack::Test::__ANON__(HTTP::Request=HASH(0x5aa24f8)) called at /home/sand/src/perl/repoperls/installed-perls/perl/v5.19.10-7-gb51c3e7/9980/lib/site_perl/5.19.11/Catalyst/Test.pm line 281
	Catalyst::Test::__ANON__(CODE(0x5aac2f0)) called at /home/sand/src/perl/repoperls/installed-perls/perl/v5.19.10-7-gb51c3e7/9980/lib/site_perl/5.19.11/Plack/Test.pm line 38
	Plack::Test::test_psgi("mangle_response", CODE(0x46c00d0), "app", CODE(0x5aa20a8), "app", CODE(0x5abd0d0), "client", CODE(0x5aabf00)) called at /home/sand/src/perl/repoperls/installed-perls/perl/v5.19.10-7-gb51c3e7/9980/lib/site_perl/5.19.11/Catalyst/Test.pm line 284
	Catalyst::Test::_request(HASH(0x2422cf0), "/email?time=1395525352") called at /home/sand/src/perl/repoperls/installed-perls/perl/v5.19.10-7-gb51c3e7/9980/lib/site_perl/5.19.11/Catalyst/Test.pm line 327
	Catalyst::Test::_local_request("TestApp", "/email?time=1395525352") called at /home/sand/src/perl/repoperls/installed-perls/perl/v5.19.10-7-gb51c3e7/9980/lib/site_perl/5.19.11/Catalyst/Test.pm line 32
	Catalyst::Test::__ANON__("/email?time=1395525352") called at t/04basic.t line 14
t/04basic.t ..... ok
require TestApp::View::Mason was successful but the package is not defined. at /home/sand/src/perl/repoperls/installed-perls/perl/v5.19.10-7-gb51c3e7/9980/lib/site_perl/5.19.11/Catalyst/Utils.pm line 314.
Class::MOP::load_class is deprecated at /home/sand/src/perl/repoperls/installed-perls/perl/v5.19.10-7-gb51c3e7/9980/lib/site_perl/5.19.11/x86_64-linux-thread-multi/Class/MOP.pm line 73.
	Class::MOP::load_class("Email::Sender::Transport::Test") called at /tmp/loop_over_bdir-1046-IeaZlv/Catalyst-View-Email-0.33-YSkuS4/blib/lib/Catalyst/View/Email.pm line 226
	Catalyst::View::Email::_build_mailer_obj(TestApp::View::Email::Template=HASH(0x51ec420)) called at accessor Catalyst::View::Email::_mailer_obj (defined at /tmp/loop_over_bdir-1046-IeaZlv/Catalyst-View-Email-0.33-YSkuS4/blib/lib/Catalyst/View/Email.pm line 21) line 11
	Catalyst::View::Email::_mailer_obj(TestApp::View::Email::Template=HASH(0x51ec420)) called at /tmp/loop_over_bdir-1046-IeaZlv/Catalyst-View-Email-0.33-YSkuS4/blib/lib/Catalyst/View/Email.pm line 299
	Catalyst::View::Email::process(TestApp::View::Email::Template=HASH(0x51ec420), TestApp=HASH(0x540d420)) called at /tmp/loop_over_bdir-1046-IeaZlv/Catalyst-View-Email-0.33-YSkuS4/blib/lib/Catalyst/View/Email/Template.pm line 306
	Class::MOP::Class:::around(CODE(0x512d540), TestApp::View::Email::Template=HASH(0x51ec420), TestApp=HASH(0x540d420)) called at /home/sand/src/perl/repoperls/installed-perls/perl/v5.19.10-7-gb51c3e7/9980/lib/site_perl/5.19.11/x86_64-linux-thread-multi/Class/MOP/Method/Wrapped.pm line 163
	Class::MOP::Method::Wrapped::__ANON__(TestApp::View::Email::Template=HASH(0x51ec420), TestApp=HASH(0x540d420)) called at /home/sand/src/perl/repoperls/installed-perls/perl/v5.19.10-7-gb51c3e7/9980/lib/site_perl/5.19.11/x86_64-linux-thread-multi/Class/MOP/Method/Wrapped.pm line 92
	Catalyst::View::Email::Template::process(TestApp::View::Email::Template=HASH(0x51ec420), TestApp=HASH(0x540d420)) called at /home/sand/src/perl/repoperls/installed-perls/perl/v5.19.10-7-gb51c3e7/9980/lib/site_perl/5.19.11/Catalyst/Action.pm line 65
	Catalyst::Action::execute(Catalyst::Action=HASH(0x5418d80), TestApp::View::Email::Template=HASH(0x51ec420), TestApp=HASH(0x540d420)) called at /home/sand/src/perl/repoperls/installed-perls/perl/v5.19.10-7-gb51c3e7/9980/lib/site_perl/5.19.11/Catalyst.pm line 1734
	eval {...} called at /home/sand/src/perl/repoperls/installed-perls/perl/v5.19.10-7-gb51c3e7/9980/lib/site_perl/5.19.11/Catalyst.pm line 1734
	Catalyst::execute(TestApp=HASH(0x540d420), "TestApp::View::Email::Template", Catalyst::Action=HASH(0x5418d80)) called at /home/sand/src/perl/repoperls/installed-perls/perl/v5.19.10-7-gb51c3e7/9980/lib/site_perl/5.19.11/Catalyst/Action.pm line 60
	Catalyst::Action::dispatch(Catalyst::Action=HASH(0x5418d80), TestApp=HASH(0x540d420)) called at /home/sand/src/perl/repoperls/installed-perls/perl/v5.19.10-7-gb51c3e7/9980/lib/site_perl/5.19.11/Catalyst/Dispatcher.pm line 258
	Catalyst::Dispatcher::_do_forward(Catalyst::Dispatcher=HASH(0x4d29468), "forward", TestApp=HASH(0x540d420), "TestApp::View::Email::Template") called at /home/sand/src/perl/repoperls/installed-perls/perl/v5.19.10-7-gb51c3e7/9980/lib/site_perl/5.19.11/Catalyst/Dispatcher.pm line 238
	Catalyst::Dispatcher::forward(Catalyst::Dispatcher=HASH(0x4d29468), TestApp=HASH(0x540d420), "TestApp::View::Email::Template") called at /home/sand/src/perl/repoperls/installed-perls/perl/v5.19.10-7-gb51c3e7/9980/lib/site_perl/5.19.11/Catalyst.pm line 397
	Catalyst::forward(TestApp=HASH(0x540d420), "TestApp::View::Email::Template") called at /tmp/loop_over_bdir-1046-IeaZlv/Catalyst-View-Email-0.33-YSkuS4/t/lib/TestApp/Controller/Root.pm line 81
	TestApp::Controller::Root::template_email(TestApp::Controller::Root=HASH(0x51eb868), TestApp=HASH(0x540d420)) called at /home/sand/src/perl/repoperls/installed-perls/perl/v5.19.10-7-gb51c3e7/9980/lib/site_perl/5.19.11/Catalyst/Action.pm line 65
	Catalyst::Action::execute(Catalyst::Action=HASH(0x5362f00), TestApp::Controller::Root=HASH(0x51eb868), TestApp=HASH(0x540d420)) called at /home/sand/src/perl/repoperls/installed-perls/perl/v5.19.10-7-gb51c3e7/9980/lib/site_perl/5.19.11/Catalyst.pm line 1734
	eval {...} called at /home/sand/src/perl/repoperls/installed-perls/perl/v5.19.10-7-gb51c3e7/9980/lib/site_perl/5.19.11/Catalyst.pm line 1734
	Catalyst::execute(TestApp=HASH(0x540d420), "TestApp::Controller::Root", Catalyst::Action=HASH(0x5362f00)) called at /home/sand/src/perl/repoperls/installed-perls/perl/v5.19.10-7-gb51c3e7/9980/lib/site_perl/5.19.11/Catalyst/Action.pm line 60
	Catalyst::Action::dispatch(Catalyst::Action=HASH(0x5362f00), TestApp=HASH(0x540d420)) called at /home/sand/src/perl/repoperls/installed-perls/perl/v5.19.10-7-gb51c3e7/9980/lib/site_perl/5.19.11/Catalyst/Controller.pm line 161
	Catalyst::Controller::_ACTION(TestApp::Controller::Root=HASH(0x51eb868), TestApp=HASH(0x540d420)) called at /home/sand/src/perl/repoperls/installed-perls/perl/v5.19.10-7-gb51c3e7/9980/lib/site_perl/5.19.11/Catalyst/Action.pm line 65
	Catalyst::Action::execute(Catalyst::Action=HASH(0x535f2b0), TestApp::Controller::Root=HASH(0x51eb868), TestApp=HASH(0x540d420)) called at /home/sand/src/perl/repoperls/installed-perls/perl/v5.19.10-7-gb51c3e7/9980/lib/site_perl/5.19.11/Catalyst.pm line 1734
	eval {...} called at /home/sand/src/perl/repoperls/installed-perls/perl/v5.19.10-7-gb51c3e7/9980/lib/site_perl/5.19.11/Catalyst.pm line 1734
	Catalyst::execute(TestApp=HASH(0x540d420), "TestApp::Controller::Root", Catalyst::Action=HASH(0x535f2b0)) called at /home/sand/src/perl/repoperls/installed-perls/perl/v5.19.10-7-gb51c3e7/9980/lib/site_perl/5.19.11/Catalyst/Action.pm line 60
	Catalyst::Action::dispatch(Catalyst::Action=HASH(0x535f2b0), TestApp=HASH(0x540d420)) called at /home/sand/src/perl/repoperls/installed-perls/perl/v5.19.10-7-gb51c3e7/9980/lib/site_perl/5.19.11/Catalyst/Dispatcher.pm line 258
	Catalyst::Dispatcher::_do_forward(Catalyst::Dispatcher=HASH(0x4d29468), "forward", TestApp=HASH(0x540d420), "_ACTION") called at /home/sand/src/perl/repoperls/installed-perls/perl/v5.19.10-7-gb51c3e7/9980/lib/site_perl/5.19.11/Catalyst/Dispatcher.pm line 238
	Catalyst::Dispatcher::forward(Catalyst::Dispatcher=HASH(0x4d29468), TestApp=HASH(0x540d420), "_ACTION") called at /home/sand/src/perl/repoperls/installed-perls/perl/v5.19.10-7-gb51c3e7/9980/lib/site_perl/5.19.11/Catalyst.pm line 397
	Catalyst::forward(TestApp=HASH(0x540d420), "_ACTION") called at /home/sand/src/perl/repoperls/installed-perls/perl/v5.19.10-7-gb51c3e7/9980/lib/site_perl/5.19.11/Catalyst/Controller.pm line 135
	Catalyst::Controller::_DISPATCH(TestApp::Controller::Root=HASH(0x51eb868), TestApp=HASH(0x540d420)) called at /home/sand/src/perl/repoperls/installed-perls/perl/v5.19.10-7-gb51c3e7/9980/lib/site_perl/5.19.11/Catalyst/Action.pm line 65
	Catalyst::Action::execute(Catalyst::Action=HASH(0x53582a0), TestApp::Controller::Root=HASH(0x51eb868), TestApp=HASH(0x540d420)) called at /home/sand/src/perl/repoperls/installed-perls/perl/v5.19.10-7-gb51c3e7/9980/lib/site_perl/5.19.11/Catalyst.pm line 1734
	eval {...} called at /home/sand/src/perl/repoperls/installed-perls/perl/v5.19.10-7-gb51c3e7/9980/lib/site_perl/5.19.11/Catalyst.pm line 1734
	Catalyst::execute(TestApp=HASH(0x540d420), "TestApp::Controller::Root", Catalyst::Action=HASH(0x53582a0)) called at /home/sand/src/perl/repoperls/installed-perls/perl/v5.19.10-7-gb51c3e7/9980/lib/site_perl/5.19.11/Catalyst/Action.pm line 60
	Catalyst::Action::dispatch(Catalyst::Action=HASH(0x53582a0), TestApp=HASH(0x540d420)) called at /home/sand/src/perl/repoperls/installed-perls/perl/v5.19.10-7-gb51c3e7/9980/lib/site_perl/5.19.11/Catalyst/Dispatcher.pm line 258
	Catalyst::Dispatcher::_do_forward(Catalyst::Dispatcher=HASH(0x4d29468), "forward", TestApp=HASH(0x540d420), "/root/_DISPATCH") called at /home/sand/src/perl/repoperls/installed-perls/perl/v5.19.10-7-gb51c3e7/9980/lib/site_perl/5.19.11/Catalyst/Dispatcher.pm line 238
	Catalyst::Dispatcher::forward(Catalyst::Dispatcher=HASH(0x4d29468), TestApp=HASH(0x540d420), "/root/_DISPATCH") called at /home/sand/src/perl/repoperls/installed-perls/perl/v5.19.10-7-gb51c3e7/9980/lib/site_perl/5.19.11/Catalyst.pm line 397
	Catalyst::forward(TestApp=HASH(0x540d420), "/root/_DISPATCH") called at /home/sand/src/perl/repoperls/installed-perls/perl/v5.19.10-7-gb51c3e7/9980/lib/site_perl/5.19.11/Catalyst/Dispatcher.pm line 107
	Catalyst::Dispatcher::dispatch(Catalyst::Dispatcher=HASH(0x4d29468), TestApp=HASH(0x540d420)) called at /home/sand/src/perl/repoperls/installed-perls/perl/v5.19.10-7-gb51c3e7/9980/lib/site_perl/5.19.11/Catalyst.pm line 1680
	Catalyst::dispatch(TestApp=HASH(0x540d420)) called at /home/sand/src/perl/repoperls/installed-perls/perl/v5.19.10-7-gb51c3e7/9980/lib/site_perl/5.19.11/Catalyst.pm line 2015
	Catalyst::try {...} () called at /home/sand/src/perl/repoperls/installed-perls/perl/v5.19.10-7-gb51c3e7/9980/lib/site_perl/5.19.11/Try/Tiny.pm line 81
	eval {...} called at /home/sand/src/perl/repoperls/installed-perls/perl/v5.19.10-7-gb51c3e7/9980/lib/site_perl/5.19.11/Try/Tiny.pm line 72
	Try::Tiny::try(CODE(0x540cd60), Try::Tiny::Catch=REF(0x540cbf8)) called at /home/sand/src/perl/repoperls/installed-perls/perl/v5.19.10-7-gb51c3e7/9980/lib/site_perl/5.19.11/Catalyst.pm line 2024
	Catalyst::handle_request("TestApp", "env", HASH(0x4fce778), "response_cb", CODE(0x540cc28)) called at /home/sand/src/perl/repoperls/installed-perls/perl/v5.19.10-7-gb51c3e7/9980/lib/site_perl/5.19.11/Catalyst/Engine.pm line 797
	Catalyst::Engine::__ANON__(CODE(0x540cc28)) called at /home/sand/src/perl/repoperls/installed-perls/perl/v5.19.10-7-gb51c3e7/9980/lib/site_perl/5.19.11/Plack/Middleware/HTTPExceptions.pm line 32
	Plack::Middleware::HTTPExceptions::try {...} () called at /home/sand/src/perl/repoperls/installed-perls/perl/v5.19.10-7-gb51c3e7/9980/lib/site_perl/5.19.11/Try/Tiny.pm line 81
	eval {...} called at /home/sand/src/perl/repoperls/installed-perls/perl/v5.19.10-7-gb51c3e7/9980/lib/site_perl/5.19.11/Try/Tiny.pm line 72
	Try::Tiny::try(CODE(0x540ca90), Try::Tiny::Catch=REF(0x540c000)) called at /home/sand/src/perl/repoperls/installed-perls/perl/v5.19.10-7-gb51c3e7/9980/lib/site_perl/5.19.11/Plack/Middleware/HTTPExceptions.pm line 41
	Plack::Middleware::HTTPExceptions::__ANON__(CODE(0x540c960)) called at /home/sand/src/perl/repoperls/installed-perls/perl/v5.19.10-7-gb51c3e7/9980/lib/site_perl/5.19.11/Plack/Util.pm line 301
	Plack::Util::__ANON__(CODE(0x540c858)) called at /home/sand/src/perl/repoperls/installed-perls/perl/v5.19.10-7-gb51c3e7/9980/lib/site_perl/5.19.11/Plack/Util.pm line 301
	Plack::Util::__ANON__(CODE(0x540c750)) called at /home/sand/src/perl/repoperls/installed-perls/perl/v5.19.10-7-gb51c3e7/9980/lib/site_perl/5.19.11/Plack/Util.pm line 301
	Plack::Util::__ANON__(CODE(0x540c6c0)) called at /home/sand/src/perl/repoperls/installed-perls/perl/v5.19.10-7-gb51c3e7/9980/lib/site_perl/5.19.11/HTTP/Message/PSGI.pm line 100
	HTTP::Message::PSGI::res_from_psgi(CODE(0x540bec8)) called at /home/sand/src/perl/repoperls/installed-perls/perl/v5.19.10-7-gb51c3e7/9980/lib/site_perl/5.19.11/HTTP/Message/PSGI.pm line 155
	HTTP::Response::from_psgi("HTTP::Response", CODE(0x540bec8)) called at /home/sand/src/perl/repoperls/installed-perls/perl/v5.19.10-7-gb51c3e7/9980/lib/site_perl/5.19.11/Plack/Test/MockHTTP.pm line 24
	Plack::Test::MockHTTP::try {...} () called at /home/sand/src/perl/repoperls/installed-perls/perl/v5.19.10-7-gb51c3e7/9980/lib/site_perl/5.19.11/Try/Tiny.pm line 79
	eval {...} called at /home/sand/src/perl/repoperls/installed-perls/perl/v5.19.10-7-gb51c3e7/9980/lib/site_perl/5.19.11/Try/Tiny.pm line 72
	Try::Tiny::try(CODE(0x53677c8), Try::Tiny::Catch=REF(0x5324e38)) called at /home/sand/src/perl/repoperls/installed-perls/perl/v5.19.10-7-gb51c3e7/9980/lib/site_perl/5.19.11/Plack/Test/MockHTTP.pm line 27
	Plack::Test::MockHTTP::request(Plack::Test::MockHTTP=HASH(0x5398318), HTTP::Request=HASH(0x53697d0)) called at /home/sand/src/perl/repoperls/installed-perls/perl/v5.19.10-7-gb51c3e7/9980/lib/site_perl/5.19.11/Plack/Test.pm line 38
	Plack::Test::__ANON__(HTTP::Request=HASH(0x53697d0)) called at /home/sand/src/perl/repoperls/installed-perls/perl/v5.19.10-7-gb51c3e7/9980/lib/site_perl/5.19.11/Catalyst/Test.pm line 281
	Catalyst::Test::__ANON__(CODE(0x53981b0)) called at /home/sand/src/perl/repoperls/installed-perls/perl/v5.19.10-7-gb51c3e7/9980/lib/site_perl/5.19.11/Plack/Test.pm line 38
	Plack::Test::test_psgi("mangle_response", CODE(0x42aa9c8), "app", CODE(0x5369380), "app", CODE(0x5397688), "client", CODE(0x5397dc0)) called at /home/sand/src/perl/repoperls/installed-perls/perl/v5.19.10-7-gb51c3e7/9980/lib/site_perl/5.19.11/Catalyst/Test.pm line 284
	Catalyst::Test::_request(HASH(0x1cd2cf0), "/template_email?time=1395525353") called at /home/sand/src/perl/repoperls/installed-perls/perl/v5.19.10-7-gb51c3e7/9980/lib/site_perl/5.19.11/Catalyst/Test.pm line 327
	Catalyst::Test::_local_request("TestApp", "/template_email?time=1395525353") called at /home/sand/src/perl/repoperls/installed-perls/perl/v5.19.10-7-gb51c3e7/9980/lib/site_perl/5.19.11/Catalyst/Test.pm line 32
	Catalyst::Test::__ANON__("/template_email?time=1395525353") called at t/05template.t line 18
t/05template.t .. ok
require TestApp::View::Mason was successful but the package is not defined. at /home/sand/src/perl/repoperls/installed-perls/perl/v5.19.10-7-gb51c3e7/9980/lib/site_perl/5.19.11/Catalyst/Utils.pm line 314.
Class::MOP::load_class is deprecated at /home/sand/src/perl/repoperls/installed-perls/perl/v5.19.10-7-gb51c3e7/9980/lib/site_perl/5.19.11/x86_64-linux-thread-multi/Class/MOP.pm line 73.
	Class::MOP::load_class("Email::Sender::Transport::Test") called at /tmp/loop_over_bdir-1046-IeaZlv/Catalyst-View-Email-0.33-YSkuS4/blib/lib/Catalyst/View/Email.pm line 226
	Catalyst::View::Email::_build_mailer_obj(TestApp::View::Email::AppConfig=HASH(0x4369970)) called at accessor Catalyst::View::Email::_mailer_obj (defined at /tmp/loop_over_bdir-1046-IeaZlv/Catalyst-View-Email-0.33-YSkuS4/blib/lib/Catalyst/View/Email.pm line 21) line 11
	Catalyst::View::Email::_mailer_obj(TestApp::View::Email::AppConfig=HASH(0x4369970)) called at /tmp/loop_over_bdir-1046-IeaZlv/Catalyst-View-Email-0.33-YSkuS4/blib/lib/Catalyst/View/Email.pm line 299
	Catalyst::View::Email::process(TestApp::View::Email::AppConfig=HASH(0x4369970), TestApp=HASH(0x458bbd0)) called at /home/sand/src/perl/repoperls/installed-perls/perl/v5.19.10-7-gb51c3e7/9980/lib/site_perl/5.19.11/Catalyst/Action.pm line 65
	Catalyst::Action::execute(Catalyst::Action=HASH(0x45963d0), TestApp::View::Email::AppConfig=HASH(0x4369970), TestApp=HASH(0x458bbd0)) called at /home/sand/src/perl/repoperls/installed-perls/perl/v5.19.10-7-gb51c3e7/9980/lib/site_perl/5.19.11/Catalyst.pm line 1734
	eval {...} called at /home/sand/src/perl/repoperls/installed-perls/perl/v5.19.10-7-gb51c3e7/9980/lib/site_perl/5.19.11/Catalyst.pm line 1734
	Catalyst::execute(TestApp=HASH(0x458bbd0), "TestApp::View::Email::AppConfig", Catalyst::Action=HASH(0x45963d0)) called at /home/sand/src/perl/repoperls/installed-perls/perl/v5.19.10-7-gb51c3e7/9980/lib/site_perl/5.19.11/Catalyst/Action.pm line 60
	Catalyst::Action::dispatch(Catalyst::Action=HASH(0x45963d0), TestApp=HASH(0x458bbd0)) called at /home/sand/src/perl/repoperls/installed-perls/perl/v5.19.10-7-gb51c3e7/9980/lib/site_perl/5.19.11/Catalyst/Dispatcher.pm line 258
	Catalyst::Dispatcher::_do_forward(Catalyst::Dispatcher=HASH(0x3442668), "forward", TestApp=HASH(0x458bbd0), "TestApp::View::Email::AppConfig") called at /home/sand/src/perl/repoperls/installed-perls/perl/v5.19.10-7-gb51c3e7/9980/lib/site_perl/5.19.11/Catalyst/Dispatcher.pm line 238
	Catalyst::Dispatcher::forward(Catalyst::Dispatcher=HASH(0x3442668), TestApp=HASH(0x458bbd0), "TestApp::View::Email::AppConfig") called at /home/sand/src/perl/repoperls/installed-perls/perl/v5.19.10-7-gb51c3e7/9980/lib/site_perl/5.19.11/Catalyst.pm line 397
	Catalyst::forward(TestApp=HASH(0x458bbd0), "TestApp::View::Email::AppConfig") called at /tmp/loop_over_bdir-1046-IeaZlv/Catalyst-View-Email-0.33-YSkuS4/t/lib/TestApp/Controller/Root.pm line 48
	TestApp::Controller::Root::email_app_config(TestApp::Controller::Root=HASH(0x449e5c0), TestApp=HASH(0x458bbd0)) called at /home/sand/src/perl/repoperls/installed-perls/perl/v5.19.10-7-gb51c3e7/9980/lib/site_perl/5.19.11/Catalyst/Action.pm line 65
	Catalyst::Action::execute(Catalyst::Action=HASH(0x44e0880), TestApp::Controller::Root=HASH(0x449e5c0), TestApp=HASH(0x458bbd0)) called at /home/sand/src/perl/repoperls/installed-perls/perl/v5.19.10-7-gb51c3e7/9980/lib/site_perl/5.19.11/Catalyst.pm line 1734
	eval {...} called at /home/sand/src/perl/repoperls/installed-perls/perl/v5.19.10-7-gb51c3e7/9980/lib/site_perl/5.19.11/Catalyst.pm line 1734
	Catalyst::execute(TestApp=HASH(0x458bbd0), "TestApp::Controller::Root", Catalyst::Action=HASH(0x44e0880)) called at /home/sand/src/perl/repoperls/installed-perls/perl/v5.19.10-7-gb51c3e7/9980/lib/site_perl/5.19.11/Catalyst/Action.pm line 60
	Catalyst::Action::dispatch(Catalyst::Action=HASH(0x44e0880), TestApp=HASH(0x458bbd0)) called at /home/sand/src/perl/repoperls/installed-perls/perl/v5.19.10-7-gb51c3e7/9980/lib/site_perl/5.19.11/Catalyst/Controller.pm line 161
	Catalyst::Controller::_ACTION(TestApp::Controller::Root=HASH(0x449e5c0), TestApp=HASH(0x458bbd0)) called at /home/sand/src/perl/repoperls/installed-perls/perl/v5.19.10-7-gb51c3e7/9980/lib/site_perl/5.19.11/Catalyst/Action.pm line 65
	Catalyst::Action::execute(Catalyst::Action=HASH(0x44dca58), TestApp::Controller::Root=HASH(0x449e5c0), TestApp=HASH(0x458bbd0)) called at /home/sand/src/perl/repoperls/installed-perls/perl/v5.19.10-7-gb51c3e7/9980/lib/site_perl/5.19.11/Catalyst.pm line 1734
	eval {...} called at /home/sand/src/perl/repoperls/installed-perls/perl/v5.19.10-7-gb51c3e7/9980/lib/site_perl/5.19.11/Catalyst.pm line 1734
	Catalyst::execute(TestApp=HASH(0x458bbd0), "TestApp::Controller::Root", Catalyst::Action=HASH(0x44dca58)) called at /home/sand/src/perl/repoperls/installed-perls/perl/v5.19.10-7-gb51c3e7/9980/lib/site_perl/5.19.11/Catalyst/Action.pm line 60
	Catalyst::Action::dispatch(Catalyst::Action=HASH(0x44dca58), TestApp=HASH(0x458bbd0)) called at /home/sand/src/perl/repoperls/installed-perls/perl/v5.19.10-7-gb51c3e7/9980/lib/site_perl/5.19.11/Catalyst/Dispatcher.pm line 258
	Catalyst::Dispatcher::_do_forward(Catalyst::Dispatcher=HASH(0x3442668), "forward", TestApp=HASH(0x458bbd0), "_ACTION") called at /home/sand/src/perl/repoperls/installed-perls/perl/v5.19.10-7-gb51c3e7/9980/lib/site_perl/5.19.11/Catalyst/Dispatcher.pm line 238
	Catalyst::Dispatcher::forward(Catalyst::Dispatcher=HASH(0x3442668), TestApp=HASH(0x458bbd0), "_ACTION") called at /home/sand/src/perl/repoperls/installed-perls/perl/v5.19.10-7-gb51c3e7/9980/lib/site_perl/5.19.11/Catalyst.pm line 397
	Catalyst::forward(TestApp=HASH(0x458bbd0), "_ACTION") called at /home/sand/src/perl/repoperls/installed-perls/perl/v5.19.10-7-gb51c3e7/9980/lib/site_perl/5.19.11/Catalyst/Controller.pm line 135
	Catalyst::Controller::_DISPATCH(TestApp::Controller::Root=HASH(0x449e5c0), TestApp=HASH(0x458bbd0)) called at /home/sand/src/perl/repoperls/installed-perls/perl/v5.19.10-7-gb51c3e7/9980/lib/site_perl/5.19.11/Catalyst/Action.pm line 65
	Catalyst::Action::execute(Catalyst::Action=HASH(0x44a60f8), TestApp::Controller::Root=HASH(0x449e5c0), TestApp=HASH(0x458bbd0)) called at /home/sand/src/perl/repoperls/installed-perls/perl/v5.19.10-7-gb51c3e7/9980/lib/site_perl/5.19.11/Catalyst.pm line 1734
	eval {...} called at /home/sand/src/perl/repoperls/installed-perls/perl/v5.19.10-7-gb51c3e7/9980/lib/site_perl/5.19.11/Catalyst.pm line 1734
	Catalyst::execute(TestApp=HASH(0x458bbd0), "TestApp::Controller::Root", Catalyst::Action=HASH(0x44a60f8)) called at /home/sand/src/perl/repoperls/installed-perls/perl/v5.19.10-7-gb51c3e7/9980/lib/site_perl/5.19.11/Catalyst/Action.pm line 60
	Catalyst::Action::dispatch(Catalyst::Action=HASH(0x44a60f8), TestApp=HASH(0x458bbd0)) called at /home/sand/src/perl/repoperls/installed-perls/perl/v5.19.10-7-gb51c3e7/9980/lib/site_perl/5.19.11/Catalyst/Dispatcher.pm line 258
	Catalyst::Dispatcher::_do_forward(Catalyst::Dispatcher=HASH(0x3442668), "forward", TestApp=HASH(0x458bbd0), "/root/_DISPATCH") called at /home/sand/src/perl/repoperls/installed-perls/perl/v5.19.10-7-gb51c3e7/9980/lib/site_perl/5.19.11/Catalyst/Dispatcher.pm line 238
	Catalyst::Dispatcher::forward(Catalyst::Dispatcher=HASH(0x3442668), TestApp=HASH(0x458bbd0), "/root/_DISPATCH") called at /home/sand/src/perl/repoperls/installed-perls/perl/v5.19.10-7-gb51c3e7/9980/lib/site_perl/5.19.11/Catalyst.pm line 397
	Catalyst::forward(TestApp=HASH(0x458bbd0), "/root/_DISPATCH") called at /home/sand/src/perl/repoperls/installed-perls/perl/v5.19.10-7-gb51c3e7/9980/lib/site_perl/5.19.11/Catalyst/Dispatcher.pm line 107
	Catalyst::Dispatcher::dispatch(Catalyst::Dispatcher=HASH(0x3442668), TestApp=HASH(0x458bbd0)) called at /home/sand/src/perl/repoperls/installed-perls/perl/v5.19.10-7-gb51c3e7/9980/lib/site_perl/5.19.11/Catalyst.pm line 1680
	Catalyst::dispatch(TestApp=HASH(0x458bbd0)) called at /home/sand/src/perl/repoperls/installed-perls/perl/v5.19.10-7-gb51c3e7/9980/lib/site_perl/5.19.11/Catalyst.pm line 2015
	Catalyst::try {...} () called at /home/sand/src/perl/repoperls/installed-perls/perl/v5.19.10-7-gb51c3e7/9980/lib/site_perl/5.19.11/Try/Tiny.pm line 81
	eval {...} called at /home/sand/src/perl/repoperls/installed-perls/perl/v5.19.10-7-gb51c3e7/9980/lib/site_perl/5.19.11/Try/Tiny.pm line 72
	Try::Tiny::try(CODE(0x458b510), Try::Tiny::Catch=REF(0x4589360)) called at /home/sand/src/perl/repoperls/installed-perls/perl/v5.19.10-7-gb51c3e7/9980/lib/site_perl/5.19.11/Catalyst.pm line 2024
	Catalyst::handle_request("TestApp", "env", HASH(0x414b3c8), "response_cb", CODE(0x4589390)) called at /home/sand/src/perl/repoperls/installed-perls/perl/v5.19.10-7-gb51c3e7/9980/lib/site_perl/5.19.11/Catalyst/Engine.pm line 797
	Catalyst::Engine::__ANON__(CODE(0x4589390)) called at /home/sand/src/perl/repoperls/installed-perls/perl/v5.19.10-7-gb51c3e7/9980/lib/site_perl/5.19.11/Plack/Middleware/HTTPExceptions.pm line 32
	Plack::Middleware::HTTPExceptions::try {...} () called at /home/sand/src/perl/repoperls/installed-perls/perl/v5.19.10-7-gb51c3e7/9980/lib/site_perl/5.19.11/Try/Tiny.pm line 81
	eval {...} called at /home/sand/src/perl/repoperls/installed-perls/perl/v5.19.10-7-gb51c3e7/9980/lib/site_perl/5.19.11/Try/Tiny.pm line 72
	Try::Tiny::try(CODE(0x45891f8), Try::Tiny::Catch=REF(0x4588790)) called at /home/sand/src/perl/repoperls/installed-perls/perl/v5.19.10-7-gb51c3e7/9980/lib/site_perl/5.19.11/Plack/Middleware/HTTPExceptions.pm line 41
	Plack::Middleware::HTTPExceptions::__ANON__(CODE(0x45890f0)) called at /home/sand/src/perl/repoperls/installed-perls/perl/v5.19.10-7-gb51c3e7/9980/lib/site_perl/5.19.11/Plack/Util.pm line 301
	Plack::Util::__ANON__(CODE(0x4588fe8)) called at /home/sand/src/perl/repoperls/installed-perls/perl/v5.19.10-7-gb51c3e7/9980/lib/site_perl/5.19.11/Plack/Util.pm line 301
	Plack::Util::__ANON__(CODE(0x4588ee0)) called at /home/sand/src/perl/repoperls/installed-perls/perl/v5.19.10-7-gb51c3e7/9980/lib/site_perl/5.19.11/Plack/Util.pm line 301
	Plack::Util::__ANON__(CODE(0x4588e50)) called at /home/sand/src/perl/repoperls/installed-perls/perl/v5.19.10-7-gb51c3e7/9980/lib/site_perl/5.19.11/HTTP/Message/PSGI.pm line 100
	HTTP::Message::PSGI::res_from_psgi(CODE(0x4588658)) called at /home/sand/src/perl/repoperls/installed-perls/perl/v5.19.10-7-gb51c3e7/9980/lib/site_perl/5.19.11/HTTP/Message/PSGI.pm line 155
	HTTP::Response::from_psgi("HTTP::Response", CODE(0x4588658)) called at /home/sand/src/perl/repoperls/installed-perls/perl/v5.19.10-7-gb51c3e7/9980/lib/site_perl/5.19.11/Plack/Test/MockHTTP.pm line 24
	Plack::Test::MockHTTP::try {...} () called at /home/sand/src/perl/repoperls/installed-perls/perl/v5.19.10-7-gb51c3e7/9980/lib/site_perl/5.19.11/Try/Tiny.pm line 79
	eval {...} called at /home/sand/src/perl/repoperls/installed-perls/perl/v5.19.10-7-gb51c3e7/9980/lib/site_perl/5.19.11/Try/Tiny.pm line 72
	Try::Tiny::try(CODE(0x42e96b0), Try::Tiny::Catch=REF(0x44a24f8)) called at /home/sand/src/perl/repoperls/installed-perls/perl/v5.19.10-7-gb51c3e7/9980/lib/site_perl/5.19.11/Plack/Test/MockHTTP.pm line 27
	Plack::Test::MockHTTP::request(Plack::Test::MockHTTP=HASH(0x44f5308), HTTP::Request=HASH(0x44ec920)) called at /home/sand/src/perl/repoperls/installed-perls/perl/v5.19.10-7-gb51c3e7/9980/lib/site_perl/5.19.11/Plack/Test.pm line 38
	Plack::Test::__ANON__(HTTP::Request=HASH(0x44ec920)) called at /home/sand/src/perl/repoperls/installed-perls/perl/v5.19.10-7-gb51c3e7/9980/lib/site_perl/5.19.11/Catalyst/Test.pm line 281
	Catalyst::Test::__ANON__(CODE(0x44f5188)) called at /home/sand/src/perl/repoperls/installed-perls/perl/v5.19.10-7-gb51c3e7/9980/lib/site_perl/5.19.11/Plack/Test.pm line 38
	Plack::Test::test_psgi("app", CODE(0x44ec4d0), "mangle_response", CODE(0x342a0c0), "app", CODE(0x44f4678), "client", CODE(0x44f4db0)) called at /home/sand/src/perl/repoperls/installed-perls/perl/v5.19.10-7-gb51c3e7/9980/lib/site_perl/5.19.11/Catalyst/Test.pm line 284
	Catalyst::Test::_request(HASH(0xe50cf0), "/email_app_config?time=1395525354") called at /home/sand/src/perl/repoperls/installed-perls/perl/v5.19.10-7-gb51c3e7/9980/lib/site_perl/5.19.11/Catalyst/Test.pm line 327
	Catalyst::Test::_local_request("TestApp", "/email_app_config?time=1395525354") called at /home/sand/src/perl/repoperls/installed-perls/perl/v5.19.10-7-gb51c3e7/9980/lib/site_perl/5.19.11/Catalyst/Test.pm line 32
	Catalyst::Test::__ANON__("/email_app_config?time=1395525354") called at t/06config.t line 21
t/06config.t .... ok
t/07mason.t ..... skipped: Test requires module 'Catalyst::View::Mason' but it's not found
All tests successful.
Files=6, Tests=34,  4 wallclock secs ( 0.02 usr  0.00 sys +  2.93 cusr  0.49 csys =  3.44 CPU)
Result: PASS

------------------------------
PREREQUISITES
------------------------------

Prerequisite modules loaded:

requires:

    Module                Need     Have    
    --------------------- -------- --------
    Authen::SASL          2.13     2.16    
    Catalyst              5.7      5.90061 
    Email::MIME           1.859    1.926   
    Email::MIME::Creator  1.455    1.926   
    Email::Sender::Simple 0.100110 1.300011
    MIME::Base64          3.08     3.14    
    Moose                 0.93     2.1204  
    parent                0.223    0.228   
    Test::More            0.88     1.001003
    Test::Requires        0        0.07    

build_requires:

    Module                Need     Have    
    --------------------- -------- --------
    ExtUtils::MakeMaker   6.36     6.92    
    Test::More            0        1.001003
    Test::Requires        0        0.07    

configure_requires:

    Module                Need     Have    
    --------------------- -------- --------
    ExtUtils::MakeMaker   6.36     6.92    


------------------------------
ENVIRONMENT AND OTHER CONTEXT
------------------------------

Environment variables:

    AUTOMATED_TESTING = 1
    LANG = en_US.UTF-8
    LANGUAGE = en_US:en
    PATH = /usr/lib/ccache:/home/sand/bin:/usr/local/bin:/usr/bin:/bin:/usr/games:/usr/local/perl/bin:/usr/X11/bin:/sbin:/usr/sbin
    PERL = /tmp/basesmoker-reloperl-eZok/bin/perl
    PERL5LIB = 
    PERL5OPT = 
    PERL5_CPANPLUS_IS_RUNNING = 3976
    PERL5_CPAN_IS_RUNNING = 3976
    PERL_MM_USE_DEFAULT = 1
    SHELL = /usr/bin/zsh
    TERM = screen

Perl special variables (and OS-specific diagnostics, for MSWin32):

    $^X = /tmp/basesmoker-reloperl-eZok/bin/perl
    $UID/$EUID = 1005 / 1005
    $GID = 1005 1005
    $EGID = 1005 1005

Perl module toolchain versions installed:

    Module              Have    
    ------------------- --------
    CPAN                2.00    
    CPAN::Meta          2.140640
    Cwd                 3.47    
    ExtUtils::CBuilder  0.280216
    ExtUtils::Command   1.18    
    ExtUtils::Install   1.63    
    ExtUtils::MakeMaker 6.92    
    ExtUtils::Manifest  1.63    
    ExtUtils::ParseXS   3.24    
    File::Spec          3.47    
    JSON                2.90    
    JSON::PP            2.27203 
    Module::Build       0.4205  
    Module::Signature   0.73    
    Parse::CPAN::Meta   1.4414  
    Test::Harness       3.30    
    Test::More          1.001003
    YAML                0.90    
    YAML::Syck          1.27    
    version             0.9908  


--

Summary of my perl5 (revision 5 version 19 subversion 11) configuration:
  Commit id: b51c3e77dbb7e510319342a73163b3fbb59baf5a
  Platform:
    osname=linux, osvers=3.13-1-amd64, archname=x86_64-linux-thread-multi
    uname='linux k83 3.13-1-amd64 #1 smp debian 3.13.6-1 (2014-03-19) x86_64 gnulinux '
    config_args='-Dprefix=/home/sand/src/perl/repoperls/installed-perls/perl/v5.19.10-7-gb51c3e7/9980 -Dmyhostname=k83 -Dinstallusrbinperl=n -Uversiononly -Dusedevel -des -Ui_db -Duseithreads -Uuselongdouble -DDEBUGGING=-g'
    hint=recommended, useposix=true, d_sigaction=define
    useithreads=define, usemultiplicity=define
    use64bitint=define, use64bitall=define, uselongdouble=undef
    usemymalloc=n, bincompat5005=undef
  Compiler:
    cc='cc', ccflags ='-D_REENTRANT -D_GNU_SOURCE -fno-strict-aliasing -pipe -fstack-protector -I/usr/local/include -D_LARGEFILE_SOURCE -D_FILE_OFFSET_BITS=64',
    optimize='-O2 -g',
    cppflags='-D_REENTRANT -D_GNU_SOURCE -fno-strict-aliasing -pipe -fstack-protector -I/usr/local/include'
    ccversion='', gccversion='4.8.2', gccosandvers=''
    intsize=4, longsize=8, ptrsize=8, doublesize=8, byteorder=12345678
    d_longlong=define, longlongsize=8, d_longdbl=define, longdblsize=16
    ivtype='long', ivsize=8, nvtype='double', nvsize=8, Off_t='off_t', lseeksize=8
    alignbytes=8, prototype=define
  Linker and Libraries:
    ld='cc', ldflags =' -fstack-protector -L/usr/local/lib'
    libpth=/usr/local/lib /usr/lib/gcc/x86_64-linux-gnu/4.8/include-fixed /usr/include/x86_64-linux-gnu /usr/lib /lib/x86_64-linux-gnu /lib/../lib /usr/lib/x86_64-linux-gnu /usr/lib/../lib /lib
    libs=-lnsl -lgdbm -ldb -ldl -lm -lcrypt -lutil -lpthread -lc -lgdbm_compat
    perllibs=-lnsl -ldl -lm -lcrypt -lutil -lpthread -lc
    libc=libc-2.18.so, so=so, useshrplib=false, libperl=libperl.a
    gnulibc_version='2.18'
  Dynamic Linking:
    dlsrc=dl_dlopen.xs, dlext=so, d_dlsymun=undef, ccdlflags='-Wl,-E'
    cccdlflags='-fPIC', lddlflags='-shared -O2 -g -L/usr/local/lib -fstack-protector'


Characteristics of this binary (from libperl): 
  Compile-time options: HAS_TIMES MULTIPLICITY PERLIO_LAYERS
                        PERL_DONT_CREATE_GVSV
                        PERL_HASH_FUNC_ONE_AT_A_TIME_HARD
                        PERL_IMPLICIT_CONTEXT PERL_MALLOC_WRAP
                        PERL_NEW_COPY_ON_WRITE PERL_PRESERVE_IVUV
                        PERL_USE_DEVEL USE_64_BIT_ALL USE_64_BIT_INT
                        USE_ITHREADS USE_LARGE_FILES USE_LOCALE
                        USE_LOCALE_COLLATE USE_LOCALE_CTYPE
                        USE_LOCALE_NUMERIC USE_PERLIO USE_PERL_ATOF
                        USE_REENTRANT_API
  Built under linux
  Compiled at Mar 22 2014 03:36:20
  %ENV:
    PERL="/tmp/basesmoker-reloperl-eZok/bin/perl"
    PERL5LIB=""
    PERL5OPT=""
    PERL5_CPANPLUS_IS_RUNNING="3976"
    PERL5_CPAN_IS_RUNNING="3976"
    PERL_MM_USE_DEFAULT="1"
  @INC:
    /home/sand/src/perl/repoperls/installed-perls/perl/v5.19.10-7-gb51c3e7/9980/lib/site_perl/5.19.11/x86_64-linux-thread-multi
    /home/sand/src/perl/repoperls/installed-perls/perl/v5.19.10-7-gb51c3e7/9980/lib/site_perl/5.19.11
    /home/sand/src/perl/repoperls/installed-perls/perl/v5.19.10-7-gb51c3e7/9980/lib/5.19.11/x86_64-linux-thread-multi
    /home/sand/src/perl/repoperls/installed-perls/perl/v5.19.10-7-gb51c3e7/9980/lib/5.19.11
    .