Back
From: metabase:user:314402c4-2aae-11df-837a-5e0a49663a4f
Subject: PASS Module-Data-0.013 v5.16.3 GNU/Linux
Date: 2017-07-07T21:18:08Z
This distribution has been tested as part of the CPAN Testers
project, supporting the Perl programming language. See
http://wiki.cpantesters.org/ for more information or email
questions to cpan-testers-discuss@perl.org
--
Dear Kent Fredric,
This is a computer-generated report for Module-Data-0.013
on perl 5.16.3, created by CPAN-Reporter-1.2018.
Thank you for uploading your work to CPAN. Congratulations!
All tests were successful.
Sections of this report:
* Tester comments
* Program output
* Prerequisites
* Environment and other context
------------------------------
TESTER COMMENTS
------------------------------
Additional comments from tester:
none provided
------------------------------
PROGRAM OUTPUT
------------------------------
Output from 'make test':
PERL_DL_NONLAZY=1 "/opt/perl-5.16.3/bin/perl5.16.3" "-MExtUtils::Command::MM" "-MTest::Harness" "-e" "undef *Test::Harness::Switches; test_harness(0, 'blib/lib', 'blib/arch')" t/*.t t/00-compile/*.t
t/00-compile/lib_Module_Data_pm.t .. ok
#
# Versions for all modules listed in MYMETA.json (including optional ones):
#
# === Configure Requires ===
#
# Module Want Have
# ------------------- ---- ----
# ExtUtils::MakeMaker any 7.30
#
# === Configure Recommends ===
#
# Module Want Have
# ------------------- ---- ----
# ExtUtils::MakeMaker 7.00 7.30
#
# === Build Requires ===
#
# Module Want Have
# ------------------- ---- ----
# ExtUtils::MakeMaker any 7.30
#
# === Test Requires ===
#
# Module Want Have
# ------------------- ---- --------
# Carp any 1.38
# Data::Dump any 1.23
# ExtUtils::MakeMaker any 7.30
# File::Spec any 3.62
# FindBin any 1.51
# Test::Fatal any 0.014
# Test::More 0.96 1.302086
#
# === Test Recommends ===
#
# Module Want Have
# ------------------- -------- --------
# CPAN::Meta 2.120900 2.150010
# ExtUtils::MakeMaker 7.00 7.30
# Test::More 0.99 1.302086
#
# === Runtime Requires ===
#
# Module Want Have
# ---------------- ----- --------
# Module::Metadata any 1.000033
# Module::Runtime any 0.014
# Moo any 2.003002
# Path::ScanINC 0.011 1.000003
# Path::Tiny any 0.104
# Sub::Quote any 2.004000
# strict any 1.07
# warnings any 1.13
#
# === Runtime Recommends ===
#
# Module Want Have
# ---------- -------- --------
# Moo 1.000008 2.003002
# Path::Tiny 0.058 0.104
#
t/00-report-prereqs.t .............. ok
t/01_basic.t ....................... ok
t/02_version.t ..................... ok
t/03_fake_system.t ................. ok
All tests successful.
Files=5, Tests=54, 0 wallclock secs ( 0.02 usr 0.02 sys + 0.27 cusr 0.08 csys = 0.39 CPU)
Result: PASS
------------------------------
PREREQUISITES
------------------------------
Prerequisite modules loaded:
requires:
Module Need Have
------------------- ----- --------
Module::Metadata 0 1.000033
Module::Runtime 0 0.014
Moo 0 2.003002
Path::ScanINC 0.011 1.000003
Path::Tiny 0 0.104
perl 5.006 5.016003
strict 0 1.07
Sub::Quote 0 2.004000
warnings 0 1.13
build_requires:
Module Need Have
------------------- ----- --------
Carp 0 1.38
Data::Dump 0 1.23
ExtUtils::MakeMaker 0 7.30
File::Spec 0 3.62
FindBin 0 1.51
Test::Fatal 0 0.014
Test::More 0.96 1.302086
configure_requires:
Module Need Have
------------------- ----- --------
ExtUtils::MakeMaker 0 7.30
perl 5.006 5.016003
------------------------------
ENVIRONMENT AND OTHER CONTEXT
------------------------------
Environment variables:
LANG = en_US.UTF-8
PATH = /usr/local/bin:/usr/bin:/bin:/usr/local/sbin:/usr/sbin:/sbin:/home/cpansand/bin/linux-gnu:/home/cpansand/bin/sh:/home/cpansand/bin:/usr/games:/home/cpansand/devel:/home/eserte/src/srezic-misc/scripts
PERL5LIB = /home/cpansand/.cpan/build/2017070721/Path-ScanINC-1.000003-zGNpWi/blib/arch:/home/cpansand/.cpan/build/2017070721/Path-ScanINC-1.000003-zGNpWi/blib/lib:/home/cpansand/.cpan/build/2017070721/MooX-0.101-scRZsU/blib/arch:/home/cpansand/.cpan/build/2017070721/MooX-0.101-scRZsU/blib/lib:/home/cpansand/.cpan/build/2017070721/WWW-DuckDuckGo-0.016-xleO15/blib/arch:/home/cpansand/.cpan/build/2017070721/WWW-DuckDuckGo-0.016-xleO15/blib/lib:/home/cpansand/.cpan/build/2017070721/File-ShareDir-ProjectDistDir-1.000009-DcojAq/blib/arch:/home/cpansand/.cpan/build/2017070721/File-ShareDir-ProjectDistDir-1.000009-DcojAq/blib/lib:/home/cpansand/.cpan/build/2017070721/Path-FindDev-v0.5.3-7l431q/blib/arch:/home/cpansand/.cpan/build/2017070721/Path-FindDev-v0.5.3-7l431q/blib/lib:/home/cpansand/.cpan/build/2017070721/Path-IsDev-1.001003-xmkODf/blib/arch:/home/cpansand/.cpan/build/2017070721/Path-IsDev-1.001003-xmkODf/blib/lib
PERL5OPT =
PERL5_CPANPLUS_IS_RUNNING = 24142
PERL5_CPAN_IS_RUNNING = 24142
PERL5_CPAN_IS_RUNNING_IN_RECURSION = 24086,24142
PERLDOC = -MPod::Perldoc::ToTextOverstrike
PERL_BATCH = yes
PERL_CANARY_STABILITY_NOPROMPT = 1
PERL_CPAN_REPORTER_CONFIG = /var/tmp/cpansmoker-1023/2017070721/cpanreporter_000_config.ini
PERL_EXTUTILS_AUTOINSTALL = --defaultdeps
SHELL = /bin/zsh
TERM = screen
TMPDIR = /var/tmp/cpansmoker-1023/2017070721
Perl special variables (and OS-specific diagnostics, for MSWin32):
$^X = /opt/perl-5.16.3/bin/perl5.16.3
$UID/$EUID = 1023 / 1023
$GID = 1023 1023
$EGID = 1023 1023
Perl module toolchain versions installed:
Module Have
------------------- --------
CPAN 1.9800
CPAN::Meta 2.150010
Cwd 3.62
ExtUtils::CBuilder 0.280206
ExtUtils::Command 7.30
ExtUtils::Install 2.06
ExtUtils::MakeMaker 7.30
ExtUtils::Manifest 1.70
ExtUtils::ParseXS 3.30
File::Spec 3.62
JSON 2.94
JSON::PP 2.94
Module::Build 0.4224
Module::Signature n/a
Parse::CPAN::Meta 2.150010
Test::Harness 3.39
Test::More 1.302086
YAML 1.23
YAML::Syck 1.30
version 0.9918
--
Summary of my perl5 (revision 5 version 16 subversion 3) configuration:
Platform:
osname=linux, osvers=2.6.32-696.3.1.el6.x86_64, archname=x86_64-linux
uname='linux centos6 2.6.32-696.3.1.el6.x86_64 #1 smp tue may 30 19:52:55 utc 2017 x86_64 x86_64 x86_64 gnulinux '
config_args='-ds -e -Dprefix=/opt/perl-5.16.3 -Dcf_email=srezic@cpan.org'
hint=recommended, useposix=true, d_sigaction=define
useithreads=undef, usemultiplicity=undef
useperlio=define, d_sfio=undef, uselargefiles=define, usesocks=undef
use64bitint=define, use64bitall=define, uselongdouble=undef
usemymalloc=n, bincompat5005=undef
Compiler:
cc='cc', ccflags ='-fno-strict-aliasing -pipe -fstack-protector -I/usr/local/include -D_LARGEFILE_SOURCE -D_FILE_OFFSET_BITS=64',
optimize='-O2',
cppflags='-fno-strict-aliasing -pipe -fstack-protector -I/usr/local/include'
ccversion='', gccversion='4.4.7 20120313 (Red Hat 4.4.7-18)', gccosandvers=''
intsize=4, longsize=8, ptrsize=8, doublesize=8, byteorder=12345678
d_longlong=define, longlongsize=8, d_longdbl=define, longdblsize=16
ivtype='long', ivsize=8, nvtype='double', nvsize=8, Off_t='off_t', lseeksize=8
alignbytes=8, prototype=define
Linker and Libraries:
ld='cc', ldflags =' -fstack-protector -L/usr/local/lib'
libpth=/usr/local/lib /lib/../lib64 /usr/lib/../lib64 /lib /usr/lib /lib64 /usr/lib64 /usr/local/lib64
libs=-lnsl -lgdbm -ldb -ldl -lm -lcrypt -lutil -lc
perllibs=-lnsl -ldl -lm -lcrypt -lutil -lc
libc=, so=so, useshrplib=false, libperl=libperl.a
gnulibc_version='2.12'
Dynamic Linking:
dlsrc=dl_dlopen.xs, dlext=so, d_dlsymun=undef, ccdlflags='-Wl,-E'
cccdlflags='-fPIC', lddlflags='-shared -O2 -L/usr/local/lib -fstack-protector'
Characteristics of this binary (from libperl):
Compile-time options: HAS_TIMES PERLIO_LAYERS PERL_DONT_CREATE_GVSV
PERL_MALLOC_WRAP PERL_PRESERVE_IVUV USE_64_BIT_ALL
USE_64_BIT_INT USE_LARGE_FILES USE_LOCALE
USE_LOCALE_COLLATE USE_LOCALE_CTYPE
USE_LOCALE_NUMERIC USE_PERLIO USE_PERL_ATOF
Built under linux
Compiled at Jun 24 2017 09:37:57
%ENV:
PERL5LIB="/home/cpansand/.cpan/build/2017070721/Path-ScanINC-1.000003-zGNpWi/blib/arch:/home/cpansand/.cpan/build/2017070721/Path-ScanINC-1.000003-zGNpWi/blib/lib:/home/cpansand/.cpan/build/2017070721/MooX-0.101-scRZsU/blib/arch:/home/cpansand/.cpan/build/2017070721/MooX-0.101-scRZsU/blib/lib:/home/cpansand/.cpan/build/2017070721/WWW-DuckDuckGo-0.016-xleO15/blib/arch:/home/cpansand/.cpan/build/2017070721/WWW-DuckDuckGo-0.016-xleO15/blib/lib:/home/cpansand/.cpan/build/2017070721/File-ShareDir-ProjectDistDir-1.000009-DcojAq/blib/arch:/home/cpansand/.cpan/build/2017070721/File-ShareDir-ProjectDistDir-1.000009-DcojAq/blib/lib:/home/cpansand/.cpan/build/2017070721/Path-FindDev-v0.5.3-7l431q/blib/arch:/home/cpansand/.cpan/build/2017070721/Path-FindDev-v0.5.3-7l431q/blib/lib:/home/cpansand/.cpan/build/2017070721/Path-IsDev-1.001003-xmkODf/blib/arch:/home/cpansand/.cpan/build/2017070721/Path-IsDev-1.001003-xmkODf/blib/lib"
PERL5OPT=""
PERL5_CPANPLUS_IS_RUNNING="24142"
PERL5_CPAN_IS_RUNNING="24142"
PERL5_CPAN_IS_RUNNING_IN_RECURSION="24086,24142"
PERLDOC="-MPod::Perldoc::ToTextOverstrike"
PERL_BATCH="yes"
PERL_CANARY_STABILITY_NOPROMPT="1"
PERL_CPAN_REPORTER_CONFIG="/var/tmp/cpansmoker-1023/2017070721/cpanreporter_000_config.ini"
PERL_EXTUTILS_AUTOINSTALL="--defaultdeps"
@INC:
/home/cpansand/.cpan/build/2017070721/Path-ScanINC-1.000003-zGNpWi/blib/arch
/home/cpansand/.cpan/build/2017070721/Path-ScanINC-1.000003-zGNpWi/blib/lib
/home/cpansand/.cpan/build/2017070721/MooX-0.101-scRZsU/blib/arch
/home/cpansand/.cpan/build/2017070721/MooX-0.101-scRZsU/blib/lib
/home/cpansand/.cpan/build/2017070721/WWW-DuckDuckGo-0.016-xleO15/blib/arch
/home/cpansand/.cpan/build/2017070721/WWW-DuckDuckGo-0.016-xleO15/blib/lib
/home/cpansand/.cpan/build/2017070721/File-ShareDir-ProjectDistDir-1.000009-DcojAq/blib/arch
/home/cpansand/.cpan/build/2017070721/File-ShareDir-ProjectDistDir-1.000009-DcojAq/blib/lib
/home/cpansand/.cpan/build/2017070721/Path-FindDev-v0.5.3-7l431q/blib/arch
/home/cpansand/.cpan/build/2017070721/Path-FindDev-v0.5.3-7l431q/blib/lib
/home/cpansand/.cpan/build/2017070721/Path-IsDev-1.001003-xmkODf/blib/arch
/home/cpansand/.cpan/build/2017070721/Path-IsDev-1.001003-xmkODf/blib/lib
/opt/perl-5.16.3/lib/site_perl/5.16.3/x86_64-linux
/opt/perl-5.16.3/lib/site_perl/5.16.3
/opt/perl-5.16.3/lib/5.16.3/x86_64-linux
/opt/perl-5.16.3/lib/5.16.3
.