Report for Class-MakeMethods-1.007

Back
From: metabase:user:e3434da8-b236-11df-85ca-0247c6d74bde
Subject: PASS Class-MakeMethods-1.007 v5.13.10 GNU/Linux
Date: 2011-03-10T23:11:48Z

This distribution has been tested as part of the CPAN Testers
project, supporting the Perl programming language.  See
http://wiki.cpantesters.org/ for more information or email
questions to cpan-testers-discuss@perl.org


--
Dear Matthew Simon Cavalletto,

This is a computer-generated report for Class-MakeMethods-1.007
on perl 5.13.10, created by CPAN-Reporter-1.1902.

Thank you for uploading your work to CPAN.  Congratulations!
All tests were successful.

Sections of this report:

    * Tester comments
    * Program output
    * Prerequisites
    * Environment and other context

------------------------------
TESTER COMMENTS
------------------------------

Additional comments from tester:

this report is from an automated smoke testing program
and was not reviewed by a human for accuracy

------------------------------
PROGRAM OUTPUT
------------------------------

Output from '/usr/bin/make test':

PERL_DL_NONLAZY=1 /home/tester/testing/5.13.10/bin/perl5.13.10 "-MExtUtils::Command::MM" "-e" "test_harness(0, 'blib/lib', 'blib/arch')" t/*.t t-mm/*.t
t-mm/abstract.t ........................... ok
t-mm/boolean.092.t ........................ ok
t-mm/boolean.t ............................ ok
t-mm/code.t ............................... ok
t-mm/copy.t ............................... ok
t-mm/counter.t ............................ ok
t-mm/get_concat.092.t ..................... ok
t-mm/get_concat.t ......................... ok
t-mm/get_set.092.t ........................ ok
t-mm/get_set.t ............................ ok
t-mm/grouped_fields.t ..................... ok
t-mm/hash.092.t ........................... ok
t-mm/hash.t ............................... ok
t-mm/hash_of_lists.t ...................... ok
t-mm/key_attrib.t ......................... ok
t-mm/key_with_create.t .................... ok
t-mm/list.092.t ........................... ok
t-mm/list.104.t ........................... ok
t-mm/list.t ............................... ok
t-mm/listed_attrib.t ...................... ok
t-mm/method.t ............................. ok
t-mm/new.092.t ............................ ok
t-mm/new.102.t ............................ ok
t-mm/new.t ................................ ok
t-mm/object.092.t ......................... ok
t-mm/object.t ............................. ok
t-mm/object_list.102.t .................... ok
t-mm/object_list.t ........................ ok
t-mm/static_get_set.t ..................... ok
t-mm/static_hash.092.t .................... ok
t-mm/static_hash.t ........................ ok
t-mm/static_list.t ........................ ok
t-mm/struct.t ............................. ok
t-mm/sugar.092.t .......................... ok
t-mm/tie_hash.t ........................... ok
t/10_import_version.t ..................... ok
t/21_Basic_declarations.t ................. ok
t/22_Basic_array.t ........................ ok
t/23_Basic_hash.t ......................... ok
t/24_Basic_global_scalar.t ................ ok
t/25_Basic_global_hash.t .................. ok
t/30_Standard_declarations.t .............. ok
t/31_Standard_hash.t ...................... ok
t/32_Standard_inheritable.t ............... ok
t/33_Standard_inheritable_hash.t .......... ok
t/40_Composite_declarations.t ............. ok
t/41_Composite_hash.t ..................... ok
t/42_Composite_inheritable.t .............. ok
t/43_Composite_inheritable_hash.t ......... ok
t/44_Composite_inheritable_hook.t ......... ok
t/45_Composite_patch.t .................... ok
t/50_Template_declaration.t ............... ok
t/50_Template_doc_examples.t .............. ok
t/50_Template_doc_extending.t ............. ok
t/51_Template_abstract.t .................. ok
t/51_Template_clone.t ..................... ok
t/52_Template_hash_array.t ................ ok
t/52_Template_hash_array_getset.t ......... ok
t/52_Template_hash_array_object.t ......... ok
t/52_Template_hash_boolean.t .............. ok
t/52_Template_hash_code.t ................. ok
t/52_Template_hash_copy.t ................. ok
t/52_Template_hash_counter.t .............. ok
t/52_Template_hash_hash.t ................. ok
t/52_Template_hash_hash_array.t ........... ok
t/52_Template_hash_method.t ............... ok
t/52_Template_hash_new.t .................. ok
t/52_Template_hash_number.t ............... ok
t/52_Template_hash_number_templates.t ..... ok
t/52_Template_hash_object.t ............... ok
t/52_Template_hash_scalar.t ............... ok
t/52_Template_hash_scalar_templates.t ..... ok
t/52_Template_hash_string_concat.t ........ ok
t/52_Template_hash_string_index.t ......... ok
t/52_Template_hash_string_index_create.t .. ok
t/52_Template_hash_struct.t ............... ok
t/52_Template_hash_tiedhash.t ............. ok
t/53_Template_array_number.t .............. ok
t/53_Template_array_object.t .............. ok
t/53_Template_array_scalar.t .............. ok
t/54_Template_global_array.t .............. ok
t/54_Template_global_code.t ............... ok
t/54_Template_global_hash.t ............... ok
t/54_Template_global_scalar.t ............. ok
t/55_Template_class_array.t ............... ok
t/55_Template_class_scalar.t .............. ok
t/55_Template_classvar_array.t ............ ok
t/55_Template_classvar_scalar.t ........... ok
t/55_Template_package_scalar.t ............ ok
t/56_Template_inherit_scalar.t ............ ok
t/56_Template_insideout_array.t ........... ok
t/56_Template_insideout_bool_i.t .......... ok
t/56_Template_insideout_scalar.t .......... ok
t/57_Template_scalar_bits.t ............... ok
t/57_Template_scalar_counter.t ............ ok
t/58_Template_modifier_clos_cnt.t ......... ok
t/58_Template_modifier_closure.t .......... ok
t/58_Template_modifier_private.t .......... ok
t/59_Template_text_builder.t .............. ok
t/61_Attribute_stnd_hash.t ................ ok
t/62_Autoload_stnd_hash.t ................. ok
t/63_Autoload_typemap.t ................... ok
t/64_Utility_Inheritable.t ................ ok
t/71_Class_Accessor_Fast.t ................ ok
t/72_Class_Inheritable.t .................. ok
t/73_Class_Inheritable_trans.t ............ ok
t/74_Class_Singleton.t .................... ok
t/75_Class_Singleton_trans.t .............. ok
t/76_Class_Struct.t ....................... ok
t/77_Class_Struct_compare.t ............... ok
All tests successful.
Files=110, Tests=1695,  9 wallclock secs ( 1.03 usr  0.28 sys +  5.63 cusr  1.03 csys =  7.97 CPU)
Result: PASS

------------------------------
PREREQUISITES
------------------------------

Prerequisite modules loaded:

build_requires:

    Module              Need Have   
    ------------------- ---- -------
    ExtUtils::MakeMaker 0    6.57_05


------------------------------
ENVIRONMENT AND OTHER CONTEXT
------------------------------

Environment variables:

    AUTOMATED_TESTING = 1
    LANG = en_US.UTF-8
    LC_COLLATE = C
    LC_MONETARY = nl_NL.utf8
    PATH = /home/tester/perl5/perlbrew/bin:/home/tester/perl5/perlbrew/perls/current/bin:/usr/lib64/qt-3.3/bin:/usr/lib64/ccache:/usr/local/bin:/bin:/usr/bin:/usr/local/sbin:/usr/sbin:/sbin:/home/tester/bin
    PERL5LIB = 
    PERL5OPT = 
    PERL5_CPANPLUS_IS_RUNNING = 25522
    PERL5_CPAN_IS_RUNNING = 25522
    PERL5_MINISMOKEBOX = 0.38
    PERL_EXTUTILS_AUTOINSTALL = --defaultdeps
    PERL_MM_USE_DEFAULT = 1
    SHELL = /bin/bash
    TERM = screen

Perl special variables (and OS-specific diagnostics, for MSWin32):

    $^X = /home/tester/testing/5.13.10/bin/perl5.13.10
    $UID/$EUID = 501 / 501
    $GID = 501 501
    $EGID = 501 501

Perl module toolchain versions installed:

    Module              Have    
    ------------------- --------
    CPAN                1.94_65 
    Cwd                 3.37    
    ExtUtils::CBuilder  0.280202
    ExtUtils::Command   1.17    
    ExtUtils::Install   1.56    
    ExtUtils::MakeMaker 6.57_05 
    ExtUtils::Manifest  1.58    
    ExtUtils::ParseXS   2.2209  
    File::Spec          3.33    
    Module::Build       0.37_05 
    Module::Signature   n/a     
    Test::Harness       3.23    
    Test::More          0.98    
    YAML                n/a     
    YAML::Syck          1.17    
    version             0.88    


--

Summary of my perl5 (revision 5 version 13 subversion 10) configuration:
   
  Platform:
    osname=linux, osvers=2.6.35.11-83.fc14.x86_64, archname=x86_64-linux-thread-multi
    uname='linux venice 2.6.35.11-83.fc14.x86_64 #1 smp mon feb 7 07:06:44 utc 2011 x86_64 x86_64 x86_64 gnulinux '
    config_args='-Dprefix=/home/tester/testing/5.13.10 -Dusethreads -Dusedevel -des'
    hint=recommended, useposix=true, d_sigaction=define
    useithreads=define, usemultiplicity=define
    useperlio=define, d_sfio=undef, uselargefiles=define, usesocks=undef
    use64bitint=define, use64bitall=define, uselongdouble=undef
    usemymalloc=n, bincompat5005=undef
  Compiler:
    cc='cc', ccflags ='-D_REENTRANT -D_GNU_SOURCE -fno-strict-aliasing -pipe -fstack-protector -I/usr/local/include -D_LARGEFILE_SOURCE -D_FILE_OFFSET_BITS=64',
    optimize='-O2',
    cppflags='-D_REENTRANT -D_GNU_SOURCE -fno-strict-aliasing -pipe -fstack-protector -I/usr/local/include'
    ccversion='', gccversion='4.5.1 20100924 (Red Hat 4.5.1-4)', gccosandvers=''
    intsize=4, longsize=8, ptrsize=8, doublesize=8, byteorder=12345678
    d_longlong=define, longlongsize=8, d_longdbl=define, longdblsize=16
    ivtype='long', ivsize=8, nvtype='double', nvsize=8, Off_t='off_t', lseeksize=8
    alignbytes=8, prototype=define
  Linker and Libraries:
    ld='cc', ldflags =' -fstack-protector -L/usr/local/lib'
    libpth=/usr/local/lib /lib /usr/lib /lib64 /usr/lib64 /usr/local/lib64
    libs=-lnsl -lgdbm -ldb -ldl -lm -lcrypt -lutil -lpthread -lc -lgdbm_compat
    perllibs=-lnsl -ldl -lm -lcrypt -lutil -lpthread -lc
    libc=/lib/libc-2.13.so, so=so, useshrplib=false, libperl=libperl.a
    gnulibc_version='2.13'
  Dynamic Linking:
    dlsrc=dl_dlopen.xs, dlext=so, d_dlsymun=undef, ccdlflags='-Wl,-E'
    cccdlflags='-fPIC', lddlflags='-shared -O2 -L/usr/local/lib -fstack-protector'


Characteristics of this binary (from libperl): 
  Compile-time options: MULTIPLICITY PERL_DONT_CREATE_GVSV
                        PERL_IMPLICIT_CONTEXT PERL_MALLOC_WRAP PERL_USE_DEVEL
                        USE_64_BIT_ALL USE_64_BIT_INT USE_ITHREADS
                        USE_LARGE_FILES USE_PERLIO USE_PERL_ATOF
                        USE_REENTRANT_API
  Built under linux
  Compiled at Mar  1 2011 09:44:26
  %ENV:
    PERL5LIB=""
    PERL5OPT=""
    PERL5_CPANPLUS_IS_RUNNING="25522"
    PERL5_CPAN_IS_RUNNING="25522"
    PERL5_MINISMOKEBOX="0.38"
    PERL_EXTUTILS_AUTOINSTALL="--defaultdeps"
    PERL_MM_USE_DEFAULT="1"
  @INC:
    /home/tester/testing/5.13.10/lib/perl5/site_perl/5.13.10/x86_64-linux-thread-multi
    /home/tester/testing/5.13.10/lib/perl5/site_perl/5.13.10
    /home/tester/testing/5.13.10/lib/perl5/5.13.10/x86_64-linux-thread-multi
    /home/tester/testing/5.13.10/lib/perl5/5.13.10
    .