X11-Xlib v0.18 Perl 5 v5.31.8 x86_64-linux-thread-multi
- Status
- Pass
- From
- Slaven Rezić (SREZIC)
- Dist
-
X11-Xlib v0.18
- Platform
- Perl 5 v5.31.8 x86_64-linux-thread-multi
- Date
- 2020-02-10 08:53:14
- ID
- c64e6b10-4be2-11ea-b1f4-29711f24ea8f
This distribution has been tested as part of the CPAN Testers
project, supporting the Perl programming language. See
http://wiki.cpantesters.org/ for more information or email
questions to cpan-testers-discuss@perl.org
--
Dear Michael Conrad,
This is a computer-generated report for X11-Xlib-0.18
on perl 5.31.8, created by CPAN-Reporter-1.2018.
Thank you for uploading your work to CPAN. Congratulations!
All tests were successful.
Sections of this report:
* Tester comments
* Program output
* Prerequisites
* Environment and other context
------------------------------
TESTER COMMENTS
------------------------------
Additional comments from tester:
none provided
------------------------------
PROGRAM OUTPUT
------------------------------
Output from '/usr/bin/make test':
"/opt/perl-5.31.8t/bin/perl5.31.8" -MExtUtils::Command::MM -e 'cp_nonempty' -- Xlib.bs blib/arch/auto/X11/Xlib/Xlib.bs 644
PERL_DL_NONLAZY=1 "/opt/perl-5.31.8t/bin/perl5.31.8" "-MExtUtils::Command::MM" "-MTest::Harness" "-e" "undef *Test::Harness::Switches; test_harness(0, 'blib/lib', 'blib/arch')" t/*.t
t/0-Pod-Coverage.t .... skipped: TODO
Can't stat ../blib: No such file or directory
at /opt/perl-5.31.8t/lib/site_perl/5.31.8/Test/Pod.pm line 223.
t/0-Pod.t ............. ok
t/1-X11-Xlib.t ........ ok
Unknown XEvent type 538976288 at t/20-xevent.t line 30.
Unknown XEvent type 538976288 at t/20-xevent.t line 30.
Unknown XEvent type 538976288 at t/20-xevent.t line 30.
Unknown XEvent type 538976288 at t/20-xevent.t line 30.
t/20-xevent.t ......... ok
t/21-xvisualinfo.t .... ok
t/22-xrectangle.t ..... ok
t/30-connection.t ..... ok
Xlib fatal error. Further calls to Xlib are forbidden. at t/31-xlib-fatal.t line 66.
t/31-xlib-fatal.t ..... ok
t/32-xlib-nonfatal.t .. ok
t/33-atom.t ........... ok
t/35-event-queue.t .... ok
t/37-input-kb.t ....... ok
t/40-screen-attrs.t ... ok
t/42-window.t ......... ok
t/43-pixmap.t ......... ok
t/70-xcomposite.t ..... skipped: Need Xephyr to run Xcomposite tests
All tests successful.
Files=16, Tests=220, 2 wallclock secs ( 0.06 usr 0.13 sys + 0.97 cusr 0.40 csys = 1.56 CPU)
Result: PASS
------------------------------
PREREQUISITES
------------------------------
Prerequisite modules loaded:
requires:
Module Need Have
------------------- ----- --------
Carp 0 1.50
Scalar::Util 0 1.54
strict 0 1.11
Try::Tiny 0 0.30
warnings 0 1.46
build_requires:
Module Need Have
------------------- ----- --------
ExtUtils::MakeMaker 0 7.44
Test::More 0 1.302171
configure_requires:
Module Need Have
------------------- ----- --------
Devel::CheckLib 1.03 1.14
ExtUtils::Depends 0.405 0.8000
ExtUtils::MakeMaker 0 7.44
------------------------------
ENVIRONMENT AND OTHER CONTEXT
------------------------------
Environment variables:
LANG = en_US.UTF-8
PATH = /usr/local/bin:/usr/bin:/bin:/usr/local/sbin:/usr/sbin:/sbin:/home/cpansand/bin/linux-gnu:/home/cpansand/bin/sh:/home/cpansand/bin:/usr/games:/home/cpansand/devel:/home/eserte/src/srezic-misc/scripts
PERL5LIB =
PERL5OPT =
PERL5_CPANPLUS_IS_RUNNING = 19155
PERL5_CPAN_IS_RUNNING = 19155
PERL5_CPAN_IS_RUNNING_IN_RECURSION = 16919,19155
PERLDOC = -MPod::Perldoc::ToTextOverstrike
PERL_BATCH = yes
PERL_CANARY_STABILITY_NOPROMPT = 1
PERL_CPAN_REPORTER_CONFIG = /var/tmp/cpansmoker-1023/2020021008/cpanreporter_000_config.ini
PERL_EXTUTILS_AUTOINSTALL = --defaultdeps
PERL_USE_UNSAFE_INC = 1
SHELL = /usr/bin/zsh
TERM = screen
TMPDIR = /var/tmp/cpansmoker-1023/2020021008
Perl special variables (and OS-specific diagnostics, for MSWin32):
$^X = /opt/perl-5.31.8t/bin/perl5.31.8
$UID/$EUID = 1023 / 1023
$GID = 1023 1023
$EGID = 1023 1023
Perl module toolchain versions installed:
Module Have
------------------- --------
CPAN 2.27
CPAN::Meta 2.150010
Cwd 3.78
ExtUtils::CBuilder 0.280234
ExtUtils::Command 7.44
ExtUtils::Install 2.14
ExtUtils::MakeMaker 7.44
ExtUtils::Manifest 1.72
ExtUtils::ParseXS 3.40
File::Spec 3.78
JSON 4.02
JSON::PP 4.04
Module::Build 0.4231
Module::Signature n/a
Parse::CPAN::Meta 2.150010
Test::Harness 3.42
Test::More 1.302171
YAML 1.30
YAML::Syck 1.32
version 0.9924
--
Summary of my perl5 (revision 5 version 31 subversion 8) configuration:
Platform:
osname=linux
osvers=4.15.0-74-generic
archname=x86_64-linux-thread-multi
uname='linux ubuntu18 4.15.0-74-generic #84-ubuntu smp thu dec 19 08:06:28 utc 2019 x86_64 x86_64 x86_64 gnulinux '
config_args='-ds -e -Dprefix=/opt/perl-5.31.8t -Dusedevel -Dusemallocwrap=no -Dusethreads -Dcf_email=srezic@cpan.org'
hint=recommended
useposix=true
d_sigaction=define
useithreads=define
usemultiplicity=define
use64bitint=define
use64bitall=define
uselongdouble=undef
usemymalloc=n
default_inc_excludes_dot=define
bincompat5005=undef
Compiler:
cc='cc'
ccflags ='-D_REENTRANT -D_GNU_SOURCE -fwrapv -fno-strict-aliasing -pipe -fstack-protector-strong -I/usr/local/include -D_LARGEFILE_SOURCE -D_FILE_OFFSET_BITS=64'
optimize='-O2'
cppflags='-D_REENTRANT -D_GNU_SOURCE -fwrapv -fno-strict-aliasing -pipe -fstack-protector-strong -I/usr/local/include'
ccversion=''
gccversion='7.4.0'
gccosandvers=''
intsize=4
longsize=8
ptrsize=8
doublesize=8
byteorder=12345678
doublekind=3
d_longlong=define
longlongsize=8
d_longdbl=define
longdblsize=16
longdblkind=3
ivtype='long'
ivsize=8
nvtype='double'
nvsize=8
Off_t='off_t'
lseeksize=8
alignbytes=8
prototype=define
Linker and Libraries:
ld='cc'
ldflags =' -fstack-protector-strong -L/usr/local/lib'
libpth=/usr/local/lib /usr/lib/gcc/x86_64-linux-gnu/7/include-fixed /usr/include/x86_64-linux-gnu /usr/lib /lib/x86_64-linux-gnu /lib/../lib /usr/lib/x86_64-linux-gnu /usr/lib/../lib /lib
libs=-lpthread -lnsl -lgdbm -ldb -ldl -lm -lcrypt -lutil -lc
perllibs=-lpthread -lnsl -ldl -lm -lcrypt -lutil -lc
libc=libc-2.27.so
so=so
useshrplib=false
libperl=libperl.a
gnulibc_version='2.27'
Dynamic Linking:
dlsrc=dl_dlopen.xs
dlext=so
d_dlsymun=undef
ccdlflags='-Wl,-E'
cccdlflags='-fPIC'
lddlflags='-shared -O2 -L/usr/local/lib -fstack-protector-strong'
Characteristics of this binary (from libperl):
Compile-time options:
HAS_TIMES
MULTIPLICITY
PERLIO_LAYERS
PERL_COPY_ON_WRITE
PERL_DONT_CREATE_GVSV
PERL_IMPLICIT_CONTEXT
PERL_OP_PARENT
PERL_PRESERVE_IVUV
PERL_USE_DEVEL
USE_64_BIT_ALL
USE_64_BIT_INT
USE_ITHREADS
USE_LARGE_FILES
USE_LOCALE
USE_LOCALE_COLLATE
USE_LOCALE_CTYPE
USE_LOCALE_NUMERIC
USE_LOCALE_TIME
USE_PERLIO
USE_PERL_ATOF
USE_REENTRANT_API
USE_THREAD_SAFE_LOCALE
Built under linux
Compiled at Jan 23 2020 18:25:58
%ENV:
PERL5LIB=""
PERL5OPT=""
PERL5_CPANPLUS_IS_RUNNING="19155"
PERL5_CPAN_IS_RUNNING="19155"
PERL5_CPAN_IS_RUNNING_IN_RECURSION="16919,19155"
PERLDOC="-MPod::Perldoc::ToTextOverstrike"
PERL_BATCH="yes"
PERL_CANARY_STABILITY_NOPROMPT="1"
PERL_CPAN_REPORTER_CONFIG="/var/tmp/cpansmoker-1023/2020021008/cpanreporter_000_config.ini"
PERL_EXTUTILS_AUTOINSTALL="--defaultdeps"
PERL_USE_UNSAFE_INC="1"
@INC:
/opt/perl-5.31.8t/lib/site_perl/5.31.8/x86_64-linux-thread-multi
/opt/perl-5.31.8t/lib/site_perl/5.31.8
/opt/perl-5.31.8t/lib/5.31.8/x86_64-linux-thread-multi
/opt/perl-5.31.8t/lib/5.31.8
.