Alien-libpid v0.033 Perl 5 v5.22.1 MSWin32-x86-multi-thread-64int
- Status
- Pass
- From
- Alexandr Ciornii (CHORNY)
- Dist
-
Alien-libpid v0.033
- Platform
- Perl 5 v5.22.1 MSWin32-x86-multi-thread-64int
- Date
- 2019-01-21 16:06:48
- ID
- c65800fb-6bfd-1014-a618-8ebf58880f74
This distribution has been tested as part of the CPAN Testers
project, supporting the Perl programming language. See
http://wiki.cpantesters.org/ for more information or email
questions to cpan-testers-discuss@perl.org
--
Dear Ahmad Fatoum,
This is a computer-generated report for Alien-libpid-0.033
on perl 5.22.1, created by CPAN-Reporter-1.2018_01.
Thank you for uploading your work to CPAN. Congratulations!
All tests were successful.
Sections of this report:
* Tester comments
* Program output
* Prerequisites
* Environment and other context
------------------------------
TESTER COMMENTS
------------------------------
Additional comments from tester:
this report is from an automated smoke testing program
and was not reviewed by a human for accuracy
------------------------------
PROGRAM OUTPUT
------------------------------
Output from 'C:\STRAWB~1\c\bin\dmake.exe test':
"C:\Strawberry221\perl\bin\perl.exe" "-MExtUtils::Command::MM" "-MTest::Harness" "-e" "undef *Test::Harness::Switches; test_harness(0, 'blib\lib', 'blib\arch')" t/*.t
t/00-compile.t ......... ok
#
# Versions for all modules listed in MYMETA.json (including optional ones):
#
# === Configure Requires ===
#
# Module Want Have
# ---------------------------------- ---- ----
# Alien::Build 0.32 1.51
# Alien::Build::MM 0.32 1.51
# Alien::Build::Plugin::Build::CMake 0.99 1.51
# ExtUtils::MakeMaker 6.52 7.10
#
# === Build Requires ===
#
# Module Want Have
# -------------------------------------------- ----- -----
# Alien::Build 0.32 1.51
# Alien::Build::MM 0.32 1.51
# Alien::Build::Plugin::Gather::IsolateDynamic 0.48 1.51
# Alien::cmake3 0.02 0.04
# Archive::Tar any 2.04
# ExtUtils::MakeMaker 6.52 7.10
# HTTP::Tiny 0.044 0.056
# IO::Socket::SSL 1.56 2.024
# IO::Zlib any 1.10
# Net::SSLeay 1.49 1.72
# URI any 1.71
#
# === Test Requires ===
#
# Module Want Have
# ------------------- ---- --------
# ExtUtils::MakeMaker 6.52 7.10
# File::Spec any 3.62
# IO::Handle any 1.35
# IPC::Open3 any 1.18
# Test2::Bundle::More any 0.000118
# Test::Alien 0.05 1.51
# Test::More any 1.302160
#
# === Test Recommends ===
#
# Module Want Have
# ---------- -------- --------
# CPAN::Meta 2.120900 2.150005
#
# === Runtime Requires ===
#
# Module Want Have
# ------------ ----- -----
# Alien::Base 0.038 1.51
# Alien::Build 0.25 1.51
# parent any 0.234
# strict any 1.09
# warnings any 1.34
#
t/00-report-prereqs.t .. ok
cannot unlink file for C:\STRAWB~1\cpan\build\Alien-libpid-0.033-yhTgk9\testalienWSPRS\auto\Test\Alien\XS\Mod0\Mod0.xs.dll: Permission denied at C:/Strawberry221/perl/lib/File/Temp.pm line 784.
cannot remove directory for C:\STRAWB~1\cpan\build\Alien-libpid-0.033-yhTgk9\testalienWSPRS\auto\Test\Alien\XS\Mod0: Directory not empty at C:/Strawberry221/perl/lib/File/Temp.pm line 784.
cannot remove directory for C:\STRAWB~1\cpan\build\Alien-libpid-0.033-yhTgk9\testalienWSPRS\auto\Test\Alien\XS: Directory not empty at C:/Strawberry221/perl/lib/File/Temp.pm line 784.
cannot remove directory for C:\STRAWB~1\cpan\build\Alien-libpid-0.033-yhTgk9\testalienWSPRS\auto\Test\Alien: Directory not empty at C:/Strawberry221/perl/lib/File/Temp.pm line 784.
cannot remove directory for C:\STRAWB~1\cpan\build\Alien-libpid-0.033-yhTgk9\testalienWSPRS\auto\Test: Directory not empty at C:/Strawberry221/perl/lib/File/Temp.pm line 784.
cannot remove directory for C:\STRAWB~1\cpan\build\Alien-libpid-0.033-yhTgk9\testalienWSPRS\auto: Directory not empty at C:/Strawberry221/perl/lib/File/Temp.pm line 784.
cannot remove directory for C:/STRAWB~1/cpan/build/Alien-libpid-0.033-yhTgk9/testalienWSPRS: Directory not empty at C:/Strawberry221/perl/lib/File/Temp.pm line 784.
t/init.t ............... ok
All tests successful.
Files=3, Tests=5, 7 wallclock secs ( 0.08 usr + 0.06 sys = 0.14 CPU)
Result: PASS
"C:\Strawberry221\perl\bin\perl.exe" -MAlien::Build::MM=cmd -e test
Useless use of string ne in void context at C:/STRAWB~1/cpan/build/Alien-libpid-0.033-yhTgk9/alienfile line 29.
Alien::Build::Plugin::PkgConfig::Negotiate> Using PkgConfig plugin: PkgConfig::CommandLine
------------------------------
PREREQUISITES
------------------------------
Prerequisite modules loaded:
requires:
Module Need Have
-------------------------------------------- ----- --------
Alien::Base 0.038 1.51
Alien::Build 0.25 1.51
parent 0 0.234
perl 5.008 5.022001
strict 0 1.09
warnings 0 1.34
build_requires:
Module Need Have
-------------------------------------------- ----- --------
Alien::Build 0.32 1.51
Alien::Build::MM 0.32 1.51
Alien::Build::Plugin::Gather::IsolateDynamic 0.48 1.51
Alien::cmake3 0.02 0.04
Archive::Tar 0 2.04
ExtUtils::MakeMaker 6.52 7.10
File::Spec 0 3.62
HTTP::Tiny 0.044 0.056
IO::Handle 0 1.35
IO::Socket::SSL 1.56 2.024
IO::Zlib 0 1.10
IPC::Open3 0 1.18
Net::SSLeay 1.49 1.72
Test2::Bundle::More 0 0.000118
Test::Alien 0.05 1.51
Test::More 0 1.302160
URI 0 1.71
configure_requires:
Module Need Have
-------------------------------------------- ----- --------
Alien::Build 0.32 1.51
Alien::Build::MM 0.32 1.51
Alien::Build::Plugin::Build::CMake 0.99 1.51
ExtUtils::MakeMaker 6.52 7.10
------------------------------
ENVIRONMENT AND OTHER CONTEXT
------------------------------
Environment variables:
AUTOMATED_TESTING = 1
COMSPEC = C:\WINDOWS\system32\cmd.exe
NUMBER_OF_PROCESSORS = 1
PATH = C:\WINDOWS\system32;C:\WINDOWS;C:\WINDOWS\System32\Wbem;C:\Strawberry221\c\bin;C:\Strawberry221\perl\site\bin;C:\Strawberry221\perl\bin;C:\Git\cmd
PERL5LIB = C:\STRAWB~1\cpan\build\Alien-cmake3-0.04-_TKr66/blib/arch;C:\STRAWB~1\cpan\build\Alien-cmake3-0.04-_TKr66/blib/lib;C:\STRAWB~1\cpan\build\Alien-Build-1.51-gR0uWH/blib/arch;C:\STRAWB~1\cpan\build\Alien-Build-1.51-gR0uWH/blib/lib;C:\STRAWB~1\cpan\build\Test2-Suite-0.000118-EXQcu_/blib/arch;C:\STRAWB~1\cpan\build\Test2-Suite-0.000118-EXQcu_/blib/lib;C:\STRAWB~1\cpan\build\Sub-Info-0.002-5IyDji/blib/arch;C:\STRAWB~1\cpan\build\Sub-Info-0.002-5IyDji/blib/lib;C:\STRAWB~1\cpan\build\Term-Table-0.013-mDrDbL/blib/arch;C:\STRAWB~1\cpan\build\Term-Table-0.013-mDrDbL/blib/lib;C:\STRAWB~1\cpan\build\Importer-0.025-I_FxHX/blib/arch;C:\STRAWB~1\cpan\build\Importer-0.025-I_FxHX/blib/lib;C:\STRAWB~1\cpan\build\Test-Simple-1.302160-YCJ9k9/blib/arch;C:\STRAWB~1\cpan\build\Test-Simple-1.302160-YCJ9k9/blib/lib
PERL5OPT =
PERL5_CPANPLUS_IS_RUNNING = 240
PERL5_CPAN_IS_RUNNING = 240
PERL5_CPAN_IS_RUNNING_IN_RECURSION = 1876,240
PERL_CR_SMOKER_CURRENT = Alien-libpid-0.033
PERL_CR_SMOKER_RUNONCE = 1
PERL_EXTUTILS_AUTOINSTALL = --defaultdeps
PERL_HASH_SEED = 0x11111111
PERL_MM_USE_DEFAULT = 1
PROCESSOR_IDENTIFIER = x86 Family 16 Model 5 Stepping 3, AuthenticAMD
TEMP = C:\DOCUME~1\c\LOCALS~1\Temp
Perl special variables (and OS-specific diagnostics, for MSWin32):
$^X = C:\Strawberry221\perl\bin\perl.exe
$UID/$EUID = 0 / 0
$GID = 0
$EGID = 0
Win32::GetOSName = WinXP/.Net
Win32::GetOSVersion = Service Pack 3, 5, 1, 2600, 2, 3, 0, 256, 1
Win32::FsType = NTFS
Win32::IsAdminUser = 1
Perl module toolchain versions installed:
Module Have
------------------- --------
CPAN 2.11
CPAN::Meta 2.150005
Cwd 3.62
ExtUtils::CBuilder 0.280224
ExtUtils::Command 7.10
ExtUtils::Install 2.04
ExtUtils::MakeMaker 7.10
ExtUtils::Manifest 1.70
ExtUtils::ParseXS 3.30
File::Spec 3.62
JSON 2.90
JSON::PP 2.27300
Module::Build 0.4216
Module::Signature 0.79
Parse::CPAN::Meta 1.4417
Test::Harness 3.36
Test::More 1.302160
YAML 1.15
YAML::Syck 1.29
version 0.9916
--
Summary of my perl5 (revision 5 version 22 subversion 1) configuration:
Platform:
osname=MSWin32, osvers=4.0, archname=MSWin32-x86-multi-thread-64int
uname='Win32 strawberry-perl 5.22.1.4 #1 Sat Mar 26 14:08:02 2016 i386'
config_args='undef'
hint=recommended, useposix=true, d_sigaction=undef
useithreads=define, usemultiplicity=define
use64bitint=define, use64bitall=undef, uselongdouble=undef
usemymalloc=n, bincompat5005=undef
Compiler:
cc='gcc', ccflags =' -s -O2 -DWIN32 -DPERL_TEXTMODE_SCRIPTS -DPERL_IMPLICIT_CONTEXT -DPERL_IMPLICIT_SYS -fwrapv -fno-strict-aliasing -mms-bitfields',
optimize='-s -O2',
cppflags='-DWIN32'
ccversion='', gccversion='4.9.2', gccosandvers=''
intsize=4, longsize=4, ptrsize=4, doublesize=8, byteorder=12345678, doublekind=3
d_longlong=define, longlongsize=8, d_longdbl=define, longdblsize=12, longdblkind=3
ivtype='long long', ivsize=8, nvtype='double', nvsize=8, Off_t='long long', lseeksize=8
alignbytes=8, prototype=define
Linker and Libraries:
ld='g++', ldflags ='-s -L"C:\STRAWB~1\perl\lib\CORE" -L"C:\STRAWB~1\c\lib"'
libpth=C:\STRAWB~1\c\lib C:\STRAWB~1\c\i686-w64-mingw32\lib C:\STRAWB~1\c\lib\gcc\i686-w64-mingw32\4.9.2
libs=-lmoldname -lkernel32 -luser32 -lgdi32 -lwinspool -lcomdlg32 -ladvapi32 -lshell32 -lole32 -loleaut32 -lnetapi32 -luuid -lws2_32 -lmpr -lwinmm -lversion -lodbc32 -lodbccp32 -lcomctl32
perllibs=-lmoldname -lkernel32 -luser32 -lgdi32 -lwinspool -lcomdlg32 -ladvapi32 -lshell32 -lole32 -loleaut32 -lnetapi32 -luuid -lws2_32 -lmpr -lwinmm -lversion -lodbc32 -lodbccp32 -lcomctl32
libc=, so=dll, useshrplib=true, libperl=libperl522.a
gnulibc_version=''
Dynamic Linking:
dlsrc=dl_win32.xs, dlext=xs.dll, d_dlsymun=undef, ccdlflags=' '
cccdlflags=' ', lddlflags='-mdll -s -L"C:\STRAWB~1\perl\lib\CORE" -L"C:\STRAWB~1\c\lib"'
Characteristics of this binary (from libperl):
Compile-time options: HAS_TIMES HAVE_INTERP_INTERN MULTIPLICITY
PERLIO_LAYERS PERL_DONT_CREATE_GVSV
PERL_HASH_FUNC_ONE_AT_A_TIME_HARD
PERL_IMPLICIT_CONTEXT PERL_IMPLICIT_SYS
PERL_MALLOC_WRAP PERL_NEW_COPY_ON_WRITE
PERL_PRESERVE_IVUV USE_64_BIT_INT USE_ITHREADS
USE_LARGE_FILES USE_LOCALE USE_LOCALE_COLLATE
USE_LOCALE_CTYPE USE_LOCALE_NUMERIC USE_LOCALE_TIME
USE_PERLIO USE_PERL_ATOF
Built under MSWin32
Compiled at Mar 26 2016 14:12:26
%ENV:
PERL5LIB="C:\STRAWB~1\cpan\build\Alien-cmake3-0.04-_TKr66/blib/arch;C:\STRAWB~1\cpan\build\Alien-cmake3-0.04-_TKr66/blib/lib;C:\STRAWB~1\cpan\build\Alien-Build-1.51-gR0uWH/blib/arch;C:\STRAWB~1\cpan\build\Alien-Build-1.51-gR0uWH/blib/lib;C:\STRAWB~1\cpan\build\Test2-Suite-0.000118-EXQcu_/blib/arch;C:\STRAWB~1\cpan\build\Test2-Suite-0.000118-EXQcu_/blib/lib;C:\STRAWB~1\cpan\build\Sub-Info-0.002-5IyDji/blib/arch;C:\STRAWB~1\cpan\build\Sub-Info-0.002-5IyDji/blib/lib;C:\STRAWB~1\cpan\build\Term-Table-0.013-mDrDbL/blib/arch;C:\STRAWB~1\cpan\build\Term-Table-0.013-mDrDbL/blib/lib;C:\STRAWB~1\cpan\build\Importer-0.025-I_FxHX/blib/arch;C:\STRAWB~1\cpan\build\Importer-0.025-I_FxHX/blib/lib;C:\STRAWB~1\cpan\build\Test-Simple-1.302160-YCJ9k9/blib/arch;C:\STRAWB~1\cpan\build\Test-Simple-1.302160-YCJ9k9/blib/lib"
PERL5_CPANPLUS_IS_RUNNING="240"
PERL5_CPAN_IS_RUNNING="240"
PERL5_CPAN_IS_RUNNING_IN_RECURSION="1876,240"
PERL_CR_SMOKER_CURRENT="Alien-libpid-0.033"
PERL_CR_SMOKER_RUNONCE="1"
PERL_EXTUTILS_AUTOINSTALL="--defaultdeps"
PERL_HASH_SEED="0x11111111"
PERL_MM_USE_DEFAULT="1"
@INC:
C:\STRAWB~1\cpan\build\Alien-cmake3-0.04-_TKr66/blib/arch
C:\STRAWB~1\cpan\build\Alien-cmake3-0.04-_TKr66/blib/lib
C:\STRAWB~1\cpan\build\Alien-Build-1.51-gR0uWH/blib/arch
C:\STRAWB~1\cpan\build\Alien-Build-1.51-gR0uWH/blib/lib
C:\STRAWB~1\cpan\build\Test2-Suite-0.000118-EXQcu_/blib/arch
C:\STRAWB~1\cpan\build\Test2-Suite-0.000118-EXQcu_/blib/lib
C:\STRAWB~1\cpan\build\Sub-Info-0.002-5IyDji/blib/arch
C:\STRAWB~1\cpan\build\Sub-Info-0.002-5IyDji/blib/lib
C:\STRAWB~1\cpan\build\Term-Table-0.013-mDrDbL/blib/arch
C:\STRAWB~1\cpan\build\Term-Table-0.013-mDrDbL/blib/lib
C:\STRAWB~1\cpan\build\Importer-0.025-I_FxHX/blib/arch
C:\STRAWB~1\cpan\build\Importer-0.025-I_FxHX/blib/lib
C:\STRAWB~1\cpan\build\Test-Simple-1.302160-YCJ9k9/blib/arch
C:\STRAWB~1\cpan\build\Test-Simple-1.302160-YCJ9k9/blib/lib
C:/Strawberry221/perl/site/lib
C:/Strawberry221/perl/vendor/lib
C:/Strawberry221/perl/lib
.