Smartcat-Client v0.0.3 Perl 5 v5.41.7 x86_64-linux-ld

Status
Pass
From
Andreas J. König (ANDK)
Dist
Smartcat-Client v0.0.3
Platform
Perl 5 v5.41.7 x86_64-linux-ld
Date
2025-01-03 15:45:36
ID
c65968c8-c9e9-11ef-8a5f-a8e660df8805
This distribution has been tested as part of the CPAN Testers
project, supporting the Perl programming language.  See
http://wiki.cpantesters.org/ for more information or email
questions to cpan-testers-discuss@perl.org


--
Dear Taras Semenenko,

This is a computer-generated report for Smartcat-Client-0.0.3
on perl 5.41.7, created by CPAN-Reporter-1.2020.

Thank you for uploading your work to CPAN.  Congratulations!
All tests were successful.

Sections of this report:

    * Tester comments
    * Program output
    * Prerequisites
    * Environment and other context

------------------------------
TESTER COMMENTS
------------------------------

Additional comments from tester:

this report is from an automated smoke testing program
and was not reviewed by a human for accuracy

------------------------------
PROGRAM OUTPUT
------------------------------

Output from './Build test':

t/AccountApiTest.t .............................................. ok
t/AccountModelTest.t ............................................ ok
t/AdditionalHeaderModelTest.t ................................... ok
t/AssignExecutivesRequestModelTest.t ............................ ok
t/AssignMyTeamExecutivesRequestModelTest.t ...................... ok
t/AssignedExecutiveModelTest.t .................................. ok
t/BilingualFileImportSetingsModelTest.t ......................... ok
t/CallbackApiTest.t ............................................. ok
t/CallbackErrorModelTest.t ...................................... ok
t/CallbackPropertyModelTest.t ................................... ok
t/CancelInvoiceModelTest.t ...................................... ok
t/ClientApiTest.t ............................................... ok
t/ClientModelTest.t ............................................. ok
t/CreateDocumentPropertyModelTest.t ............................. ok
t/CreateInvoiceModelTest.t ...................................... ok
t/CreateProjectModelTest.t ...................................... ok
t/CreateTranslationMemoryModelTest.t ............................ ok
t/DirectoriesApiTest.t .......................................... ok
t/DirectoryItemModelTest.t ...................................... ok
t/DirectoryModelTest.t .......................................... ok
t/DocumentApiTest.t ............................................. ok
t/DocumentExportApiTest.t ....................................... ok
t/DocumentModelTest.t ........................................... ok
t/DocumentStatisticsModelTest.t ................................. ok
t/DocumentTargetIdTest.t ........................................ ok
t/DocumentWorkflowStageModelTest.t .............................. ok
t/ExecutiveModelTest.t .......................................... ok
t/ExecutiveStatisticsModelTest.t ................................ ok
t/ExecutiveTest.t ............................................... ok
t/ExportDocumentTaskModelTest.t ................................. ok
t/FileFormatModelTest.t ......................................... ok
t/GlossaryApiTest.t ............................................. ok
t/GlossaryModelTest.t ........................................... ok
t/ImportJobModelTest.t .......................................... ok
t/InhouseTranslatorCreationModelTest.t .......................... ok
t/InvoiceApiTest.t .............................................. ok
t/LspServiceModelTest.t ......................................... ok
t/MTEngineModelTest.t ........................................... ok
t/ModelWithFilesCreateProjectModelTest.t ........................ ok
t/ModelWithFilesIReadOnlyListCreateDocumentPropertyModelTest.t .. ok
t/ModelWithFilesUploadDocumentPropertiesModelTest.t ............. ok
t/MyTeamMemberModelTest.t ....................................... ok
t/MyTeamSearchRequestModelTest.t ................................ ok
t/NetRateModelTest.t ............................................ ok
t/ObjectTest.t .................................................. ok
t/PlaceholderFormatApiApiTest.t ................................. ok
t/PlaceholderFormatModelTest.t .................................. ok
t/ProjectApiTest.t .............................................. ok
t/ProjectChangesModelTest.t ..................................... ok
t/ProjectModelTest.t ............................................ ok
t/ProjectStatisticsModelTest.t .................................. ok
t/ProjectStatisticsObsoleteModelTest.t .......................... ok
t/ProjectTranslationMemoryModelTest.t ........................... ok
t/ProjectWorkflowStageModelTest.t ............................... ok
t/SegmentModelTest.t ............................................ ok
t/SegmentTagModelTest.t ......................................... ok
t/SegmentWithMatchesModelTest.t ................................. ok
t/ServiceModelTest.t ............................................ ok
t/StatisticsRowModelTest.t ...................................... ok
t/TMImportTaskModelTest.t ....................................... ok
t/TMMatchesRequestTest.t ........................................ ok
t/TMRangeRateModelTest.t ........................................ ok
t/TagsFromUnitTest.t ............................................ ok
t/TranslationMemoriesApiTest.t .................................. ok
t/TranslationMemoriesForLanguageModelTest.t ..................... ok
t/TranslationMemoryForProjectModelTest.t ........................ ok
t/TranslationMemoryModelTest.t .................................. ok
t/UploadDocumentPropertiesModelTest.t ........................... ok
t/UploadedFileTest.t ............................................ ok
t/author-pod-syntax.t ........................................... skipped: these tests are for testing by the author
All tests successful.
Files=70, Tests=138, 17 wallclock secs ( 0.15 usr  0.08 sys + 14.06 cusr  2.28 csys = 16.57 CPU)
Result: PASS

------------------------------
PREREQUISITES
------------------------------

Prerequisite modules loaded:

requires:

    Module                   Need   Have    
    ------------------------ ------ --------
    base                     0      2.27    
    Carp                     0      1.54    
    Class::Accessor          0      0.51    
    Class::Data::Inheritable 0      0.10    
    Class::Inspector         0      1.36    
    constant                 0      1.33    
    Data::Dumper             0      2.190   
    Date::Parse              0      2.33    
    DateTime                 0      1.65    
    Exporter                 0      5.78    
    HTTP::Headers            0      7.00    
    HTTP::Request::Common    0      7.00    
    HTTP::Response           0      7.00    
    HTTP::Status             0      7.00    
    JSON                     0      4.10    
    List::MoreUtils          0      0.430   
    Log::Any                 0      1.717   
    LWP::UserAgent           0      6.77    
    MIME::Base64             0      3.16_01 
    Module::Find             0      0.16    
    Module::Runtime          0      0.016   
    Moose::Role              0      2.2207  
    namespace::autoclean     0      0.31    
    perl                     v5.6.0 5.041007
    Scalar::Util             0      1.68_01 
    strict                   0      1.13    
    URI::Escape              0      5.31    
    URI::Query               0      0.16    
    utf8                     0      1.27    
    warnings                 0      1.72    

build_requires:

    Module                   Need   Have    
    ------------------------ ------ --------
    File::Spec               0      3.93    
    IO::Handle               0      1.55    
    IPC::Open3               0      1.24    
    lib                      0      0.65    
    Test::Exception          0      0.43    
    Test::More               0      1.302206

configure_requires:

    Module                   Need   Have    
    ------------------------ ------ --------
    ExtUtils::MakeMaker      0      7.70    
    Module::Build::Tiny      0.034  0.051   


------------------------------
ENVIRONMENT AND OTHER CONTEXT
------------------------------

Environment variables:

    AUTOMATED_TESTING = 1
    LANG = en_US.UTF-8
    LC_ADDRESS = de_DE.UTF-8
    LC_IDENTIFICATION = de_DE.UTF-8
    LC_MEASUREMENT = de_DE.UTF-8
    LC_MONETARY = de_DE.UTF-8
    LC_NAME = de_DE.UTF-8
    LC_NUMERIC = de_DE.UTF-8
    LC_PAPER = de_DE.UTF-8
    LC_TELEPHONE = de_DE.UTF-8
    LC_TIME = de_DE.UTF-8
    PATH = /home/sand/bin:/usr/local/bin:/usr/local/sbin:/usr/sbin:/usr/bin:/sbin:/bin:/usr/games:/usr/local/games:/snap/bin:/usr/local/perl/bin:/usr/X11/bin
    PERL = /tmp/basesmoker-reloperl-7VnE/bin/perl
    PERL5LIB = /tmp/loop_over_bdir-2405-JfF7Eq/MP3-PodcastFetch-1.05-0/blib/arch:/tmp/loop_over_bdir-2405-JfF7Eq/MP3-PodcastFetch-1.05-0/blib/lib:/tmp/loop_over_bdir-2405-JfF7Eq/AllKnowingDNS-1.7-0/blib/arch:/tmp/loop_over_bdir-2405-JfF7Eq/AllKnowingDNS-1.7-0/blib/lib:/tmp/loop_over_bdir-2405-JfF7Eq/Business-Shipping-DataFiles-1.02-0/blib/arch:/tmp/loop_over_bdir-2405-JfF7Eq/Business-Shipping-DataFiles-1.02-0/blib/lib:/tmp/loop_over_bdir-2405-JfF7Eq/ProjectBuilder-0.14.1-0/blib/arch:/tmp/loop_over_bdir-2405-JfF7Eq/ProjectBuilder-0.14.1-0/blib/lib:/tmp/loop_over_bdir-2405-JfF7Eq/DBIx-Migration-Directories-0.12-0/blib/arch:/tmp/loop_over_bdir-2405-JfF7Eq/DBIx-Migration-Directories-0.12-0/blib/lib
    PERL5OPT = 
    PERL5_CPANPLUS_IS_RUNNING = 2413
    PERL5_CPAN_IS_RUNNING = 2413
    PERL_CANARY_STABILITY_NOPROMPT = 1
    PERL_MM_USE_DEFAULT = 1
    PERL_USE_UNSAFE_INC = 1
    SHELL = /usr/bin/zsh
    TERM = screen

Perl special variables (and OS-specific diagnostics, for MSWin32):

    $^X = /tmp/basesmoker-reloperl-7VnE/bin/perl
    $UID/$EUID = 1005 / 1005
    $GID = 1005 1005
    $EGID = 1005 1005

Perl module toolchain versions installed:

    Module              Have    
    ------------------- --------
    CPAN                2.38    
    CPAN::Meta          2.150010
    Cwd                 3.92    
    ExtUtils::CBuilder  0.280240
    ExtUtils::Command   7.70    
    ExtUtils::Install   2.22    
    ExtUtils::MakeMaker 7.70    
    ExtUtils::Manifest  1.75    
    ExtUtils::ParseXS   3.56    
    File::Spec          3.93    
    JSON                4.10    
    JSON::PP            4.16    
    Module::Build       0.4234  
    Module::Signature   0.89    
    Parse::CPAN::Meta   2.150010
    Test2               1.302206
    Test::Harness       3.50    
    Test::More          1.302206
    YAML                1.31    
    YAML::Syck          1.34    
    version             0.9933  


--

Summary of my perl5 (revision 5 version 41 subversion 7) configuration:
  Commit id: 3a3761b09845d0d6d68f91eb45c52ae70de89489
  Platform:
    osname=linux
    osvers=6.8.0-48-generic
    archname=x86_64-linux-ld
    uname='linux k93jammy 6.8.0-48-generic #48~22.04.1-ubuntu smp preempt_dynamic mon oct 7 11:24:13 utc 2 x86_64 x86_64 x86_64 gnulinux '
    config_args='-Dprefix=/home/sand/src/perl/repoperls/installed-perls/host/k93jammy/v5.41.7/5674 -Dmyhostname=k93jammy -Dinstallusrbinperl=n -Uversiononly -Dusedevel -des -Ui_db -Dlibswanted=cl pthread socket inet nsl gdbm dbm malloc dl ld sun m crypt sec util c cposix posix ucb BSD gdbm_compat -Uuseithreads -Duselongdouble -DEBUGGING=-g'
    hint=recommended
    useposix=true
    d_sigaction=define
    useithreads=undef
    usemultiplicity=undef
    use64bitint=define
    use64bitall=define
    uselongdouble=define
    usemymalloc=n
    default_inc_excludes_dot=define
  Compiler:
    cc='cc'
    ccflags ='-fwrapv -fno-strict-aliasing -pipe -fstack-protector-strong -I/usr/local/include -D_LARGEFILE_SOURCE -D_FILE_OFFSET_BITS=64'
    optimize='-O2 -g'
    cppflags='-fwrapv -fno-strict-aliasing -pipe -fstack-protector-strong -I/usr/local/include'
    ccversion=''
    gccversion='11.4.0'
    gccosandvers=''
    intsize=4
    longsize=8
    ptrsize=8
    doublesize=8
    byteorder=12345678
    doublekind=3
    d_longlong=define
    longlongsize=8
    d_longdbl=define
    longdblsize=16
    longdblkind=3
    ivtype='long'
    ivsize=8
    nvtype='long double'
    nvsize=16
    Off_t='off_t'
    lseeksize=8
    alignbytes=16
    prototype=define
  Linker and Libraries:
    ld='cc'
    ldflags =' -fstack-protector-strong -L/usr/local/lib'
    libpth=/usr/local/lib /usr/lib/x86_64-linux-gnu /usr/lib /usr/lib64
    libs=-lpthread -lnsl -ldl -lm -lcrypt -lutil -lc
    perllibs=-lpthread -lnsl -ldl -lm -lcrypt -lutil -lc
    libc=/lib/x86_64-linux-gnu/libc.so.6
    so=so
    useshrplib=false
    libperl=libperl.a
    gnulibc_version='2.35'
  Dynamic Linking:
    dlsrc=dl_dlopen.xs
    dlext=so
    d_dlsymun=undef
    ccdlflags='-Wl,-E'
    cccdlflags='-fPIC'
    lddlflags='-shared -O2 -g -L/usr/local/lib -fstack-protector-strong'


Characteristics of this binary (from libperl): 
  Compile-time options:
    HAS_LONG_DOUBLE
    HAS_STRTOLD
    HAS_TIMES
    PERLIO_LAYERS
    PERL_COPY_ON_WRITE
    PERL_DONT_CREATE_GVSV
    PERL_HASH_FUNC_SIPHASH13
    PERL_HASH_USE_SBOX32
    PERL_MALLOC_WRAP
    PERL_OP_PARENT
    PERL_PRESERVE_IVUV
    PERL_USE_DEVEL
    PERL_USE_SAFE_PUTENV
    USE_64_BIT_ALL
    USE_64_BIT_INT
    USE_LARGE_FILES
    USE_LOCALE
    USE_LOCALE_COLLATE
    USE_LOCALE_CTYPE
    USE_LOCALE_NUMERIC
    USE_LOCALE_TIME
    USE_LONG_DOUBLE
    USE_PERLIO
    USE_PERL_ATOF
  Built under linux
  Compiled at Dec 20 2024 16:55:51
  %ENV:
    PERL="/tmp/basesmoker-reloperl-7VnE/bin/perl"
    PERL5LIB="/tmp/loop_over_bdir-2405-JfF7Eq/MP3-PodcastFetch-1.05-0/blib/arch:/tmp/loop_over_bdir-2405-JfF7Eq/MP3-PodcastFetch-1.05-0/blib/lib:/tmp/loop_over_bdir-2405-JfF7Eq/AllKnowingDNS-1.7-0/blib/arch:/tmp/loop_over_bdir-2405-JfF7Eq/AllKnowingDNS-1.7-0/blib/lib:/tmp/loop_over_bdir-2405-JfF7Eq/Business-Shipping-DataFiles-1.02-0/blib/arch:/tmp/loop_over_bdir-2405-JfF7Eq/Business-Shipping-DataFiles-1.02-0/blib/lib:/tmp/loop_over_bdir-2405-JfF7Eq/ProjectBuilder-0.14.1-0/blib/arch:/tmp/loop_over_bdir-2405-JfF7Eq/ProjectBuilder-0.14.1-0/blib/lib:/tmp/loop_over_bdir-2405-JfF7Eq/DBIx-Migration-Directories-0.12-0/blib/arch:/tmp/loop_over_bdir-2405-JfF7Eq/DBIx-Migration-Directories-0.12-0/blib/lib"
    PERL5OPT=""
    PERL5_CPANPLUS_IS_RUNNING="2413"
    PERL5_CPAN_IS_RUNNING="2413"
    PERL_CANARY_STABILITY_NOPROMPT="1"
    PERL_MM_USE_DEFAULT="1"
    PERL_USE_UNSAFE_INC="1"
  @INC:
    /tmp/loop_over_bdir-2405-JfF7Eq/MP3-PodcastFetch-1.05-0/blib/arch
    /tmp/loop_over_bdir-2405-JfF7Eq/MP3-PodcastFetch-1.05-0/blib/lib
    /tmp/loop_over_bdir-2405-JfF7Eq/AllKnowingDNS-1.7-0/blib/arch
    /tmp/loop_over_bdir-2405-JfF7Eq/AllKnowingDNS-1.7-0/blib/lib
    /tmp/loop_over_bdir-2405-JfF7Eq/Business-Shipping-DataFiles-1.02-0/blib/arch
    /tmp/loop_over_bdir-2405-JfF7Eq/Business-Shipping-DataFiles-1.02-0/blib/lib
    /tmp/loop_over_bdir-2405-JfF7Eq/ProjectBuilder-0.14.1-0/blib/arch
    /tmp/loop_over_bdir-2405-JfF7Eq/ProjectBuilder-0.14.1-0/blib/lib
    /tmp/loop_over_bdir-2405-JfF7Eq/DBIx-Migration-Directories-0.12-0/blib/arch
    /tmp/loop_over_bdir-2405-JfF7Eq/DBIx-Migration-Directories-0.12-0/blib/lib
    /home/sand/src/perl/repoperls/installed-perls/host/k93jammy/v5.41.7/5674/lib/site_perl/5.41.7/x86_64-linux-ld
    /home/sand/src/perl/repoperls/installed-perls/host/k93jammy/v5.41.7/5674/lib/site_perl/5.41.7
    /home/sand/src/perl/repoperls/installed-perls/host/k93jammy/v5.41.7/5674/lib/5.41.7/x86_64-linux-ld
    /home/sand/src/perl/repoperls/installed-perls/host/k93jammy/v5.41.7/5674/lib/5.41.7
    .