DateTime-Format-Strptime v1.79 Perl 5 v5.43.2 darwin-2level

Status
Pass
From
Dist
DateTime-Format-Strptime v1.79
Platform
Perl 5 v5.43.2 darwin-2level
Date
2025-08-23 22:51:58
ID
c65a9fae-8073-11f0-a7dc-d931588a2e2a
This distribution has been tested as part of the CPAN Testers
project, supporting the Perl programming language.  See
http://wiki.cpantesters.org/ for more information or email
questions to cpan-testers-discuss@perl.org


--
Dear DROLSKY,

This is a computer-generated report for DateTime-Format-Strptime-1.79
on perl 5.43.2, created by App::cpanminus::reporter 0.22 (1.7048).

Thank you for uploading your work to CPAN.  Congratulations!
All tests were successful.

Sections of this report:

    * Tester comments
    * Program output
    * Prerequisites
    * Environment and other context

------------------------------
TESTER COMMENTS
------------------------------

Additional comments from tester:

none provided

------------------------------
PROGRAM OUTPUT
------------------------------

Output from '':

Building and testing DateTime-Format-Strptime-1.79
PERL_DL_NONLAZY=1 "/Volumes/chambord/Users/ether/perl5/perlbrew/perls/43.2/bin/perl5.43.2" "-MExtUtils::Command::MM" "-MTest::Harness" "-e" "undef *Test::Harness::Switches; test_harness(0, 'blib/lib', 'blib/arch')" t/*.t
# 
# Versions for all modules listed in MYMETA.json (including optional ones):
# 
# === Configure Requires ===
# 
#     Module              Want Have
#     ------------------- ---- ----
#     ExtUtils::MakeMaker  any 7.76
# 
# === Configure Suggests ===
# 
#     Module      Want Have
#     -------- ------- ----
#     JSON::PP 2.27300 4.16
# 
# === Build Requires ===
# 
#     Module              Want Have
#     ------------------- ---- ----
#     ExtUtils::MakeMaker  any 7.76
# 
# === Test Requires ===
# 
#     Module              Want     Have
#     ------------------- ---- --------
#     ExtUtils::MakeMaker  any     7.76
#     File::Spec           any     3.94
#     FindBin              any     1.54
#     Test::Builder        any 1.302214
#     Test::Fatal          any    0.017
#     Test::More          0.96 1.302214
#     Test::Warnings       any    0.038
#     lib                  any     0.65
#     utf8                 any     1.27
# 
# === Test Recommends ===
# 
#     Module         Want     Have
#     ---------- -------- --------
#     CPAN::Meta 2.120900 2.150010
# 
# === Runtime Requires ===
# 
#     Module                     Want  Have
#     -------------------------- ---- -----
#     Carp                        any  1.54
#     DateTime                   1.00  1.66
#     DateTime::Locale           1.30  1.45
#     DateTime::Locale::Base      any  1.45
#     DateTime::Locale::FromData  any  1.45
#     DateTime::TimeZone         2.09  2.65
#     Exporter                    any  5.79
#     Params::ValidationCompiler  any  0.31
#     Specio                     0.33  0.52
#     Specio::Declare             any  0.52
#     Specio::Exporter            any  0.52
#     Specio::Library::Builtins   any  0.52
#     Specio::Library::String     any  0.52
#     Try::Tiny                   any  0.32
#     constant                    any  1.33
#     parent                      any 0.244
#     strict                      any  1.14
#     warnings                    any  1.74
# 
t/00-report-prereqs.t .... ok
t/format-datetime.t ...... ok
t/format-with-locale.t ... ok
t/edge.t ................. ok
t/errors.t ............... ok
t/basic.t ................ ok
t/generated-locale-de.t .. ok
t/generated-locale-en.t .. ok
t/generated-locale-ga.t .. ok
t/generated-locale-zh.t .. ok
t/generated-locale-pt.t .. ok
t/import.t ............... ok
t/zones.t ................ ok
All tests successful.
Files=13, Tests=143,  0 wallclock secs ( 0.08 usr  0.02 sys +  1.52 cusr  0.24 csys =  1.86 CPU)
Result: PASS

------------------------------
PREREQUISITES
------------------------------

Prerequisite modules loaded:

runtime:

    Module                     Need Have 
    -------------------------- ---- -----
    Carp                       0    1.54 
    constant                   0    1.33 
    DateTime                   1.00 1.66 
    DateTime::Locale           1.30 1.45 
    DateTime::Locale::Base     0    1.45 
    DateTime::Locale::FromData 0    1.45 
    DateTime::TimeZone         2.09 2.65 
    Exporter                   0    5.79 
    Params::ValidationCompiler 0    0.31 
    parent                     0    0.244
    Specio                     0.33 0.52 
    Specio::Declare            0    0.52 
    Specio::Exporter           0    0.52 
    Specio::Library::Builtins  0    0.52 
    Specio::Library::String    0    0.52 
    strict                     0    1.14 
    Try::Tiny                  0    0.32 
    warnings                   0    1.74 

build:

    Module                     Need Have 
    -------------------------- ---- -----
    ExtUtils::MakeMaker        0    7.76 

configure:

    Module                     Need Have 
    -------------------------- ---- -----
    ExtUtils::MakeMaker        0    7.76 


------------------------------
ENVIRONMENT AND OTHER CONTEXT
------------------------------

Environment variables:

    HARNESS_OPTIONS = j6:c
    LANG = en_CA.UTF-8
    LC_ALL = en_CA.UTF-8
    LC_CTYPE = en_CA.UTF-8
    NO_NETWORK_TESTING = 1
    PATH = /Volumes/chambord/Users/ether/.perlbrew/libs/43.2@std/bin:/Volumes/chambord/Users/ether/perl5/perlbrew/bin:/Volumes/chambord/Users/ether/perl5/perlbrew/perls/43.2/bin:/Volumes/chambord/Users/ether/bin:/Volumes/chambord/Users/ether/git/misc/install/advocaat/bin:/Volumes/chambord/Users/ether/git/misc/install/generic/bin:/opt/local/bin:/opt/local/sbin:/Volumes/chambord/Users/ether/git/git-hub/lib:/usr/local/bin:/System/Cryptexes/App/usr/bin:/usr/bin:/bin:/usr/sbin:/sbin:/var/run/com.apple.security.cryptexd/codex.system/bootstrap/usr/local/bin:/var/run/com.apple.security.cryptexd/codex.system/bootstrap/usr/bin:/var/run/com.apple.security.cryptexd/codex.system/bootstrap/usr/appleinternal/bin:/Library/Apple/usr/bin:/opt/local/share/git-core/contrib/workdir
    PERL5LIB = /Volumes/chambord/Users/ether/.perlbrew/libs/43.2@std/lib/perl5
    PERLBREW_HOME = /Volumes/chambord/Users/ether/.perlbrew
    PERLBREW_LIB = std
    PERLBREW_MANPATH = /Volumes/chambord/Users/ether/.perlbrew/libs/43.2@std/man:/Volumes/chambord/Users/ether/perl5/perlbrew/perls/43.2/man
    PERLBREW_PATH = /Volumes/chambord/Users/ether/.perlbrew/libs/43.2@std/bin:/Volumes/chambord/Users/ether/perl5/perlbrew/bin:/Volumes/chambord/Users/ether/perl5/perlbrew/perls/43.2/bin
    PERLBREW_PERL = 43.2
    PERLBREW_ROOT = /Volumes/chambord/Users/ether/perl5/perlbrew
    PERLBREW_SHELLRC_VERSION = 1.01
    PERLBREW_VERSION = 1.01
    PERLDOC = -oansi
    PERLDOC_PAGER = less -sicMr
    PERL_AUTOINSTALL_PREFER_CPAN = 1
    PERL_INSTALL_QUIET = 1
    PERL_LOCAL_LIB_ROOT = /Volumes/chambord/Users/ether/.perlbrew/libs/43.2@std
    PERL_MB_OPT = --install_base /Volumes/chambord/Users/ether/.perlbrew/libs/43.2@std
    PERL_MM_OPT = INSTALL_BASE=/Volumes/chambord/Users/ether/.perlbrew/libs/43.2@std
    PERL_TEST_HARNESS_ASAP = 1
    PERL_USE_UNSAFE_INC = 0
    SHELL = /bin/bash
    TERM = xterm-color

Perl special variables (and OS-specific diagnostics, for MSWin32):

    EGID = 20 20 12 61 79 80 81 98 701 704 703 702 705 33 100 204 250
    EUID = 502
    EXECUTABLE_NAME = /Volumes/chambord/Users/ether/perl5/perlbrew/perls/43.2/bin/perl5.43.2
    GID = 20 20 12 61 79 80 81 98 701 704 703 702 705 33 100 204 250
    UID = 502

Perl module toolchain versions installed:

    Module              Have    
    ------------------- --------
    CPAN                2.38    
    CPAN::Meta          2.150010
    Cwd                 3.94    
    ExtUtils::CBuilder  0.280242
    ExtUtils::Command   7.76    
    ExtUtils::Install   2.22    
    ExtUtils::MakeMaker 7.76    
    ExtUtils::Manifest  1.75    
    ExtUtils::ParseXS   3.59    
    File::Spec          3.94    
    JSON                4.10    
    JSON::PP            4.16    
    Module::Build       0.4234  
    Module::Signature   n/a     
    Parse::CPAN::Meta   2.150010
    Test::Harness       3.52    
    Test::More          1.302214
    YAML                n/a     
    YAML::Syck          n/a     
    version             0.9933  


--

Summary of my perl5 (revision 5 version 43 subversion 2) configuration:
   
  Platform:
    osname=darwin
    osvers=24.6.0
    archname=darwin-2level
    uname='darwin advocaat 24.6.0 darwin kernel version 24.6.0: mon jul 14 11:30:51 pdt 2025; root:xnu-11417.140.69~1release_arm64_t8112 arm64 '
    config_args='-de -Dprefix=/Volumes/chambord/Users/ether/perl5/perlbrew/perls/43.2 -Dman1dir=none -Dman3dir=none -Dusedevel -Aeval:scriptdir=/Volumes/chambord/Users/ether/perl5/perlbrew/perls/43.2/bin'
    hint=recommended
    useposix=true
    d_sigaction=define
    useithreads=undef
    usemultiplicity=undef
    use64bitint=define
    use64bitall=define
    uselongdouble=undef
    usemymalloc=n
    default_inc_excludes_dot=define
  Compiler:
    cc='cc'
    ccflags ='-fno-common -DPERL_DARWIN -DNO_THREAD_SAFE_QUERYLOCALE -DNO_POSIX_2008_LOCALE -DHAS_BROKEN_LANGINFO_CODESET -DNO_LOCALE_COLLATE -fno-strict-aliasing -pipe -fstack-protector-strong -I/opt/local/include'
    optimize='-O3'
    cppflags='-fno-common -DPERL_DARWIN -DNO_THREAD_SAFE_QUERYLOCALE -DNO_POSIX_2008_LOCALE -DHAS_BROKEN_LANGINFO_CODESET -DNO_LOCALE_COLLATE -fno-strict-aliasing -pipe -fstack-protector-strong -I/opt/local/include'
    ccversion=''
    gccversion='Apple LLVM 17.0.0 (clang-1700.0.13.5)'
    gccosandvers=''
    intsize=4
    longsize=8
    ptrsize=8
    doublesize=8
    byteorder=12345678
    doublekind=3
    d_longlong=define
    longlongsize=8
    d_longdbl=define
    longdblsize=8
    longdblkind=0
    ivtype='long'
    ivsize=8
    nvtype='double'
    nvsize=8
    Off_t='off_t'
    lseeksize=8
    alignbytes=8
    prototype=define
  Linker and Libraries:
    ld='cc'
    ldflags =' -fstack-protector-strong -L/opt/local/lib'
    libpth=/Applications/Xcode.app/Contents/Developer/Toolchains/XcodeDefault.xctoolchain/usr/lib/clang/17/lib /Applications/Xcode.app/Contents/Developer/Platforms/MacOSX.platform/Developer/SDKs/MacOSX.sdk/usr/lib /Applications/Xcode.app/Contents/Developer/Toolchains/XcodeDefault.xctoolchain/usr/lib /opt/local/lib /usr/lib
    libs=-lgdbm
    perllibs=
    libc=
    so=dylib
    useshrplib=false
    libperl=libperl.a
    gnulibc_version=''
  Dynamic Linking:
    dlsrc=dl_dlopen.xs
    dlext=bundle
    d_dlsymun=undef
    ccdlflags=' '
    cccdlflags=' '
    lddlflags='-bundle -undefined dynamic_lookup -L/opt/local/lib -fstack-protector-strong'


Characteristics of this binary (from libperl): 
  Compile-time options:
    HAS_LONG_DOUBLE
    HAS_STRTOLD
    HAS_TIMES
    PERLIO_LAYERS
    PERL_COPY_ON_WRITE
    PERL_DONT_CREATE_GVSV
    PERL_HASH_FUNC_SIPHASH13
    PERL_HASH_USE_SBOX32
    PERL_MALLOC_WRAP
    PERL_OP_PARENT
    PERL_PRESERVE_IVUV
    PERL_USE_DEVEL
    PERL_USE_SAFE_PUTENV
    USE_64_BIT_ALL
    USE_64_BIT_INT
    USE_LARGE_FILES
    USE_LOCALE
    USE_LOCALE_CTYPE
    USE_LOCALE_NUMERIC
    USE_LOCALE_TIME
    USE_PERLIO
    USE_PERL_ATOF
  Built under darwin
  Compiled at Aug 20 2025 13:18:41
  %ENV:
    PERL5LIB="/Volumes/chambord/Users/ether/.perlbrew/libs/43.2@std/lib/perl5"
    PERLBREW_HOME="/Volumes/chambord/Users/ether/.perlbrew"
    PERLBREW_LIB="std"
    PERLBREW_MANPATH="/Volumes/chambord/Users/ether/.perlbrew/libs/43.2@std/man:/Volumes/chambord/Users/ether/perl5/perlbrew/perls/43.2/man"
    PERLBREW_PATH="/Volumes/chambord/Users/ether/.perlbrew/libs/43.2@std/bin:/Volumes/chambord/Users/ether/perl5/perlbrew/bin:/Volumes/chambord/Users/ether/perl5/perlbrew/perls/43.2/bin"
    PERLBREW_PERL="43.2"
    PERLBREW_ROOT="/Volumes/chambord/Users/ether/perl5/perlbrew"
    PERLBREW_SHELLRC_VERSION="1.01"
    PERLBREW_VERSION="1.01"
    PERLDOC="-oansi"
    PERLDOC_PAGER="less -sicMr"
    PERL_AUTOINSTALL_PREFER_CPAN="1"
    PERL_INSTALL_QUIET="1"
    PERL_LOCAL_LIB_ROOT="/Volumes/chambord/Users/ether/.perlbrew/libs/43.2@std"
    PERL_MB_OPT="--install_base /Volumes/chambord/Users/ether/.perlbrew/libs/43.2@std"
    PERL_MM_OPT="INSTALL_BASE=/Volumes/chambord/Users/ether/.perlbrew/libs/43.2@std"
    PERL_TEST_HARNESS_ASAP="1"
    PERL_USE_UNSAFE_INC="0"
  @INC:
    /Volumes/chambord/Users/ether/.perlbrew/libs/43.2@std/lib/perl5/darwin-2level
    /Volumes/chambord/Users/ether/.perlbrew/libs/43.2@std/lib/perl5
    /Volumes/chambord/Users/ether/perl5/perlbrew/perls/43.2/lib/site_perl/5.43.2/darwin-2level
    /Volumes/chambord/Users/ether/perl5/perlbrew/perls/43.2/lib/site_perl/5.43.2
    /Volumes/chambord/Users/ether/perl5/perlbrew/perls/43.2/lib/5.43.2/darwin-2level
    /Volumes/chambord/Users/ether/perl5/perlbrew/perls/43.2/lib/5.43.2