Test-MockModule vv0.175.0 Perl 5 v5.18.4 x86_64-linux-thread-multi

Status
Pass
From
Nigel Horne
Dist
Test-MockModule vv0.175.0
Platform
Perl 5 v5.18.4 x86_64-linux-thread-multi
Date
2020-10-21 00:17:16
ID
c65deb5e-1332-11eb-b9db-b6c7a8faccfa
This distribution has been tested as part of the CPAN Testers
project, supporting the Perl programming language.  See
http://wiki.cpantesters.org/ for more information or email
questions to cpan-testers-discuss@perl.org


--
Dear Geoff Franks,

This is a computer-generated report for Test-MockModule-v0.175.0
on perl 5.18.4, created by CPAN-Reporter-1.2018.

Thank you for uploading your work to CPAN.  Congratulations!
All tests were successful.

Sections of this report:

    * Tester comments
    * Program output
    * Prerequisites
    * Environment and other context

------------------------------
TESTER COMMENTS
------------------------------

Additional comments from tester:

this report is from an automated smoke testing program
and was not reviewed by a human for accuracy

------------------------------
PROGRAM OUTPUT
------------------------------

Output from './Build test':

t/define.t ........ ok
t/chaining.t ...... ok
t/main.t .......... ok
t/inheritance.t ... ok
t/mock_strict.t ... ok
t/mockmodule.t .... ok
t/pod.t ........... ok
t/pod_coverage.t .. skipped: Test::Pod::Coverage 1.00 required for testing pod coverage
t/prototype.t ..... ok
t/redefine.t ...... ok
All tests successful.
Files=10, Tests=97,  2 wallclock secs ( 0.04 usr  0.04 sys +  0.90 cusr  0.32 csys =  1.30 CPU)
Result: PASS

------------------------------
PREREQUISITES
------------------------------

Prerequisite modules loaded:

requires:

    Module         Need  Have      
    -------------- ----- ----------
    Carp           0     1.29      
    perl           5.006 5.018004  
    Scalar::Util   0     1.54      
    SUPER          1.20  1.20190531

build_requires:

    Module         Need  Have      
    -------------- ----- ----------
    Test::More     0.88  1.302172  
    Test::Warnings 0     0.030     

configure_requires:

    Module         Need  Have      
    -------------- ----- ----------
    Module::Build  0.38  0.4003    


------------------------------
ENVIRONMENT AND OTHER CONTEXT
------------------------------

Environment variables:

    AUTOMATED_TESTING = 1
    HARNESS_OPTIONS = j2
    NONINTERACTIVE_TESTING = 1
    PATH = /home/smoker/perl5/perlbrew/bin:/home/smoker/perl5/perlbrew/perls/perl-5.18.4-thread/bin:/usr/local/sbin:/usr/local/bin:/usr/sbin:/usr/bin:/sbin:/bin
    PERL5LIB = /tmp/build/SUPER-1.20190531-0/blib/arch:/tmp/build/SUPER-1.20190531-0/blib/lib:/tmp/build/Sub-Identify-0.14-0/blib/arch:/tmp/build/Sub-Identify-0.14-0/blib/lib:/tmp/build/Promise-ES6-0.23-0/blib/arch:/tmp/build/Promise-ES6-0.23-0/blib/lib:/tmp/build/Test-FailWarnings-0.008-0/blib/arch:/tmp/build/Test-FailWarnings-0.008-0/blib/lib:/tmp/build/Test-Class-0.50-0/blib/arch:/tmp/build/Test-Class-0.50-0/blib/lib:/tmp/build/MRO-Compat-0.13-0/blib/arch:/tmp/build/MRO-Compat-0.13-0/blib/lib:/tmp/build/Call-Context-0.03-0/blib/arch:/tmp/build/Call-Context-0.03-0/blib/lib
    PERL5OPT = 
    PERL5_CPANPLUS_IS_RUNNING = 2919
    PERL5_CPAN_IS_RUNNING = 2919
    PERLBREW_HOME = /home/smoker/.perlbrew
    PERLBREW_MANPATH = /home/smoker/perl5/perlbrew/perls/perl-5.18.4-thread/man
    PERLBREW_PATH = /home/smoker/perl5/perlbrew/bin:/home/smoker/perl5/perlbrew/perls/perl-5.18.4-thread/bin
    PERLBREW_PERL = perl-5.18.4-thread
    PERLBREW_ROOT = /home/smoker/perl5/perlbrew
    PERLBREW_SHELLRC_VERSION = 0.88
    PERLBREW_VERSION = 0.88
    PERL_MM_USE_DEFAULT = 1
    PERL_USE_UNSAFE_INC = 1
    SHELL = /bin/bash
    TERM = xterm
    TMPDIR = /tmp/testwrapper.2907

Perl special variables (and OS-specific diagnostics, for MSWin32):

    $^X = /home/smoker/perl5/perlbrew/perls/perl-5.18.4-thread/bin/perl5.18.4
    $UID/$EUID = 1000 / 1000
    $GID = 1000
    $EGID = 1000

Perl module toolchain versions installed:

    Module              Have    
    ------------------- --------
    CPAN                2.27    
    CPAN::Meta          2.143240
    Cwd                 3.75    
    ExtUtils::CBuilder  0.280210
    ExtUtils::Command   7.44    
    ExtUtils::Install   2.06    
    ExtUtils::MakeMaker 7.44    
    ExtUtils::Manifest  1.70    
    ExtUtils::ParseXS   3.18    
    File::Spec          3.75    
    JSON                4.02    
    JSON::PP            2.27203 
    Module::Build       0.4003  
    Module::Signature   n/a     
    Parse::CPAN::Meta   1.4414  
    Test::Harness       3.42    
    Test::More          1.302172
    YAML                1.30    
    YAML::Syck          1.32    
    version             0.9902  


--

Summary of my perl5 (revision 5 version 18 subversion 4) configuration:
   
  Platform:
    osname=linux, osvers=4.16.0-2-amd64, archname=x86_64-linux-thread-multi
    uname='linux e499360747da 4.16.0-2-amd64 #1 smp debian 4.16.16-2 (2018-06-22) x86_64 gnulinux '
    config_args='-de -Dprefix=/home/smoker/perl5/perlbrew/perls/perl-5.18.4-thread -Dusedevel -Dusethreads -Accflags=-O2 -pipe -Wall -Wextra -mtune=native -march=native -Aeval:scriptdir=/home/smoker/perl5/perlbrew/perls/perl-5.18.4-thread/bin'
    hint=recommended, useposix=true, d_sigaction=define
    useithreads=define, usemultiplicity=define
    useperlio=define, d_sfio=undef, uselargefiles=define, usesocks=undef
    use64bitint=define, use64bitall=define, uselongdouble=undef
    usemymalloc=n, bincompat5005=undef
  Compiler:
    cc='cc', ccflags ='-D_REENTRANT -D_GNU_SOURCE -O2 -pipe -Wall -Wextra -mtune=native -march=native -fwrapv -fno-strict-aliasing -fstack-protector -I/usr/local/include -D_LARGEFILE_SOURCE -D_FILE_OFFSET_BITS=64',
    optimize='-O2',
    cppflags='-D_REENTRANT -D_GNU_SOURCE -O2 -pipe -Wall -Wextra -mtune=native -march=native -fwrapv -fno-strict-aliasing -fstack-protector -I/usr/local/include'
    ccversion='', gccversion='6.3.0 20170516', gccosandvers=''
    intsize=4, longsize=8, ptrsize=8, doublesize=8, byteorder=12345678
    d_longlong=define, longlongsize=8, d_longdbl=define, longdblsize=16
    ivtype='long', ivsize=8, nvtype='double', nvsize=8, Off_t='off_t', lseeksize=8
    alignbytes=8, prototype=define
  Linker and Libraries:
    ld='cc', ldflags =' -fstack-protector -L/usr/local/lib'
    libpth=/usr/local/lib /lib/x86_64-linux-gnu /lib/../lib /usr/lib/x86_64-linux-gnu /usr/lib/../lib /lib /usr/lib
    libs=-lnsl -ldl -lm -lcrypt -lutil -lpthread -lc
    perllibs=-lnsl -ldl -lm -lcrypt -lutil -lpthread -lc
    libc=libc-2.24.so, so=so, useshrplib=false, libperl=libperl.a
    gnulibc_version='2.24'
  Dynamic Linking:
    dlsrc=dl_dlopen.xs, dlext=so, d_dlsymun=undef, ccdlflags='-Wl,-E'
    cccdlflags='-fPIC', lddlflags='-shared -O2 -L/usr/local/lib -fstack-protector'


Characteristics of this binary (from libperl): 
  Compile-time options: HAS_TIMES MULTIPLICITY PERLIO_LAYERS
                        PERL_DONT_CREATE_GVSV
                        PERL_HASH_FUNC_ONE_AT_A_TIME_HARD
                        PERL_IMPLICIT_CONTEXT PERL_MALLOC_WRAP
                        PERL_PRESERVE_IVUV PERL_SAWAMPERSAND PERL_USE_DEVEL
                        USE_64_BIT_ALL USE_64_BIT_INT USE_ITHREADS
                        USE_LARGE_FILES USE_LOCALE USE_LOCALE_COLLATE
                        USE_LOCALE_CTYPE USE_LOCALE_NUMERIC USE_PERLIO
                        USE_PERL_ATOF USE_REENTRANT_API
  Locally applied patches:
	Devel::PatchPerl 1.90
  Built under linux
  Compiled at Mar 26 2020 23:16:05
  %ENV:
    PERL5LIB="/tmp/build/SUPER-1.20190531-0/blib/arch:/tmp/build/SUPER-1.20190531-0/blib/lib:/tmp/build/Sub-Identify-0.14-0/blib/arch:/tmp/build/Sub-Identify-0.14-0/blib/lib:/tmp/build/Promise-ES6-0.23-0/blib/arch:/tmp/build/Promise-ES6-0.23-0/blib/lib:/tmp/build/Test-FailWarnings-0.008-0/blib/arch:/tmp/build/Test-FailWarnings-0.008-0/blib/lib:/tmp/build/Test-Class-0.50-0/blib/arch:/tmp/build/Test-Class-0.50-0/blib/lib:/tmp/build/MRO-Compat-0.13-0/blib/arch:/tmp/build/MRO-Compat-0.13-0/blib/lib:/tmp/build/Call-Context-0.03-0/blib/arch:/tmp/build/Call-Context-0.03-0/blib/lib"
    PERL5OPT=""
    PERL5_CPANPLUS_IS_RUNNING="2919"
    PERL5_CPAN_IS_RUNNING="2919"
    PERLBREW_HOME="/home/smoker/.perlbrew"
    PERLBREW_MANPATH="/home/smoker/perl5/perlbrew/perls/perl-5.18.4-thread/man"
    PERLBREW_PATH="/home/smoker/perl5/perlbrew/bin:/home/smoker/perl5/perlbrew/perls/perl-5.18.4-thread/bin"
    PERLBREW_PERL="perl-5.18.4-thread"
    PERLBREW_ROOT="/home/smoker/perl5/perlbrew"
    PERLBREW_SHELLRC_VERSION="0.88"
    PERLBREW_VERSION="0.88"
    PERL_MM_USE_DEFAULT="1"
    PERL_USE_UNSAFE_INC="1"
  @INC:
    /tmp/build/SUPER-1.20190531-0/blib/arch
    /tmp/build/SUPER-1.20190531-0/blib/lib
    /tmp/build/Sub-Identify-0.14-0/blib/arch
    /tmp/build/Sub-Identify-0.14-0/blib/lib
    /tmp/build/Promise-ES6-0.23-0/blib/arch
    /tmp/build/Promise-ES6-0.23-0/blib/lib
    /tmp/build/Test-FailWarnings-0.008-0/blib/arch
    /tmp/build/Test-FailWarnings-0.008-0/blib/lib
    /tmp/build/Test-Class-0.50-0/blib/arch
    /tmp/build/Test-Class-0.50-0/blib/lib
    /tmp/build/MRO-Compat-0.13-0/blib/arch
    /tmp/build/MRO-Compat-0.13-0/blib/lib
    /tmp/build/Call-Context-0.03-0/blib/arch
    /tmp/build/Call-Context-0.03-0/blib/lib
    /home/smoker/perl5/perlbrew/perls/perl-5.18.4-thread/lib/site_perl/5.18.4/x86_64-linux-thread-multi
    /home/smoker/perl5/perlbrew/perls/perl-5.18.4-thread/lib/site_perl/5.18.4
    /home/smoker/perl5/perlbrew/perls/perl-5.18.4-thread/lib/5.18.4/x86_64-linux-thread-multi
    /home/smoker/perl5/perlbrew/perls/perl-5.18.4-thread/lib/5.18.4
    .