MARC-Record v2.0.7 Perl 5 v5.26.1 armv7l-linux

Status
Pass
From
Francois Perrad
Dist
MARC-Record v2.0.7
Platform
Perl 5 v5.26.1 armv7l-linux
Date
2018-03-09 19:48:01
ID
c65e9164-23d2-11e8-bb01-428a0f41b7d1
This distribution has been tested as part of the CPAN Testers
project, supporting the Perl programming language.  See
http://wiki.cpantesters.org/ for more information or email
questions to cpan-testers-discuss@perl.org


--
Dear Galen Charlton,

This is a computer-generated report for MARC-Record-2.0.7
on perl 5.26.1, created by CPAN-Reporter-1.2018.

Thank you for uploading your work to CPAN.  Congratulations!
All tests were successful.

Sections of this report:

    * Tester comments
    * Program output
    * Prerequisites
    * Environment and other context

------------------------------
TESTER COMMENTS
------------------------------

Additional comments from tester:

this report is from an automated smoke testing program
and was not reviewed by a human for accuracy

------------------------------
PROGRAM OUTPUT
------------------------------

Output from '/usr/bin/make test':

PERL_DL_NONLAZY=1 "/home/fperrad/perl5/perlbrew/perls/perl-5.26.1/bin/perl" "-MExtUtils::Command::MM" "-MTest::Harness" "-e" "undef *Test::Harness::Switches; test_harness(0, 'blib/lib', 'blib/arch')" t/*.t
# Testing MARC::Record 2.0.7
t/00.load.t ....................... ok
t/10.camel.t ...................... ok
t/11.astring.t .................... ok
t/12.ldr.t ........................ ok
t/20.clone.t ...................... ok
t/50.batch.t ...................... ok
t/60.insert.t ..................... ok
t/60.update.t ..................... ok
t/61.append.t ..................... ok
t/61.replace.t .................... ok
t/62.before.t ..................... ok
t/63.after.t ...................... ok
t/64.create.t ..................... ok
t/66.grouped.t .................... ok
t/66.ordered.t .................... ok
t/67.subfield.t ................... ok
t/68.subfields.t .................. ok
t/70.croak.t ...................... ok
t/75.warnings.t ................... ok
t/80.alphatag.t ................... ok
t/81.decode.t ..................... ok
t/82.baddir.t ..................... ok
t/83.indicators.t ................. ok
t/85.fh.t ......................... ok
t/batch-filter.t .................. ok
t/convenience.t ................... ok
t/decode-filter.t ................. ok
t/delete-field.t .................. ok
t/delete-subfield.t ............... ok
t/dosEOF.t ........................ ok
t/extra_controlfields.t ........... ok
t/file-filter.t ................... ok
t/file-header.t ................... ok
t/filler.t ........................ ok
t/lineendings.t ................... ok
t/pod-coverage.t .................. skipped: Test::Pod::Coverage 1.04 required for testing POD coverage
t/pod.t ........................... skipped: Test::Pod 1.14 required for testing POD
t/rename-field.t .................. ok
t/rt67094_field_sans_subfields.t .. ok
t/title_proper.t .................. ok
t/utf8.t .......................... ok
All tests successful.
Files=41, Tests=1004, 24 wallclock secs ( 1.67 usr  0.32 sys + 21.51 cusr  1.95 csys = 25.45 CPU)
Result: PASS

------------------------------
PREREQUISITES
------------------------------

Prerequisite modules loaded:

requires:

    Module              Need Have    
    ------------------- ---- --------
    Carp                0    1.42    
    File::Find          0    1.34    
    File::Spec          0    3.67    
    Test::More          0    1.302073

build_requires:

    Module              Need Have    
    ------------------- ---- --------
    ExtUtils::MakeMaker 0    7.24    

configure_requires:

    Module              Need Have    
    ------------------- ---- --------
    ExtUtils::MakeMaker 0    7.24    


------------------------------
ENVIRONMENT AND OTHER CONTEXT
------------------------------

Environment variables:

    AUTOMATED_TESTING = 1
    LANG = en_US.UTF-8
    LANGUAGE = en_US.UTF-8
    LC_MESSAGES = en_US.UTF-8
    PATH = /home/fperrad/perl5/perlbrew/bin:/home/fperrad/perl5/perlbrew/perls/perl-5.26.1/bin:/usr/local/bin:/usr/bin:/bin:/usr/local/games:/usr/games
    PERL5LIB = 
    PERL5OPT = 
    PERL5_CPANPLUS_IS_RUNNING = 3260
    PERL5_CPAN_IS_RUNNING = 3260
    PERL5_CPAN_IS_RUNNING_IN_RECURSION = 1934,3260
    PERLBREW_BASHRC_VERSION = 0.80
    PERLBREW_HOME = /home/fperrad/.perlbrew
    PERLBREW_MANPATH = /home/fperrad/perl5/perlbrew/perls/perl-5.26.1/man
    PERLBREW_PATH = /home/fperrad/perl5/perlbrew/bin:/home/fperrad/perl5/perlbrew/perls/perl-5.26.1/bin
    PERLBREW_PERL = perl-5.26.1
    PERLBREW_ROOT = /home/fperrad/perl5/perlbrew
    PERLBREW_VERSION = 0.80
    PERL_CR_SMOKER_CURRENT = WorldCat-API-1.001
    PERL_EXTUTILS_AUTOINSTALL = --defaultdeps
    PERL_MM_USE_DEFAULT = 1
    PERL_USE_UNSAFE_INC = 1
    SHELL = /bin/bash
    TERM = xterm-256color

Perl special variables (and OS-specific diagnostics, for MSWin32):

    $^X = /home/fperrad/perl5/perlbrew/perls/perl-5.26.1/bin/perl
    $UID/$EUID = 1000 / 1000
    $GID = 1000 20 27 29 44 46 101 108 1000
    $EGID = 1000 20 27 29 44 46 101 108 1000

Perl module toolchain versions installed:

    Module              Have      
    ------------------- ----------
    CPAN                2.18      
    CPAN::Meta          2.150010  
    Cwd                 3.67      
    ExtUtils::CBuilder  0.280225  
    ExtUtils::Command   7.24      
    ExtUtils::Install   2.04      
    ExtUtils::MakeMaker 7.24      
    ExtUtils::Manifest  1.70      
    ExtUtils::ParseXS   3.34      
    File::Spec          3.67      
    JSON                n/a       
    JSON::PP            2.27400_02
    Module::Build       0.4224    
    Module::Signature   n/a       
    Parse::CPAN::Meta   2.150010  
    Test::Harness       3.38      
    Test::More          1.302073  
    YAML                n/a       
    YAML::Syck          n/a       
    version             0.9918    


--

Summary of my perl5 (revision 5 version 26 subversion 1) configuration:
   
  Platform:
    osname=linux
    osvers=4.13.12-sunxi
    archname=armv7l-linux
    uname='linux lime2 4.13.12-sunxi #163 smp sat nov 11 00:09:12 cet 2017 armv7l gnulinux '
    config_args='-de -Dprefix=/home/fperrad/perl5/perlbrew/perls/perl-5.26.1 -Aeval:scriptdir=/home/fperrad/perl5/perlbrew/perls/perl-5.26.1/bin'
    hint=recommended
    useposix=true
    d_sigaction=define
    useithreads=undef
    usemultiplicity=undef
    use64bitint=undef
    use64bitall=undef
    uselongdouble=undef
    usemymalloc=n
    default_inc_excludes_dot=define
    bincompat5005=undef
  Compiler:
    cc='cc'
    ccflags ='-fwrapv -fno-strict-aliasing -pipe -fstack-protector-strong -I/usr/local/include -D_LARGEFILE_SOURCE -D_FILE_OFFSET_BITS=64 -D_FORTIFY_SOURCE=2'
    optimize='-O2'
    cppflags='-fwrapv -fno-strict-aliasing -pipe -fstack-protector-strong -I/usr/local/include'
    ccversion=''
    gccversion='6.3.0 20170516'
    gccosandvers=''
    intsize=4
    longsize=4
    ptrsize=4
    doublesize=8
    byteorder=1234
    doublekind=3
    d_longlong=define
    longlongsize=8
    d_longdbl=define
    longdblsize=8
    longdblkind=0
    ivtype='long'
    ivsize=4
    nvtype='double'
    nvsize=8
    Off_t='off_t'
    lseeksize=8
    alignbytes=8
    prototype=define
  Linker and Libraries:
    ld='cc'
    ldflags =' -fstack-protector-strong -L/usr/local/lib'
    libpth=/usr/local/lib /usr/lib/gcc/arm-linux-gnueabihf/6/include-fixed /usr/include/arm-linux-gnueabihf /usr/lib /lib/arm-linux-gnueabihf /lib /usr/lib/arm-linux-gnueabihf
    libs=-lpthread -lnsl -ldl -lm -lcrypt -lutil -lc
    perllibs=-lpthread -lnsl -ldl -lm -lcrypt -lutil -lc
    libc=libc-2.24.so
    so=so
    useshrplib=false
    libperl=libperl.a
    gnulibc_version='2.24'
  Dynamic Linking:
    dlsrc=dl_dlopen.xs
    dlext=so
    d_dlsymun=undef
    ccdlflags='-Wl,-E'
    cccdlflags='-fPIC'
    lddlflags='-shared -O2 -L/usr/local/lib -fstack-protector-strong'


Characteristics of this binary (from libperl): 
  Compile-time options:
    HAS_TIMES
    PERLIO_LAYERS
    PERL_COPY_ON_WRITE
    PERL_DONT_CREATE_GVSV
    PERL_HASH_FUNC_ONE_AT_A_TIME_HARD
    PERL_MALLOC_WRAP
    PERL_OP_PARENT
    PERL_PRESERVE_IVUV
    USE_LARGE_FILES
    USE_LOCALE
    USE_LOCALE_COLLATE
    USE_LOCALE_CTYPE
    USE_LOCALE_NUMERIC
    USE_LOCALE_TIME
    USE_PERLIO
    USE_PERL_ATOF
  Locally applied patches:
    Devel::PatchPerl 1.48
  Built under linux
  Compiled at Nov 11 2017 22:16:58
  %ENV:
    PERL5LIB=""
    PERL5OPT=""
    PERL5_CPANPLUS_IS_RUNNING="3260"
    PERL5_CPAN_IS_RUNNING="3260"
    PERL5_CPAN_IS_RUNNING_IN_RECURSION="1934,3260"
    PERLBREW_BASHRC_VERSION="0.80"
    PERLBREW_HOME="/home/fperrad/.perlbrew"
    PERLBREW_MANPATH="/home/fperrad/perl5/perlbrew/perls/perl-5.26.1/man"
    PERLBREW_PATH="/home/fperrad/perl5/perlbrew/bin:/home/fperrad/perl5/perlbrew/perls/perl-5.26.1/bin"
    PERLBREW_PERL="perl-5.26.1"
    PERLBREW_ROOT="/home/fperrad/perl5/perlbrew"
    PERLBREW_VERSION="0.80"
    PERL_CR_SMOKER_CURRENT="WorldCat-API-1.001"
    PERL_EXTUTILS_AUTOINSTALL="--defaultdeps"
    PERL_MM_USE_DEFAULT="1"
    PERL_USE_UNSAFE_INC="1"
  @INC:
    /home/fperrad/perl5/perlbrew/perls/perl-5.26.1/lib/site_perl/5.26.1/armv7l-linux
    /home/fperrad/perl5/perlbrew/perls/perl-5.26.1/lib/site_perl/5.26.1
    /home/fperrad/perl5/perlbrew/perls/perl-5.26.1/lib/5.26.1/armv7l-linux
    /home/fperrad/perl5/perlbrew/perls/perl-5.26.1/lib/5.26.1
    .