XML-XPathScript v2.00 Perl 5 v5.41.13 amd64-netbsd

Status
Pass
From
Carlos Guevara
Dist
XML-XPathScript v2.00
Platform
Perl 5 v5.41.13 amd64-netbsd
Date
2025-05-06 15:14:16
ID
c66b3ae0-2a8c-11f0-a9ad-c708d8a5dfdb
This distribution has been tested as part of the CPAN Testers
project, supporting the Perl programming language.  See
http://wiki.cpantesters.org/ for more information or email
questions to cpan-testers-discuss@perl.org


--
Dear Yanick Champoux,

This is a computer-generated report for XML-XPathScript-2.00
on perl 5.41.13, created by CPAN-Reporter-1.2020.

Thank you for uploading your work to CPAN.  Congratulations!
All tests were successful.

Sections of this report:

    * Tester comments
    * Program output
    * Prerequisites
    * Environment and other context

------------------------------
TESTER COMMENTS
------------------------------

Additional comments from tester:

this report is from an automated smoke testing program
and was not reviewed by a human for accuracy

------------------------------
PROGRAM OUTPUT
------------------------------

Output from '/usr/bin/make test':

PERL_DL_NONLAZY=1 "/home/cpan/bin/perl/bin/perl5.41.13" "-MExtUtils::Command::MM" "-MTest::Harness" "-e" "undef *Test::Harness::Switches; test_harness(0, 'blib/lib', 'blib/arch')" t/*.t
t/00-compile.t ................. ok
# 
# Versions for all modules listed in MYMETA.json (including optional ones):
# 
# === Configure Requires ===
# 
#     Module              Want Have
#     ------------------- ---- ----
#     ExtUtils::MakeMaker  any 7.74
# 
# === Build Requires ===
# 
#     Module              Want Have
#     ------------------- ---- ----
#     ExtUtils::MakeMaker  any 7.74
# 
# === Test Requires ===
# 
#     Module              Want     Have
#     ------------------- ---- --------
#     ExtUtils::MakeMaker  any     7.74
#     File::Spec           any     3.94
#     IO::File             any     1.55
#     IO::Handle           any     1.55
#     IPC::Open3           any     1.24
#     Test                 any     1.31
#     Test::More           any 1.302211
# 
# === Test Recommends ===
# 
#     Module         Want     Have
#     ---------- -------- --------
#     CPAN::Meta 2.120900 2.150010
# 
# === Runtime Requires ===
# 
#     Module                Want   Have
#     --------------------- ---- ------
#     Carp                   any   1.54
#     Clone                  any   0.47
#     Data::Dumper           any  2.192
#     Exporter               any   5.79
#     File::Basename         any   2.86
#     Readonly               any   2.05
#     Scalar::Util           any   1.69
#     Symbol                 any   1.09
#     XML::LibXML            any 2.0210
#     XML::Parser            any   2.47
#     XML::XPath             any   1.48
#     XML::XPath::Node       any   1.48
#     XML::XPath::NodeSet    any   1.48
#     XML::XPath::XMLParser  any   1.48
#     base                   any   2.27
#     bytes                  any   1.09
#     constant               any   1.33
#     overload               any   1.40
#     strict                 any   1.14
#     utf8                   any   1.27
#     vars                   any   1.05
#     warnings               any   1.74
# 
t/00-report-prereqs.t .......... ok
t/01basic.t .................... ok
t/02interpolate.t .............. ok
t/03general.t .................. ok
t/04unicode.t .................. ok
t/05textnode.t ................. ok
t/06testcode.t ................. ok
t/07stylesheetcallbacks.t ...... ok
t/08document.t ................. ok
t/09argencoding.t .............. ok
t/10comments.t ................. ok
t/11new_interface.t ............ ok
t/12template.t ................. ok
t/13samples.t .................. ok
t/14transform.t ................ ok
t/15stylesheet_dependencies.t .. ok
t/16stylesheet_arguments.t ..... ok
t/17xml_loading.t .............. ok
t/18tag.t ...................... ok
t/19namespace.t ................ ok
This is $Id: docbook2latex.xps 32928 2006-02-01 17:59:52Z dom $
Using XML::LibXML version 2.0210, XML::XPathScript version 2.00
Unknown Unicode character (code 0)
Modify me! (array %uniconvs at the top of docbook2latex.xps)
/article[1]/sect1[@id="SEC-tables"]/table[@id="CC-Niveaux-Assurance"]/tgroup[1]/tbody[1]/row[1]/entry[1]:
     I don't know how to align multiline cells in TeX in stylesheet line 2104
/article[1]/sect1[@id="SEC-tables"]/table[@id="CC-Niveaux-Assurance"]/tgroup[1]/tbody[1]:
     No more room for this cell (row 3, entry 12) in stylesheet line 1971

/article[1]/sect1[2]/para[7]/xref[1]:
     label "FOOT-imbriquee" not found in stylesheet line 2435
/article[1]/sect1[3]/sect2[1]/screenco[1]/calloutlist[1]/callout[1]:
     No area definition found for premiere for this callout in stylesheet line 1379
/article[1]/sect1[3]/sect2[1]/screenco[1]/calloutlist[1]/callout[2]:
     No area definition found for premiere for this callout in stylesheet line 1379
/article[1]/sect1[3]/sect2[1]/screenco[1]/calloutlist[1]/callout[2]:
     No area definition found for troisieme for this callout in stylesheet line 1379
/article[1]/sect1[3]/sect2[1]/screenco[1]/calloutlist[1]/callout[3]:
     No area definition found for tout-le-texte for this callout in stylesheet line 1379
/article[1]/sect1[4]/para[1]/blockquote[1]/para[1]/xref[1]:
     label "TABLE1" not found in stylesheet line 2435
/article[1]/sect1[4]/para[1]/blockquote[1]/para[1]/xref[2]:
     label "SEC-tables" not found in stylesheet line 2435
/article[1]/sect1[4]/para[1]/blockquote[1]/para[1]/xref[3]:
     label "TABLE2" not found in stylesheet line 2435
/article[1]/sect1[4]/para[1]/blockquote[1]/para[1]/xref[4]:
     label "TABLE1" not found in stylesheet line 2435
/article[1]/sect1[4]/para[1]/blockquote[2]/para[1]/xref[1]:
     label "TABLE1" not found in stylesheet line 2435
/article[1]/sect1[4]/para[1]/blockquote[2]/para[1]/xref[2]:
     label "SEC-tables" not found in stylesheet line 2435
/article[1]/sect1[4]/para[1]/blockquote[2]/para[1]/xref[3]:
     label "TABLE2" not found in stylesheet line 2435
/article[1]/sect1[4]/para[1]/blockquote[2]/para[1]/xref[4]:
     label "TABLE1" not found in stylesheet line 2435
/article[1]/sect1[4]/para[2]/orderedlist[1]/listitem[2]/para[1]/xref[1]:
     label "SEC-chef-tjrs-raison" not found in stylesheet line 2435
t/20docbookxml2latex.t ......... ok
t/21processor.t ................ ok
t/22stylesheet.t ............... ok
t/24content.t .................. ok
t/25stylesheetlines.t .......... ok
t/26bxpath.t ................... skipped: B::XPath not installed
t/27template_import.t .......... ok
t/28function_overload.t ........ ok
All tests successful.
Files=29, Tests=136,  3 wallclock secs ( 0.12 usr  0.02 sys +  2.02 cusr  0.56 csys =  2.72 CPU)
Result: PASS

------------------------------
PREREQUISITES
------------------------------

Prerequisite modules loaded:

requires:

    Module                Need     Have    
    --------------------- -------- --------
    base                  0        2.27    
    bytes                 0        1.09    
    Carp                  0        1.54    
    Clone                 0        0.47    
    constant              0        1.33    
    Data::Dumper          0        2.192   
    Exporter              0        5.79    
    File::Basename        0        2.86    
    overload              0        1.40    
    perl                  5.006    5.041013
    Readonly              0        2.05    
    Scalar::Util          0        1.69    
    strict                0        1.14    
    Symbol                0        1.09    
    utf8                  0        1.27    
    vars                  0        1.05    
    warnings              0        1.74    
    XML::LibXML           0        2.0210  
    XML::Parser           0        2.47    
    XML::XPath            0        1.48    
    XML::XPath::Node      0        1.48    
    XML::XPath::NodeSet   0        1.48    
    XML::XPath::XMLParser 0        1.48    

build_requires:

    Module                Need     Have    
    --------------------- -------- --------
    ExtUtils::MakeMaker   0        7.74    
    File::Spec            0        3.94    
    IO::File              0        1.55    
    IO::Handle            0        1.55    
    IPC::Open3            0        1.24    
    Test                  0        1.31    
    Test::More            0        1.302211

configure_requires:

    Module                Need     Have    
    --------------------- -------- --------
    ExtUtils::MakeMaker   0        7.74    

opt_build_requires:

    Module                Need     Have    
    --------------------- -------- --------
    CPAN::Meta            2.120900 2.150010


------------------------------
ENVIRONMENT AND OTHER CONTEXT
------------------------------

Environment variables:

    AUTOMATED_TESTING = 1
    DATE_MANIP_TEST_DM5 = 1
    LC_ALL = C
    NONINTERACTIVE_TESTING = 1
    NO_NETWORK_TESTING = 1
    PATH = /home/cpan/bin/perl/bin:/home/cpan/bin:/home/cpan/bin:/bin:/sbin:/usr/bin:/usr/sbin:/usr/X11R7/bin:/usr/pkg/bin:/usr/pkg/sbin:/usr/games:/usr/local/bin:/usr/local/sbin
    PERL5LIB = 
    PERL5OPT = 
    PERL5_CPANPLUS_IS_RUNNING = 29030
    PERL5_CPAN_IS_RUNNING = 29030
    PERL_MM_USE_DEFAULT = 1
    PERL_USE_UNSAFE_INC = 1
    SHELL = /usr/pkg/bin/bash
    TERM = screen
    TMPDIR = /home/cpan/tmp

Perl special variables (and OS-specific diagnostics, for MSWin32):

    $^X = /home/cpan/bin/perl/bin/perl5.41.13
    $UID/$EUID = 1003 / 1003
    $GID = 100 100
    $EGID = 100 100

Perl module toolchain versions installed:

    Module              Have    
    ------------------- --------
    CPAN                2.38    
    CPAN::Meta          2.150010
    Cwd                 3.94    
    ExtUtils::CBuilder  0.280241
    ExtUtils::Command   7.74    
    ExtUtils::Install   2.22    
    ExtUtils::MakeMaker 7.74    
    ExtUtils::Manifest  1.75    
    ExtUtils::ParseXS   3.57    
    File::Spec          3.94    
    JSON                4.10    
    JSON::PP            4.16    
    Module::Build       0.4234  
    Module::Signature   0.89    
    Parse::CPAN::Meta   2.150010
    Test2               1.302211
    Test::Harness       3.50    
    Test::More          1.302211
    YAML                1.31    
    YAML::Syck          1.34    
    version             0.9933  


--

Summary of my perl5 (revision 5 version 41 subversion 13) configuration:
  Commit id: 29cc8053c53cd1d31c48caef82b715a48368374d
  Platform:
    osname=netbsd
    osvers=10.1
    archname=amd64-netbsd
    uname='netbsd cjg-netbsd10 10.1 netbsd 10.1 (generic) #0: mon dec 16 13:08:11 utc 2024 mkrepro@mkrepro.netbsd.org:usrsrcsysarchamd64compilegeneric amd64 '
    config_args='-des -Dprefix=/home/cpan/bin/perl -Dscriptdir=/home/cpan/bin/perl/bin -Dusedevel -Duse64bitall'
    hint=recommended
    useposix=true
    d_sigaction=define
    useithreads=undef
    usemultiplicity=undef
    use64bitint=define
    use64bitall=define
    uselongdouble=undef
    usemymalloc=n
    default_inc_excludes_dot=define
  Compiler:
    cc='cc'
    ccflags ='-fwrapv -fno-strict-aliasing -pipe -fstack-protector-strong -I/usr/pkg/include -D_FORTIFY_SOURCE=2'
    optimize='-O'
    cppflags='-fwrapv -fno-strict-aliasing -pipe -fstack-protector-strong -I/usr/pkg/include'
    ccversion=''
    gccversion='10.5.0'
    gccosandvers=''
    intsize=4
    longsize=8
    ptrsize=8
    doublesize=8
    byteorder=12345678
    doublekind=3
    d_longlong=define
    longlongsize=8
    d_longdbl=define
    longdblsize=16
    longdblkind=3
    ivtype='long'
    ivsize=8
    nvtype='double'
    nvsize=8
    Off_t='off_t'
    lseeksize=8
    alignbytes=8
    prototype=define
  Linker and Libraries:
    ld='cc'
    ldflags =' -Wl,-rpath,/usr/pkg/lib -Wl,-rpath,/usr/local/lib -fstack-protector-strong -L/usr/pkg/lib'
    libpth=/usr/lib /usr/pkg/lib /lib
    libs=-lpthread -lm -lcrypt -lutil -lc -lposix
    perllibs=-lpthread -lm -lcrypt -lutil -lc -lposix
    libc=/lib/libc.so
    so=so
    useshrplib=false
    libperl=libperl.a
    gnulibc_version=''
  Dynamic Linking:
    dlsrc=dl_dlopen.xs
    dlext=so
    d_dlsymun=undef
    ccdlflags='-Wl,-E '
    cccdlflags='-DPIC -fPIC '
    lddlflags='-shared  -L/usr/pkg/lib -fstack-protector-strong'


Characteristics of this binary (from libperl): 
  Compile-time options:
    HAS_LONG_DOUBLE
    HAS_STRTOLD
    HAS_TIMES
    PERLIO_LAYERS
    PERL_COPY_ON_WRITE
    PERL_DONT_CREATE_GVSV
    PERL_HASH_FUNC_SIPHASH13
    PERL_HASH_USE_SBOX32
    PERL_MALLOC_WRAP
    PERL_OP_PARENT
    PERL_PRESERVE_IVUV
    PERL_USE_DEVEL
    PERL_USE_SAFE_PUTENV
    USE_64_BIT_ALL
    USE_64_BIT_INT
    USE_LARGE_FILES
    USE_LOCALE
    USE_LOCALE_COLLATE
    USE_LOCALE_CTYPE
    USE_LOCALE_NUMERIC
    USE_LOCALE_TIME
    USE_PERLIO
    USE_PERL_ATOF
  Built under netbsd
  Compiled at May  6 2025 02:01:30
  %ENV:
    PERL5LIB=""
    PERL5OPT=""
    PERL5_CPANPLUS_IS_RUNNING="29030"
    PERL5_CPAN_IS_RUNNING="29030"
    PERL_MM_USE_DEFAULT="1"
    PERL_USE_UNSAFE_INC="1"
  @INC:
    /home/cpan/bin/perl/lib/site_perl/5.41.13/amd64-netbsd
    /home/cpan/bin/perl/lib/site_perl/5.41.13
    /home/cpan/bin/perl/lib/5.41.13/amd64-netbsd
    /home/cpan/bin/perl/lib/5.41.13
    .